Workbook

Sheet Tong_Hop_4_Nhom
A1: CÔNG TY CỔ PHẦN XÂY DỰNG HẠ TẦNG FECON
A3: BẢNG TỔNG HỢP QUỸ LƯƠNG 4 NHÓM THÁNG 08/2026
A5: STT | B5: Mã Nhóm | C5: Tên Nhóm Lương | D5: Số Nhân Sự | E5: Tổng Thu Nhập (Gross) | F5: BHXH (10.5%) | G5: Thuế TNCN | H5: THỰC LĨNH
A6: 1 | B6: VP | C6: KHỐI VĂN PHÒNG (VP) | D6: 54 | E6: 994273079 | F6: 44928450 | G6: 2807793 | H6: 947108736
A7: 2 | B7: CT | C7: KHỐI CÔNG TRƯỜNG (CT) | D7: 91 | E7: 1.7116513e+09 | F7: 65971500 | G7: 4736953 | H7: 1638902844
A8: 3 | B8: LM | C8: KHỐI LÁI MÁY (LM) | D8: 28 | E8: 551824999 | F8: 18649050 | G8: 3027064 | H8: 529968885
A9: 4 | B9: LDPT | C9: KHỐI LAO ĐỘNG PHỔ THÔNG (LDPT) | D9: 31 | E9: 498478460 | F9: 17942400 | G9: 2280545 | H9: 477985515
A10: TỔNG CỘNG TOÀN DOANH NGHIỆP: | D10: =SUM(D6:D9) | E10: =SUM(E6:E9) | F10: =SUM(F6:F9) | G10: =SUM(G6:G9) | H10: =SUM(H6:H9)

Sheet Cham_Cong_Hang_Ngay
A1: CÔNG TY CỔ PHẦN XÂY DỰNG HẠ TẦNG FECON
A3: BẢNG CHẤM CÔNG VÀ THEO DÕI GIỜ MÁY HÀNG NGÀY THÁNG 08/2026
A4: (Dữ liệu chấm công hàng ngày được link trực tiếp vào Bảng Tính Lương. Khi sửa ngày công hoặc giờ máy, tiền lương tự động nhảy số theo)
A6: STT | B6: Mã NV | C6: Họ và Tên | D6: Khối | E6: Chức vụ / Thiết bị | F6: 1 | G6: 2 | H6: 3 | I6: 4 | J6: 5 | K6: 6 | L6: 7 | M6: 8 | N6: 9 | O6: 10 | P6: 11 | Q6: 12 | R6: 13 | S6: 14 | T6: 15 | U6: 16 | V6: 17 | W6: 18 | X6: 19 | Y6: 20 | Z6: 21 | AA6: 22 | AB6: 23 | AC6: 24 | AD6: 25 | AE6: 26 | AF6: 27 | AG6: 28 | AH6: 29 | AI6: 30 | AJ6: 31 | AK6: Tổng Ngày Công | AL6: Tổng Giờ Máy | AM6: Giờ Chuẩn (<=208h) | AN6: Giờ Vượt (OT >208h) | AO6: Công Chủ Nhật | AP6: Công Ăn Ca | AQ6: Giờ OT Quy Đổi | AR6: Nghỉ Phép (P) | AS6: Ký Nhận
F7: T7 | G7: CN | H7: T2 | I7: T3 | J7: T4 | K7: T5 | L7: T6 | M7: T7 | N7: CN | O7: T2 | P7: T3 | Q7: T4 | R7: T5 | S7: T6 | T7: T7 | U7: CN | V7: T2 | W7: T3 | X7: T4 | Y7: T5 | Z7: T6 | AA7: T7 | AB7: CN | AC7: T2 | AD7: T3 | AE7: T4 | AF7: T5 | AG7: T6 | AH7: T7 | AI7: CN | AJ7: T2
A8: KHỐI VĂN PHÒNG (VP) - BẢNG CHẤM CÔNG CHI TIẾT
A9: 1 | B9: 10000920.FCIC | C9: Nguyễn Chí Công | D9: VP | E9: Phó Chủ tịch HĐQT | F9: X | G9: CN | H9: X | I9: X | J9: X | K9: X | L9: X | M9: X | N9: CN | O9: X | P9: X | Q9: X | R9: X | S9: X | T9: X | U9: CN | V9: X | W9: X | X9: X | Y9: X | Z9: X | AA9: X | AB9: CN | AC9: X | AD9: X | AE9: X | AF9: X | AG9: X | AH9: X | AI9: CN | AJ9: X | AK9: =COUNTIF(F9:AJ9,"X") + COUNTIF(F9:AJ9,"x") + COUNTIF(F9:AJ9,"1/2")*0.5 + COUNTIF(F9:AJ9,"0.5")*0.5 + COUNTIF(F9:AJ9,"P") | AL9: - | AM9: - | AN9: - | AO9: 0 | AP9: =AK9 | AQ9: 0 | AR9: =COUNTIF(F9:AJ9,"P") + COUNTIF(F9:AJ9,"p")
A10: 2 | B10: 10002720.FCIC | C10: Trịnh Quốc Tuấn | D10: VP | E10: Thành viên HĐQT | F10: X | G10: CN | H10: X | I10: X | J10: X | K10: X | L10: X | M10: X | N10: CN | O10: X | P10: X | Q10: X | R10: X | S10: X | T10: X | U10: CN | V10: X | W10: X | X10: X | Y10: X | Z10: X | AA10: X | AB10: CN | AC10: X | AD10: X | AE10: X | AF10: X | AG10: X | AH10: X | AI10: CN | AJ10: X | AK10: =COUNTIF(F10:AJ10,"X") + COUNTIF(F10:AJ10,"x") + COUNTIF(F10:AJ10,"1/2")*0.5 + COUNTIF(F10:AJ10,"0.5")*0.5 + COUNTIF(F10:AJ10,"P") | AL10: - | AM10: - | AN10: - | AO10: 0 | AP10: =AK10 | AQ10: 0 | AR10: =COUNTIF(F10:AJ10,"P") + COUNTIF(F10:AJ10,"p")
A11: 3 | B11: 10003397.FCIC | C11: Đỗ Mạnh Cường | D11: VP | E11: Chủ tịch HĐQT | F11: X | G11: CN | H11: X | I11: X | J11: X | K11: X | L11: X | M11: X | N11: CN | O11: X | P11: X | Q11: X | R11: X | S11: X | T11: X | U11: CN | V11: X | W11: X | X11: X | Y11: X | Z11: X | AA11: X | AB11: CN | AC11: X | AD11: X | AE11: X | AF11: X | AG11: X | AH11: X | AI11: CN | AJ11: X | AK11: =COUNTIF(F11:AJ11,"X") + COUNTIF(F11:AJ11,"x") + COUNTIF(F11:AJ11,"1/2")*0.5 + COUNTIF(F11:AJ11,"0.5")*0.5 + COUNTIF(F11:AJ11,"P") | AL11: - | AM11: - | AN11: - | AO11: 0 | AP11: =AK11 | AQ11: 0 | AR11: =COUNTIF(F11:AJ11,"P") + COUNTIF(F11:AJ11,"p")
A12: 4 | B12: 10004720.FCIC | C12: Nguyễn Thị Nhàn | D12: VP | E12: Trưởng Ban kiểm soát | F12: X | G12: CN | H12: X | I12: X | J12: X | K12: X | L12: X | M12: X | N12: CN | O12: X | P12: X | Q12: X | R12: X | S12: X | T12: X | U12: CN | V12: X | W12: X | X12: X | Y12: X | Z12: X | AA12: X | AB12: CN | AC12: X | AD12: X | AE12: X | AF12: X | AG12: X | AH12: X | AI12: CN | AJ12: X | AK12: =COUNTIF(F12:AJ12,"X") + COUNTIF(F12:AJ12,"x") + COUNTIF(F12:AJ12,"1/2")*0.5 + COUNTIF(F12:AJ12,"0.5")*0.5 + COUNTIF(F12:AJ12,"P") | AL12: - | AM12: - | AN12: - | AO12: 0 | AP12: =AK12 | AQ12: 0 | AR12: =COUNTIF(F12:AJ12,"P") + COUNTIF(F12:AJ12,"p")
A13: 5 | B13: 10005763.FCIC | C13: Nguyễn Thành Duy | D13: VP | E13: Thành viên Ban kiểm soát | F13: X | G13: CN | H13: X | I13: X | J13: X | K13: X | L13: X | M13: X | N13: CN | O13: X | P13: X | Q13: X | R13: X | S13: X | T13: X | U13: CN | V13: X | W13: X | X13: X | Y13: X | Z13: X | AA13: X | AB13: CN | AC13: X | AD13: X | AE13: X | AF13: X | AG13: X | AH13: X | AI13: CN | AJ13: X | AK13: =COUNTIF(F13:AJ13,"X") + COUNTIF(F13:AJ13,"x") + COUNTIF(F13:AJ13,"1/2")*0.5 + COUNTIF(F13:AJ13,"0.5")*0.5 + COUNTIF(F13:AJ13,"P") | AL13: - | AM13: - | AN13: - | AO13: 0 | AP13: =AK13 | AQ13: 0 | AR13: =COUNTIF(F13:AJ13,"P") + COUNTIF(F13:AJ13,"p")
A14: 6 | B14: 10006458.FCIC | C14: Phạm Thu Hoài | D14: VP | E14: Thành viên Ban kiểm soát | F14: X | G14: CN | H14: X | I14: X | J14: X | K14: X | L14: X | M14: X | N14: CN | O14: X | P14: X | Q14: X | R14: X | S14: X | T14: X | U14: CN | V14: X | W14: X | X14: X | Y14: X | Z14: X | AA14: X | AB14: CN | AC14: X | AD14: X | AE14: X | AF14: X | AG14: X | AH14: X | AI14: CN | AJ14: X | AK14: =COUNTIF(F14:AJ14,"X") + COUNTIF(F14:AJ14,"x") + COUNTIF(F14:AJ14,"1/2")*0.5 + COUNTIF(F14:AJ14,"0.5")*0.5 + COUNTIF(F14:AJ14,"P") | AL14: - | AM14: - | AN14: - | AO14: 0 | AP14: =AK14 | AQ14: 0 | AR14: =COUNTIF(F14:AJ14,"P") + COUNTIF(F14:AJ14,"p")
A15: 7 | B15: 10002265.FCIC | C15: Trần Văn Nguyện | D15: VP | E15: Phó Tổng Giám đốc | F15: X | G15: CN | H15: X | I15: X | J15: X | K15: X | L15: X | M15: X | N15: CN | O15: X | P15: X | Q15: X | R15: X | S15: X | T15: X | U15: CN | V15: X | W15: X | X15: X | Y15: X | Z15: X | AA15: X | AB15: CN | AC15: X | AD15: X | AE15: X | AF15: X | AG15: X | AH15: X | AI15: CN | AJ15: X | AK15: =COUNTIF(F15:AJ15,"X") + COUNTIF(F15:AJ15,"x") + COUNTIF(F15:AJ15,"1/2")*0.5 + COUNTIF(F15:AJ15,"0.5")*0.5 + COUNTIF(F15:AJ15,"P") | AL15: - | AM15: - | AN15: - | AO15: 0 | AP15: 21 | AQ15: 0 | AR15: =COUNTIF(F15:AJ15,"P") + COUNTIF(F15:AJ15,"p")
A16: 8 | B16: 10004030 | C16: Nguyễn Quang Tuyến | D16: VP | E16: Phó Tổng Giám đốc | F16: X | G16: CN | H16: X | I16: X | J16: X | K16: X | L16: X | M16: X | N16: CN | O16: X | P16: X | Q16: X | R16: X | S16: X | T16: X | U16: CN | V16: X | W16: X | X16: X | Y16: X | Z16: X | AA16: X | AB16: CN | AC16: X | AD16: X | AE16: X | AF16: X | AG16: X | AH16: X | AI16: CN | AJ16: P | AK16: =COUNTIF(F16:AJ16,"X") + COUNTIF(F16:AJ16,"x") + COUNTIF(F16:AJ16,"1/2")*0.5 + COUNTIF(F16:AJ16,"0.5")*0.5 + COUNTIF(F16:AJ16,"P") | AL16: - | AM16: - | AN16: - | AO16: 0 | AP16: 21 | AQ16: 0 | AR16: =COUNTIF(F16:AJ16,"P") + COUNTIF(F16:AJ16,"p")
A17: 9 | B17: 10005729.FCIC | C17: Trần Dương Khánh | D17: VP | E17: Phó Tổng Giám đốc | F17: X | G17: CN | H17: X | I17: X | J17: X | K17: X | L17: X | M17: X | N17: CN | O17: X | P17: X | Q17: X | R17: X | S17: X | T17: X | U17: CN | V17: X | W17: X | X17: X | Y17: X | Z17: X | AA17: X | AB17: CN | AC17: X | AD17: X | AE17: X | AF17: X | AG17: X | AH17: X | AI17: CN | AJ17: X | AK17: =COUNTIF(F17:AJ17,"X") + COUNTIF(F17:AJ17,"x") + COUNTIF(F17:AJ17,"1/2")*0.5 + COUNTIF(F17:AJ17,"0.5")*0.5 + COUNTIF(F17:AJ17,"P") | AL17: - | AM17: - | AN17: - | AO17: 0 | AP17: 21 | AQ17: 0 | AR17: =COUNTIF(F17:AJ17,"P") + COUNTIF(F17:AJ17,"p")
A18: 10 | B18: 10009200 | C18: Võ Huy Bình | D18: VP | E18: Tổng Giám đốc điều hành | F18: X | G18: CN | H18: X | I18: X | J18: X | K18: X | L18: X | M18: X | N18: CN | O18: X | P18: X | Q18: X | R18: X | S18: X | T18: X | U18: CN | V18: X | W18: X | X18: X | Y18: X | Z18: X | AA18: X | AB18: CN | AC18: X | AD18: X | AE18: X | AF18: X | AG18: X | AH18: X | AI18: CN | AJ18: X | AK18: =COUNTIF(F18:AJ18,"X") + COUNTIF(F18:AJ18,"x") + COUNTIF(F18:AJ18,"1/2")*0.5 + COUNTIF(F18:AJ18,"0.5")*0.5 + COUNTIF(F18:AJ18,"P") | AL18: - | AM18: - | AN18: - | AO18: 0 | AP18: 21 | AQ18: 0 | AR18: =COUNTIF(F18:AJ18,"P") + COUNTIF(F18:AJ18,"p")
A19: 11 | B19: 10011001.FCIC | C19: Lê Đức Thọ | D19: VP | E19: Phó Tổng Giám đốc | F19: X | G19: CN | H19: X | I19: X | J19: X | K19: X | L19: X | M19: X | N19: CN | O19: X | P19: X | Q19: X | R19: X | S19: X | T19: X | U19: CN | V19: X | W19: X | X19: X | Y19: X | Z19: X | AA19: X | AB19: CN | AC19: X | AD19: X | AE19: X | AF19: X | AG19: X | AH19: X | AI19: CN | AJ19: X | AK19: =COUNTIF(F19:AJ19,"X") + COUNTIF(F19:AJ19,"x") + COUNTIF(F19:AJ19,"1/2")*0.5 + COUNTIF(F19:AJ19,"0.5")*0.5 + COUNTIF(F19:AJ19,"P") | AL19: - | AM19: - | AN19: - | AO19: 0 | AP19: 22 | AQ19: 0 | AR19: =COUNTIF(F19:AJ19,"P") + COUNTIF(F19:AJ19,"p")
A20: 12 | B20: 10003680 | C20: Bùi Thị Liên | D20: VP | E20: Chuyên viên Kế toán | F20: X | G20: CN | H20: X | I20: X | J20: X | K20: X | L20: X | M20: X | N20: CN | O20: X | P20: X | Q20: X | R20: X | S20: X | T20: X | U20: CN | V20: X | W20: X | X20: X | Y20: X | Z20: X | AA20: X | AB20: CN | AC20: X | AD20: X | AE20: X | AF20: X | AG20: X | AH20: P | AI20: CN | AJ20: P | AK20: =COUNTIF(F20:AJ20,"X") + COUNTIF(F20:AJ20,"x") + COUNTIF(F20:AJ20,"1/2")*0.5 + COUNTIF(F20:AJ20,"0.5")*0.5 + COUNTIF(F20:AJ20,"P") | AL20: - | AM20: - | AN20: - | AO20: 0 | AP20: 20 | AQ20: 4.5 | AR20: =COUNTIF(F20:AJ20,"P") + COUNTIF(F20:AJ20,"p")
A21: 13 | B21: 10004026 | C21: Lê Thị Thùy Dương | D21: VP | E21: Trưởng phòng Tài chính Kế toán | F21: X | G21: CN | H21: X | I21: X | J21: X | K21: X | L21: X | M21: X | N21: CN | O21: X | P21: X | Q21: X | R21: X | S21: X | T21: X | U21: CN | V21: X | W21: X | X21: X | Y21: X | Z21: X | AA21: X | AB21: CN | AC21: X | AD21: X | AE21: X | AF21: X | AG21: X | AH21: X | AI21: CN | AJ21: X | AK21: =COUNTIF(F21:AJ21,"X") + COUNTIF(F21:AJ21,"x") + COUNTIF(F21:AJ21,"1/2")*0.5 + COUNTIF(F21:AJ21,"0.5")*0.5 + COUNTIF(F21:AJ21,"P") | AL21: - | AM21: - | AN21: - | AO21: 0 | AP21: 21 | AQ21: 0 | AR21: =COUNTIF(F21:AJ21,"P") + COUNTIF(F21:AJ21,"p")
A22: 14 | B22: 10005451 | C22: Thế Thị Trang | D22: VP | E22: Chuyên viên Kế toán | F22: X | G22: CN | H22: X | I22: X | J22: X | K22: X | L22: X | M22: X | N22: CN | O22: X | P22: X | Q22: X | R22: X | S22: X | T22: X | U22: CN | V22: X | W22: X | X22: X | Y22: X | Z22: X | AA22: X | AB22: CN | AC22: X | AD22: X | AE22: X | AF22: X | AG22: X | AH22: X | AI22: CN | AJ22: P | AK22: =COUNTIF(F22:AJ22,"X") + COUNTIF(F22:AJ22,"x") + COUNTIF(F22:AJ22,"1/2")*0.5 + COUNTIF(F22:AJ22,"0.5")*0.5 + COUNTIF(F22:AJ22,"P") | AL22: - | AM22: - | AN22: - | AO22: 0 | AP22: 21 | AQ22: 0 | AR22: =COUNTIF(F22:AJ22,"P") + COUNTIF(F22:AJ22,"p")
A23: 15 | B23: 10008554 | C23: Bùi Thị Thu Thủy | D23: VP | E23: Chuyên viên Kế toán | F23: X | G23: CN | H23: X | I23: X | J23: X | K23: X | L23: X | M23: X | N23: CN | O23: X | P23: X | Q23: X | R23: X | S23: X | T23: X | U23: CN | V23: X | W23: X | X23: X | Y23: X | Z23: X | AA23: X | AB23: CN | AC23: X | AD23: X | AE23: X | AF23: X | AG23: X | AH23: X | AI23: CN | AJ23: P | AK23: =COUNTIF(F23:AJ23,"X") + COUNTIF(F23:AJ23,"x") + COUNTIF(F23:AJ23,"1/2")*0.5 + COUNTIF(F23:AJ23,"0.5")*0.5 + COUNTIF(F23:AJ23,"P") | AL23: - | AM23: - | AN23: - | AO23: 0 | AP23: 20 | AQ23: 0 | AR23: =COUNTIF(F23:AJ23,"P") + COUNTIF(F23:AJ23,"p")
A24: 16 | B24: 10009041 | C24: Đỗ Thị Thảo | D24: VP | E24: Kế toán tổng hợp | F24: X | G24: CN | H24: X | I24: X | J24: X | K24: X | L24: X | M24: X | N24: CN | O24: X | P24: X | Q24: X | R24: X | S24: X | T24: X | U24: CN | V24: X | W24: X | X24: X | Y24: X | Z24: X | AA24: X | AB24: CN | AC24: X | AD24: X | AE24: X | AF24: X | AG24: X | AH24: X | AI24: CN | AJ24: P | AK24: =COUNTIF(F24:AJ24,"X") + COUNTIF(F24:AJ24,"x") + COUNTIF(F24:AJ24,"1/2")*0.5 + COUNTIF(F24:AJ24,"0.5")*0.5 + COUNTIF(F24:AJ24,"P") | AL24: - | AM24: - | AN24: - | AO24: 0 | AP24: 20 | AQ24: 0 | AR24: =COUNTIF(F24:AJ24,"P") + COUNTIF(F24:AJ24,"p")
A25: 17 | B25: 10012215 | C25: Nguyễn Thị Thắm | D25: VP | E25: Chuyên viên Kế toán | F25: X | G25: CN | H25: X | I25: X | J25: X | K25: X | L25: X | M25: X | N25: CN | O25: X | P25: X | Q25: X | R25: X | S25: X | T25: X | U25: CN | V25: X | W25: X | X25: X | Y25: X | Z25: X | AA25: X | AB25: CN | AC25: X | AD25: X | AE25: X | AF25: X | AG25: X | AH25: V | AI25: CN | AJ25: V | AK25: =COUNTIF(F25:AJ25,"X") + COUNTIF(F25:AJ25,"x") + COUNTIF(F25:AJ25,"1/2")*0.5 + COUNTIF(F25:AJ25,"0.5")*0.5 + COUNTIF(F25:AJ25,"P") | AL25: - | AM25: - | AN25: - | AO25: 0 | AP25: 18 | AQ25: 0 | AR25: =COUNTIF(F25:AJ25,"P") + COUNTIF(F25:AJ25,"p")
A26: 18 | B26: 10003676 | C26: Nguyễn Thị Kim Chi | D26: VP | E26: Trưởng phòng Hành chính Nhân sự | F26: X | G26: CN | H26: X | I26: X | J26: X | K26: X | L26: X | M26: X | N26: CN | O26: X | P26: X | Q26: X | R26: X | S26: X | T26: X | U26: CN | V26: X | W26: X | X26: X | Y26: X | Z26: X | AA26: X | AB26: CN | AC26: X | AD26: X | AE26: X | AF26: X | AG26: X | AH26: P | AI26: CN | AJ26: P | AK26: =COUNTIF(F26:AJ26,"X") + COUNTIF(F26:AJ26,"x") + COUNTIF(F26:AJ26,"1/2")*0.5 + COUNTIF(F26:AJ26,"0.5")*0.5 + COUNTIF(F26:AJ26,"P") | AL26: - | AM26: - | AN26: - | AO26: 0 | AP26: 20 | AQ26: 0 | AR26: =COUNTIF(F26:AJ26,"P") + COUNTIF(F26:AJ26,"p")
... A29: 21 | B29: 10004074 | C29: Vũ Thị Thu Lan | D29: VP | E29: Chuyên viên Nhân sự | F29: X | G29: CN | H29: X | I29: X | J29: X | K29: X | L29: X | M29: X | N29: CN | O29: X | P29: X | Q29: X | R29: X | S29: X | T29: X | U29: CN | V29: X | W29: X | X29: X | Y29: X | Z29: X | AA29: X | AB29: CN | AC29: X | AD29: X | AE29: X | AF29: X | AG29: P | AH29: P | AI29: CN | AJ29: P | AK29: =COUNTIF(F29:AJ29,"X") + COUNTIF(F29:AJ29,"x") + COUNTIF(F29:AJ29,"1/2")*0.5 + COUNTIF(F29:AJ29,"0.5")*0.5 + COUNTIF(F29:AJ29,"P") | AL29: - | AM29: - | AN29: - | AO29: 0 | AP29: 18 | AQ29: 0 | AR29: =COUNTIF(F29:AJ29,"P") + COUNTIF(F29:AJ29,"p")
A30: 22 | B30: 10004152 | C30: Nguyễn Thị Xuân | D30: VP | E30: Tạp vụ- CTV | F30: X | G30: CN | H30: X | I30: X | J30: X | K30: X | L30: X | M30: X | N30: CN | O30: X | P30: X | Q30: X | R30: X | S30: X | T30: X | U30: CN | V30: X | W30: X | X30: X | Y30: X | Z30: X | AA30: X | AB30: CN | AC30: X | AD30: X | AE30: X | AF30: X | AG30: X | AH30: X | AI30: CN | AJ30: X | AK30: =COUNTIF(F30:AJ30,"X") + COUNTIF(F30:AJ30,"x") + COUNTIF(F30:AJ30,"1/2")*0.5 + COUNTIF(F30:AJ30,"0.5")*0.5 + COUNTIF(F30:AJ30,"P") | AL30: - | AM30: - | AN30: - | AO30: 0 | AP30: =AK30 | AQ30: 0 | AR30: =COUNTIF(F30:AJ30,"P") + COUNTIF(F30:AJ30,"p")
A31: 23 | B31: 10004472 | C31: Phạm Thị Tuyết Mai | D31: VP | E31: Chuyên viên Nhân sự | F31: X | G31: CN | H31: X | I31: X | J31: X | K31: X | L31: X | M31: X | N31: CN | O31: X | P31: X | Q31: X | R31: X | S31: X | T31: X | U31: CN | V31: X | W31: X | X31: X | Y31: X | Z31: X | AA31: X | AB31: CN | AC31: X | AD31: X | AE31: X | AF31: X | AG31: X | AH31: P | AI31: CN | AJ31: P | AK31: =COUNTIF(F31:AJ31,"X") + COUNTIF(F31:AJ31,"x") + COUNTIF(F31:AJ31,"1/2")*0.5 + COUNTIF(F31:AJ31,"0.5")*0.5 + COUNTIF(F31:AJ31,"P") | AL31: - | AM31: - | AN31: - | AO31: 0 | AP31: 20 | AQ31: 0 | AR31: =COUNTIF(F31:AJ31,"P") + COUNTIF(F31:AJ31,"p")
A32: 24 | B32: 10011040 | C32: Nguyễn Kim Dũng | D32: VP | E32: Nhân viên Lái xe | F32: X | G32: CN | H32: X | I32: X | J32: X | K32: X | L32: X | M32: X | N32: CN | O32: X | P32: X | Q32: X | R32: X | S32: X | T32: X | U32: CN | V32: X | W32: X | X32: X | Y32: X | Z32: X | AA32: X | AB32: CN | AC32: X | AD32: X | AE32: X | AF32: X | AG32: X | AH32: X | AI32: CN | AJ32: P | AK32: =COUNTIF(F32:AJ32,"X") + COUNTIF(F32:AJ32,"x") + COUNTIF(F32:AJ32,"1/2")*0.5 + COUNTIF(F32:AJ32,"0.5")*0.5 + COUNTIF(F32:AJ32,"P") | AL32: - | AM32: - | AN32: - | AO32: 0 | AP32: 14 | AQ32: 0 | AR32: =COUNTIF(F32:AJ32,"P") + COUNTIF(F32:AJ32,"p")
A33: 25 | B33: 10012266 | C33: Trần Đặng Quỳnh Anh | D33: VP | E33: Nhân viên hành chính | F33: X | G33: CN | H33: X | I33: X | J33: X | K33: X | L33: X | M33: X | N33: CN | O33: X | P33: X | Q33: X | R33: X | S33: X | T33: X | U33: CN | V33: X | W33: X | X33: X | Y33: X | Z33: X | AA33: X | AB33: CN | AC33: X | AD33: X | AE33: X | AF33: X | AG33: X | AH33: X | AI33: CN | AJ33: X | AK33: =COUNTIF(F33:AJ33,"X") + COUNTIF(F33:AJ33,"x") + COUNTIF(F33:AJ33,"1/2")*0.5 + COUNTIF(F33:AJ33,"0.5")*0.5 + COUNTIF(F33:AJ33,"P") | AL33: - | AM33: - | AN33: - | AO33: 0 | AP33: 22 | AQ33: 0 | AR33: =COUNTIF(F33:AJ33,"P") + COUNTIF(F33:AJ33,"p")
A34: 26 | B34: 10003666 | C34: Lê Đức Hùng | D34: VP | E34: Chuyên viên Kinh tế Đấu thầu | F34: X | G34: X | H34: X | I34: X | J34: X | K34: X | L34: X | M34: X | N34: CN | O34: X | P34: X | Q34: X | R34: X | S34: X | T34: X | U34: CN | V34: X | W34: X | X34: X | Y34: X | Z34: X | AA34: X | AB34: CN | AC34: X | AD34: X | AE34: X | AF34: X | AG34: X | AH34: X | AI34: CN | AJ34: P | AK34: =COUNTIF(F34:AJ34,"X") + COUNTIF(F34:AJ34,"x") + COUNTIF(F34:AJ34,"1/2")*0.5 + COUNTIF(F34:AJ34,"0.5")*0.5 + COUNTIF(F34:AJ34,"P") | AL34: - | AM34: - | AN34: - | AO34: 1 | AP34: 22 | AQ34: 0 | AR34: =COUNTIF(F34:AJ34,"P") + COUNTIF(F34:AJ34,"p")
A35: 27 | B35: 10003667 | C35: Trương Đức Cường | D35: VP | E35: Trưởng nhóm đấu thầu | F35: X | G35: CN | H35: X | I35: X | J35: X | K35: X | L35: X | M35: X | N35: CN | O35: X | P35: X | Q35: X | R35: X | S35: X | T35: X | U35: CN | V35: X | W35: X | X35: X | Y35: X | Z35: X | AA35: X | AB35: CN | AC35: X | AD35: X | AE35: X | AF35: X | AG35: X | AH35: X | AI35: CN | AJ35: X | AK35: =COUNTIF(F35:AJ35,"X") + COUNTIF(F35:AJ35,"x") + COUNTIF(F35:AJ35,"1/2")*0.5 + COUNTIF(F35:AJ35,"0.5")*0.5 + COUNTIF(F35:AJ35,"P") | AL35: - | AM35: - | AN35: - | AO35: 0 | AP35: 21 | AQ35: 0 | AR35: =COUNTIF(F35:AJ35,"P") + COUNTIF(F35:AJ35,"p")
A36: 28 | B36: 10003668 | C36: Bùi Thị Hoa | D36: VP | E36: Chuyên viên Kinh tế Đấu thầu | F36: X | G36: CN | H36: X | I36: X | J36: X | K36: X | L36: X | M36: X | N36: CN | O36: X | P36: X | Q36: X | R36: X | S36: X | T36: X | U36: CN | V36: X | W36: X | X36: X | Y36: X | Z36: X | AA36: X | AB36: CN | AC36: X | AD36: X | AE36: X | AF36: X | AG36: P | AH36: P | AI36: CN | AJ36: P | AK36: =COUNTIF(F36:AJ36,"X") + COUNTIF(F36:AJ36,"x") + COUNTIF(F36:AJ36,"1/2")*0.5 + COUNTIF(F36:AJ36,"0.5")*0.5 + COUNTIF(F36:AJ36,"P") | AL36: - | AM36: - | AN36: - | AO36: 0 | AP36: 19 | AQ36: 0 | AR36: =COUNTIF(F36:AJ36,"P") + COUNTIF(F36:AJ36,"p")
A37: 29 | B37: 10003733.FCIC | C37: Nguyễn Hồng Thái | D37: VP | E37: Chuyên viên Kinh tế Đấu thầu | F37: X | G37: CN | H37: X | I37: X | J37: X | K37: X | L37: X | M37: X | N37: CN | O37: X | P37: X | Q37: X | R37: X | S37: X | T37: X | U37: CN | V37: X | W37: X | X37: X | Y37: X | Z37: X | AA37: X | AB37: CN | AC37: X | AD37: X | AE37: X | AF37: X | AG37: X | AH37: P | AI37: CN | AJ37: P | AK37: =COUNTIF(F37:AJ37,"X") + COUNTIF(F37:AJ37,"x") + COUNTIF(F37:AJ37,"1/2")*0.5 + COUNTIF(F37:AJ37,"0.5")*0.5 + COUNTIF(F37:AJ37,"P") | AL37: - | AM37: - | AN37: - | AO37: 0 | AP37: 19 | AQ37: 0 | AR37: =COUNTIF(F37:AJ37,"P") + COUNTIF(F37:AJ37,"p")
A38: 30 | B38: 10004047 | C38: Đặng Văn Thanh | D38: VP | E38: Chuyên viên Kinh tế Đấu thầu | F38: X | G38: CN | H38: X | I38: X | J38: X | K38: X | L38: X | M38: X | N38: CN | O38: X | P38: X | Q38: X | R38: X | S38: X | T38: X | U38: CN | V38: X | W38: X | X38: X | Y38: X | Z38: X | AA38: X | AB38: CN | AC38: X | AD38: X | AE38: X | AF38: X | AG38: X | AH38: X | AI38: CN | AJ38: P | AK38: =COUNTIF(F38:AJ38,"X") + COUNTIF(F38:AJ38,"x") + COUNTIF(F38:AJ38,"1/2")*0.5 + COUNTIF(F38:AJ38,"0.5")*0.5 + COUNTIF(F38:AJ38,"P") | AL38: - | AM38: - | AN38: - | AO38: 0 | AP38: 19 | AQ38: 0 | AR38: =COUNTIF(F38:AJ38,"P") + COUNTIF(F38:AJ38,"p")
A39: 31 | B39: 10006982 | C39: Phạm Văn Tuấn | D39: VP | E39: Chuyên viên Kinh tế Đấu thầu | F39: X | G39: CN | H39: X | I39: X | J39: X | K39: X | L39: X | M39: X | N39: CN | O39: X | P39: X | Q39: X | R39: X | S39: X | T39: X | U39: CN | V39: X | W39: X | X39: X | Y39: X | Z39: X | AA39: X | AB39: CN | AC39: X | AD39: X | AE39: X | AF39: X | AG39: X | AH39: X | AI39: CN | AJ39: P | AK39: =COUNTIF(F39:AJ39,"X") + COUNTIF(F39:AJ39,"x") + COUNTIF(F39:AJ39,"1/2")*0.5 + COUNTIF(F39:AJ39,"0.5")*0.5 + COUNTIF(F39:AJ39,"P") | AL39: - | AM39: - | AN39: - | AO39: 0 | AP39: 20 | AQ39: 0 | AR39: =COUNTIF(F39:AJ39,"P") + COUNTIF(F39:AJ39,"p")
A40: 32 | B40: 10008167 | C40: Phạm Quang Bình | D40: VP | E40: Trưởng phòng Kinh tế Đấu thầu | F40: X | G40: CN | H40: X | I40: X | J40: X | K40: X | L40: X | M40: X | N40: CN | O40: X | P40: X | Q40: X | R40: X | S40: X | T40: X | U40: CN | V40: X | W40: X | X40: X | Y40: X | Z40: X | AA40: X | AB40: CN | AC40: X | AD40: V | AE40: V | AF40: V | AG40: P | AH40: P | AI40: CN | AJ40: P | AK40: =COUNTIF(F40:AJ40,"X") + COUNTIF(F40:AJ40,"x") + COUNTIF(F40:AJ40,"1/2")*0.5 + COUNTIF(F40:AJ40,"0.5")*0.5 + COUNTIF(F40:AJ40,"P") | AL40: - | AM40: - | AN40: - | AO40: 0 | AP40: 16 | AQ40: 0 | AR40: =COUNTIF(F40:AJ40,"P") + COUNTIF(F40:AJ40,"p")
A41: 33 | B41: 10012767 | C41: Ngô Minh Châu | D41: VP | E41: Chuyên viên Kinh tế Đấu thầu | F41: X | G41: CN | H41: X | I41: X | J41: X | K41: X | L41: X | M41: X | N41: CN | O41: X | P41: X | Q41: X | R41: X | S41: X | T41: X | U41: CN | V41: X | W41: X | X41: X | Y41: X | Z41: X | AA41: X | AB41: CN | AC41: X | AD41: X | AE41: X | AF41: X | AG41: X | AH41: X | AI41: CN | AJ41: X | AK41: =COUNTIF(F41:AJ41,"X") + COUNTIF(F41:AJ41,"x") + COUNTIF(F41:AJ41,"1/2")*0.5 + COUNTIF(F41:AJ41,"0.5")*0.5 + COUNTIF(F41:AJ41,"P") | AL41: - | AM41: - | AN41: - | AO41: 0 | AP41: 10 | AQ41: 0 | AR41: =COUNTIF(F41:AJ41,"P") + COUNTIF(F41:AJ41,"p")
A42: 34 | B42: 10000132.FCIC | C42: Vũ Văn Tuấn | D42: VP | E42: Phó phòng Kỹ thuật | F42: X | G42: CN | H42: X | I42: X | J42: X | K42: X | L42: X | M42: X | N42: CN | O42: X | P42: X | Q42: X | R42: X | S42: X | T42: X | U42: CN | V42: X | W42: X | X42: X | Y42: X | Z42: X | AA42: X | AB42: CN | AC42: X | AD42: X | AE42: X | AF42: X | AG42: X | AH42: X | AI42: CN | AJ42: X | AK42: =COUNTIF(F42:AJ42,"X") + COUNTIF(F42:AJ42,"x") + COUNTIF(F42:AJ42,"1/2")*0.5 + COUNTIF(F42:AJ42,"0.5")*0.5 + COUNTIF(F42:AJ42,"P") | AL42: - | AM42: - | AN42: - | AO42: 0 | AP42: 22 | AQ42: 0 | AR42: =COUNTIF(F42:AJ42,"P") + COUNTIF(F42:AJ42,"p")
... A49: 41 | B49: 10012663 | C49: Nguyễn Lâm Thanh | D49: VP | E49: Chuyên viên Kỹ thuật | F49: X | G49: CN | H49: X | I49: X | J49: X | K49: X | L49: X | M49: X | N49: CN | O49: X | P49: X | Q49: X | R49: X | S49: X | T49: X | U49: CN | V49: X | W49: X | X49: X | Y49: X | Z49: X | AA49: X | AB49: CN | AC49: X | AD49: X | AE49: X | AF49: X | AG49: X | AH49: X | AI49: CN | AJ49: V | AK49: =COUNTIF(F49:AJ49,"X") + COUNTIF(F49:AJ49,"x") + COUNTIF(F49:AJ49,"1/2")*0.5 + COUNTIF(F49:AJ49,"0.5")*0.5 + COUNTIF(F49:AJ49,"P") | AL49: - | AM49: - | AN49: - | AO49: 0 | AP49: 20 | AQ49: 0 | AR49: =COUNTIF(F49:AJ49,"P") + COUNTIF(F49:AJ49,"p")
A50: 42 | B50: 10012769 | C50: Nguyễn Quang Minh | D50: VP | E50: Học việc | F50: X | G50: CN | H50: X | I50: X | J50: X | K50: X | L50: X | M50: X | N50: CN | O50: X | P50: X | Q50: X | R50: X | S50: X | T50: X | U50: CN | V50: X | W50: X | X50: X | Y50: X | Z50: X | AA50: X | AB50: CN | AC50: X | AD50: V | AE50: V | AF50: V | AG50: V | AH50: V | AI50: CN | AJ50: V | AK50: =COUNTIF(F50:AJ50,"X") + COUNTIF(F50:AJ50,"x") + COUNTIF(F50:AJ50,"1/2")*0.5 + COUNTIF(F50:AJ50,"0.5")*0.5 + COUNTIF(F50:AJ50,"P") | AL50: - | AM50: - | AN50: - | AO50: 0 | AP50: =AK50 | AQ50: 0 | AR50: =COUNTIF(F50:AJ50,"P") + COUNTIF(F50:AJ50,"p")
A51: 43 | B51: 10003692 | C51: Trần Văn Nam | D51: VP | E51: Trưởng phòng Cung ứng | F51: X | G51: CN | H51: X | I51: X | J51: X | K51: X | L51: X | M51: X | N51: CN | O51: X | P51: X | Q51: X | R51: X | S51: X | T51: X | U51: CN | V51: X | W51: X | X51: X | Y51: X | Z51: X | AA51: X | AB51: CN | AC51: X | AD51: X | AE51: X | AF51: P | AG51: P | AH51: P | AI51: CN | AJ51: P | AK51: =COUNTIF(F51:AJ51,"X") + COUNTIF(F51:AJ51,"x") + COUNTIF(F51:AJ51,"1/2")*0.5 + COUNTIF(F51:AJ51,"0.5")*0.5 + COUNTIF(F51:AJ51,"P") | AL51: - | AM51: - | AN51: - | AO51: 0 | AP51: 18 | AQ51: 0 | AR51: =COUNTIF(F51:AJ51,"P") + COUNTIF(F51:AJ51,"p")
A52: 44 | B52: 10004046 | C52: Lê Quốc Việt | D52: VP | E52: Chuyên viên Cung ứng | F52: X | G52: CN | H52: X | I52: X | J52: X | K52: X | L52: X | M52: X | N52: CN | O52: X | P52: X | Q52: X | R52: X | S52: X | T52: X | U52: CN | V52: X | W52: X | X52: X | Y52: X | Z52: X | AA52: X | AB52: CN | AC52: X | AD52: X | AE52: X | AF52: X | AG52: X | AH52: P | AI52: CN | AJ52: P | AK52: =COUNTIF(F52:AJ52,"X") + COUNTIF(F52:AJ52,"x") + COUNTIF(F52:AJ52,"1/2")*0.5 + COUNTIF(F52:AJ52,"0.5")*0.5 + COUNTIF(F52:AJ52,"P") | AL52: - | AM52: - | AN52: - | AO52: 0 | AP52: 21 | AQ52: 0 | AR52: =COUNTIF(F52:AJ52,"P") + COUNTIF(F52:AJ52,"p")
A53: 45 | B53: 10005008 | C53: Vũ Ngọc Tú | D53: VP | E53: Phó phòng Cung ứng | F53: X | G53: CN | H53: X | I53: X | J53: X | K53: X | L53: X | M53: X | N53: CN | O53: X | P53: X | Q53: X | R53: X | S53: X | T53: X | U53: CN | V53: X | W53: X | X53: X | Y53: X | Z53: X | AA53: X | AB53: CN | AC53: X | AD53: X | AE53: X | AF53: X | AG53: X | AH53: P | AI53: CN | AJ53: P | AK53: =COUNTIF(F53:AJ53,"X") + COUNTIF(F53:AJ53,"x") + COUNTIF(F53:AJ53,"1/2")*0.5 + COUNTIF(F53:AJ53,"0.5")*0.5 + COUNTIF(F53:AJ53,"P") | AL53: - | AM53: - | AN53: - | AO53: 0 | AP53: 20 | AQ53: 0 | AR53: =COUNTIF(F53:AJ53,"P") + COUNTIF(F53:AJ53,"p")
A54: 46 | B54: 10005233 | C54: Đỗ Dương Cảnh | D54: VP | E54: Chuyên viên Cung ứng | F54: X | G54: CN | H54: X | I54: X | J54: X | K54: X | L54: X | M54: X | N54: CN | O54: X | P54: X | Q54: X | R54: X | S54: X | T54: X | U54: CN | V54: X | W54: X | X54: X | Y54: X | Z54: X | AA54: X | AB54: CN | AC54: X | AD54: X | AE54: X | AF54: X | AG54: X | AH54: X | AI54: CN | AJ54: X | AK54: =COUNTIF(F54:AJ54,"X") + COUNTIF(F54:AJ54,"x") + COUNTIF(F54:AJ54,"1/2")*0.5 + COUNTIF(F54:AJ54,"0.5")*0.5 + COUNTIF(F54:AJ54,"P") | AL54: - | AM54: - | AN54: - | AO54: 0 | AP54: 21 | AQ54: 0 | AR54: =COUNTIF(F54:AJ54,"P") + COUNTIF(F54:AJ54,"p")
A55: 47 | B55: 10011469 | C55: Nguyễn Xuân Anh | D55: VP | E55: Chuyên viên Cung ứng | F55: X | G55: CN | H55: X | I55: X | J55: X | K55: X | L55: X | M55: X | N55: CN | O55: X | P55: X | Q55: X | R55: X | S55: X | T55: X | U55: CN | V55: X | W55: X | X55: X | Y55: X | Z55: X | AA55: X | AB55: CN | AC55: X | AD55: X | AE55: X | AF55: X | AG55: X | AH55: X | AI55: CN | AJ55: X | AK55: =COUNTIF(F55:AJ55,"X") + COUNTIF(F55:AJ55,"x") + COUNTIF(F55:AJ55,"1/2")*0.5 + COUNTIF(F55:AJ55,"0.5")*0.5 + COUNTIF(F55:AJ55,"P") | AL55: - | AM55: - | AN55: - | AO55: 0 | AP55: 21 | AQ55: 0 | AR55: =COUNTIF(F55:AJ55,"P") + COUNTIF(F55:AJ55,"p")
A56: 48 | B56: 10011643 | C56: Phạm Kim Dung | D56: VP | E56: Chuyên viên Cung ứng | F56: X | G56: CN | H56: X | I56: X | J56: X | K56: X | L56: X | M56: X | N56: CN | O56: X | P56: X | Q56: X | R56: X | S56: X | T56: X | U56: CN | V56: X | W56: X | X56: X | Y56: X | Z56: X | AA56: X | AB56: CN | AC56: X | AD56: X | AE56: X | AF56: X | AG56: X | AH56: X | AI56: CN | AJ56: P | AK56: =COUNTIF(F56:AJ56,"X") + COUNTIF(F56:AJ56,"x") + COUNTIF(F56:AJ56,"1/2")*0.5 + COUNTIF(F56:AJ56,"0.5")*0.5 + COUNTIF(F56:AJ56,"P") | AL56: - | AM56: - | AN56: - | AO56: 0 | AP56: 20 | AQ56: 0 | AR56: =COUNTIF(F56:AJ56,"P") + COUNTIF(F56:AJ56,"p")
A57: 49 | B57: 10012692 | C57: Phùng Thanh Lộc | D57: VP | E57: Chuyên viên Cung ứng | F57: X | G57: CN | H57: X | I57: X | J57: X | K57: X | L57: X | M57: X | N57: CN | O57: X | P57: X | Q57: X | R57: X | S57: X | T57: X | U57: CN | V57: X | W57: X | X57: X | Y57: X | Z57: X | AA57: X | AB57: CN | AC57: X | AD57: V | AE57: V | AF57: V | AG57: V | AH57: V | AI57: CN | AJ57: V | AK57: =COUNTIF(F57:AJ57,"X") + COUNTIF(F57:AJ57,"x") + COUNTIF(F57:AJ57,"1/2")*0.5 + COUNTIF(F57:AJ57,"0.5")*0.5 + COUNTIF(F57:AJ57,"P") | AL57: - | AM57: - | AN57: - | AO57: 0 | AP57: =AK57 | AQ57: 0 | AR57: =COUNTIF(F57:AJ57,"P") + COUNTIF(F57:AJ57,"p")
A58: 50 | B58: 10004070 | C58: Hà Văn Thân | D58: VP | E58: Phó phòng Quản lý thiết bị | F58: X | G58: CN | H58: X | I58: X | J58: X | K58: X | L58: X | M58: X | N58: CN | O58: X | P58: X | Q58: X | R58: X | S58: X | T58: X | U58: CN | V58: X | W58: X | X58: X | Y58: X | Z58: X | AA58: X | AB58: CN | AC58: X | AD58: X | AE58: X | AF58: X | AG58: X | AH58: X | AI58: CN | AJ58: P | AK58: =COUNTIF(F58:AJ58,"X") + COUNTIF(F58:AJ58,"x") + COUNTIF(F58:AJ58,"1/2")*0.5 + COUNTIF(F58:AJ58,"0.5")*0.5 + COUNTIF(F58:AJ58,"P") | AL58: - | AM58: - | AN58: - | AO58: 0 | AP58: 20 | AQ58: 0 | AR58: =COUNTIF(F58:AJ58,"P") + COUNTIF(F58:AJ58,"p")
A59: 51 | B59: 10008674.FCIC | C59: Nguyễn Thùy Dương | D59: VP | E59: Thư ký P.QLTB | F59: X | G59: CN | H59: X | I59: X | J59: X | K59: X | L59: X | M59: X | N59: CN | O59: X | P59: X | Q59: X | R59: X | S59: X | T59: X | U59: CN | V59: X | W59: X | X59: X | Y59: X | Z59: X | AA59: X | AB59: CN | AC59: X | AD59: X | AE59: X | AF59: X | AG59: X | AH59: P | AI59: CN | AJ59: P | AK59: =COUNTIF(F59:AJ59,"X") + COUNTIF(F59:AJ59,"x") + COUNTIF(F59:AJ59,"1/2")*0.5 + COUNTIF(F59:AJ59,"0.5")*0.5 + COUNTIF(F59:AJ59,"P") | AL59: - | AM59: - | AN59: - | AO59: 0 | AP59: 18 | AQ59: 0 | AR59: =COUNTIF(F59:AJ59,"P") + COUNTIF(F59:AJ59,"p")
A60: 52 | B60: 10003418.FCIC | C60: Nguyễn Thị Tuyết Mai | D60: VP | E60: Thư ký P.QLTC | F60: X | G60: CN | H60: X | I60: X | J60: X | K60: X | L60: X | M60: X | N60: CN | O60: X | P60: X | Q60: X | R60: X | S60: X | T60: X | U60: CN | V60: X | W60: X | X60: X | Y60: X | Z60: X | AA60: X | AB60: CN | AC60: X | AD60: X | AE60: X | AF60: X | AG60: P | AH60: P | AI60: CN | AJ60: P | AK60: =COUNTIF(F60:AJ60,"X") + COUNTIF(F60:AJ60,"x") + COUNTIF(F60:AJ60,"1/2")*0.5 + COUNTIF(F60:AJ60,"0.5")*0.5 + COUNTIF(F60:AJ60,"P") | AL60: - | AM60: - | AN60: - | AO60: 0 | AP60: 18 | AQ60: 0 | AR60: =COUNTIF(F60:AJ60,"P") + COUNTIF(F60:AJ60,"p")
A61: 53 | B61: 10004073 | C61: Phạm Thị Hồng | D61: VP | E61: Thư ký P.QLTC | F61: X | G61: CN | H61: X | I61: X | J61: X | K61: X | L61: X | M61: X | N61: CN | O61: X | P61: X | Q61: X | R61: X | S61: X | T61: X | U61: CN | V61: X | W61: X | X61: X | Y61: X | Z61: X | AA61: X | AB61: CN | AC61: X | AD61: X | AE61: X | AF61: X | AG61: X | AH61: P | AI61: CN | AJ61: P | AK61: =COUNTIF(F61:AJ61,"X") + COUNTIF(F61:AJ61,"x") + COUNTIF(F61:AJ61,"1/2")*0.5 + COUNTIF(F61:AJ61,"0.5")*0.5 + COUNTIF(F61:AJ61,"P") | AL61: - | AM61: - | AN61: - | AO61: 0 | AP61: 19 | AQ61: 0 | AR61: =COUNTIF(F61:AJ61,"P") + COUNTIF(F61:AJ61,"p")
A62: 54 | B62: 10004795 | C62: Trần Khánh Vân | D62: VP | E62: Thư ký P.QLTC | F62: X | G62: CN | H62: X | I62: X | J62: X | K62: X | L62: X | M62: X | N62: CN | O62: X | P62: X | Q62: X | R62: X | S62: X | T62: X | U62: CN | V62: X | W62: X | X62: X | Y62: X | Z62: X | AA62: X | AB62: CN | AC62: X | AD62: X | AE62: X | AF62: X | AG62: X | AH62: X | AI62: CN | AJ62: X | AK62: =COUNTIF(F62:AJ62,"X") + COUNTIF(F62:AJ62,"x") + COUNTIF(F62:AJ62,"1/2")*0.5 + COUNTIF(F62:AJ62,"0.5")*0.5 + COUNTIF(F62:AJ62,"P") | AL62: - | AM62: - | AN62: - | AO62: 0 | AP62: 21 | AQ62: 0 | AR62: =COUNTIF(F62:AJ62,"P") + COUNTIF(F62:AJ62,"p")
A63: KHỐI CÔNG TRƯỜNG (CT) - BẢNG CHẤM CÔNG CHI TIẾT
A64: 55 | B64: 10004055 | C64: Thạch Thương | D64: CT | E64: Bảo vệ | F64: X | G64: X | H64: X | I64: X | J64: X | K64: X | L64: X | M64: X | N64: X | O64: X | P64: X | Q64: X | R64: X | S64: X | T64: X | U64: X | V64: X | W64: X | X64: X | Y64: X | Z64: X | AA64: X | AB64: X | AC64: X | AD64: X | AE64: X | AF64: X | AG64: X | AH64: X | AI64: X | AJ64: X | AK64: =COUNTIF(F64:AJ64,"X") + COUNTIF(F64:AJ64,"x") + COUNTIF(F64:AJ64,"1/2")*0.5 + COUNTIF(F64:AJ64,"0.5")*0.5 + COUNTIF(F64:AJ64,"P") | AL64: - | AM64: - | AN64: - | AO64: 5 | AP64: 31 | AQ64: 0 | AR64: =COUNTIF(F64:AJ64,"P") + COUNTIF(F64:AJ64,"p")
A65: 56 | B65: 10004115.FCIC | C65: Nguyễn Chí Công | D65: CT | E65: Chuyên viên Quản lý thiết bị | F65: X | G65: X | H65: X | I65: X | J65: X | K65: X | L65: X | M65: X | N65: X | O65: X | P65: X | Q65: X | R65: X | S65: X | T65: X | U65: X | V65: X | W65: X | X65: X | Y65: X | Z65: X | AA65: X | AB65: CN | AC65: X | AD65: X | AE65: X | AF65: X | AG65: X | AH65: X | AI65: CN | AJ65: P | AK65: =COUNTIF(F65:AJ65,"X") + COUNTIF(F65:AJ65,"x") + COUNTIF(F65:AJ65,"1/2")*0.5 + COUNTIF(F65:AJ65,"0.5")*0.5 + COUNTIF(F65:AJ65,"P") | AL65: - | AM65: - | AN65: - | AO65: 3 | AP65: 28 | AQ65: 0 | AR65: =COUNTIF(F65:AJ65,"P") + COUNTIF(F65:AJ65,"p")
A66: 57 | B66: 10004773.FCIC | C66: Trần Văn Hải | D66: CT | E66: CTV-thủ kho | F66: X | G66: CN | H66: X | I66: X | J66: X | K66: X | L66: X | M66: X | N66: CN | O66: X | P66: X | Q66: X | R66: X | S66: X | T66: X | U66: CN | V66: X | W66: X | X66: X | Y66: X | Z66: X | AA66: X | AB66: CN | AC66: X | AD66: X | AE66: X | AF66: X | AG66: X | AH66: X | AI66: CN | AJ66: X | AK66: =COUNTIF(F66:AJ66,"X") + COUNTIF(F66:AJ66,"x") + COUNTIF(F66:AJ66,"1/2")*0.5 + COUNTIF(F66:AJ66,"0.5")*0.5 + COUNTIF(F66:AJ66,"P") | AL66: - | AM66: - | AN66: - | AO66: 0 | AP66: =AK66 | AQ66: 0 | AR66: =COUNTIF(F66:AJ66,"P") + COUNTIF(F66:AJ66,"p")
A67: 58 | B67: 10005461 | C67: Cao Văn Long | D67: CT | E67: Thợ sửa chữa | F67: X | G67: X | H67: X | I67: X | J67: X | K67: X | L67: X | M67: X | N67: X | O67: X | P67: X | Q67: X | R67: X | S67: X | T67: X | U67: X | V67: X | W67: X | X67: X | Y67: X | Z67: X | AA67: X | AB67: X | AC67: X | AD67: X | AE67: X | AF67: X | AG67: X | AH67: X | AI67: X | AJ67: X | AK67: =COUNTIF(F67:AJ67,"X") + COUNTIF(F67:AJ67,"x") + COUNTIF(F67:AJ67,"1/2")*0.5 + COUNTIF(F67:AJ67,"0.5")*0.5 + COUNTIF(F67:AJ67,"P") | AL67: - | AM67: - | AN67: - | AO67: 5 | AP67: 31 | AQ67: 0 | AR67: =COUNTIF(F67:AJ67,"P") + COUNTIF(F67:AJ67,"p")
A68: 59 | B68: 10005462 | C68: Tiết Minh Toàn | D68: CT | E68: Thợ sửa chữa | F68: X | G68: X | H68: X | I68: X | J68: X | K68: X | L68: X | M68: X | N68: X | O68: X | P68: X | Q68: X | R68: X | S68: X | T68: X | U68: X | V68: X | W68: X | X68: X | Y68: X | Z68: X | AA68: X | AB68: X | AC68: X | AD68: X | AE68: X | AF68: X | AG68: X | AH68: X | AI68: X | AJ68: X | AK68: =COUNTIF(F68:AJ68,"X") + COUNTIF(F68:AJ68,"x") + COUNTIF(F68:AJ68,"1/2")*0.5 + COUNTIF(F68:AJ68,"0.5")*0.5 + COUNTIF(F68:AJ68,"P") | AL68: - | AM68: - | AN68: - | AO68: 5 | AP68: 31 | AQ68: 0 | AR68: =COUNTIF(F68:AJ68,"P") + COUNTIF(F68:AJ68,"p")
A69: 60 | B69: 10008723.FCIC | C69: Nguyễn Văn Nhương | D69: CT | E69: Thợ sửa chữa | F69: X | G69: X | H69: X | I69: X | J69: X | K69: X | L69: X | M69: X | N69: X | O69: X | P69: X | Q69: X | R69: X | S69: X | T69: X | U69: X | V69: X | W69: X | X69: X | Y69: X | Z69: X | AA69: X | AB69: X | AC69: X | AD69: X | AE69: X | AF69: X | AG69: X | AH69: X | AI69: X | AJ69: X | AK69: =COUNTIF(F69:AJ69,"X") + COUNTIF(F69:AJ69,"x") + COUNTIF(F69:AJ69,"1/2")*0.5 + COUNTIF(F69:AJ69,"0.5")*0.5 + COUNTIF(F69:AJ69,"P") | AL69: - | AM69: - | AN69: - | AO69: 5 | AP69: 31 | AQ69: 0 | AR69: =COUNTIF(F69:AJ69,"P") + COUNTIF(F69:AJ69,"p")
A70: 61 | B70: 10002528.FCIC | C70: Lê Đình Xuyên | D70: CT | E70: Nhân viên Vật tư | F70: X | G70: X | H70: X | I70: X | J70: X | K70: X | L70: X | M70: X | N70: X | O70: X | P70: X | Q70: X | R70: X | S70: X | T70: X | U70: X | V70: X | W70: X | X70: X | Y70: X | Z70: X | AA70: X | AB70: X | AC70: X | AD70: X | AE70: X | AF70: X | AG70: X | AH70: X | AI70: X | AJ70: P | AK70: =COUNTIF(F70:AJ70,"X") + COUNTIF(F70:AJ70,"x") + COUNTIF(F70:AJ70,"1/2")*0.5 + COUNTIF(F70:AJ70,"0.5")*0.5 + COUNTIF(F70:AJ70,"P") | AL70: - | AM70: - | AN70: - | AO70: 5 | AP70: 30 | AQ70: 0 | AR70: =COUNTIF(F70:AJ70,"P") + COUNTIF(F70:AJ70,"p")
A71: 62 | B71: 10003327.FCIC | C71: Nguyễn Đình Bình | D71: CT | E71: Trắc đạc | F71: X | G71: X | H71: X | I71: X | J71: X | K71: X | L71: X | M71: X | N71: X | O71: X | P71: X | Q71: X | R71: X | S71: X | T71: X | U71: X | V71: X | W71: X | X71: X | Y71: X | Z71: X | AA71: X | AB71: X | AC71: X | AD71: X | AE71: X | AF71: X | AG71: X | AH71: V | AI71: CN | AJ71: P | AK71: =COUNTIF(F71:AJ71,"X") + COUNTIF(F71:AJ71,"x") + COUNTIF(F71:AJ71,"1/2")*0.5 + COUNTIF(F71:AJ71,"0.5")*0.5 + COUNTIF(F71:AJ71,"P") | AL71: - | AM71: - | AN71: - | AO71: 4 | AP71: 28 | AQ71: 0 | AR71: =COUNTIF(F71:AJ71,"P") + COUNTIF(F71:AJ71,"p")
A72: 63 | B72: 10003412.FCIC | C72: Đặng Anh Tuấn | D72: CT | E72: Giám đốc dự án | F72: X | G72: CN | H72: X | I72: X | J72: X | K72: X | L72: X | M72: X | N72: CN | O72: X | P72: X | Q72: X | R72: X | S72: X | T72: X | U72: CN | V72: X | W72: X | X72: X | Y72: X | Z72: X | AA72: X | AB72: CN | AC72: X | AD72: X | AE72: X | AF72: X | AG72: X | AH72: X | AI72: CN | AJ72: X | AK72: =COUNTIF(F72:AJ72,"X") + COUNTIF(F72:AJ72,"x") + COUNTIF(F72:AJ72,"1/2")*0.5 + COUNTIF(F72:AJ72,"0.5")*0.5 + COUNTIF(F72:AJ72,"P") | AL72: - | AM72: - | AN72: - | AO72: 0 | AP72: 26 | AQ72: 0 | AR72: =COUNTIF(F72:AJ72,"P") + COUNTIF(F72:AJ72,"p")
A73: 64 | B73: 10003455.FCIC | C73: Đỗ Ngọc Quý | D73: CT | E73: Chỉ huy trưởng | F73: X | G73: X | H73: X | I73: X | J73: X | K73: X | L73: X | M73: X | N73: X | O73: X | P73: X | Q73: X | R73: X | S73: X | T73: X | U73: X | V73: X | W73: X | X73: X | Y73: X | Z73: X | AA73: X | AB73: X | AC73: X | AD73: X | AE73: X | AF73: X | AG73: X | AH73: P | AI73: CN | AJ73: P | AK73: =COUNTIF(F73:AJ73,"X") + COUNTIF(F73:AJ73,"x") + COUNTIF(F73:AJ73,"1/2")*0.5 + COUNTIF(F73:AJ73,"0.5")*0.5 + COUNTIF(F73:AJ73,"P") | AL73: - | AM73: - | AN73: - | AO73: 4 | AP73: 28 | AQ73: 0 | AR73: =COUNTIF(F73:AJ73,"P") + COUNTIF(F73:AJ73,"p")
A74: 65 | B74: 10003538.FCIC | C74: An Văn Trung | D74: CT | E74: Kỹ sư chất lượng | F74: X | G74: X | H74: X | I74: X | J74: X | K74: X | L74: X | M74: X | N74: CN | O74: X | P74: X | Q74: X | R74: X | S74: X | T74: X | U74: CN | V74: X | W74: X | X74: X | Y74: X | Z74: X | AA74: X | AB74: CN | AC74: X | AD74: X | AE74: X | AF74: X | AG74: X | AH74: X | AI74: CN | AJ74: V | AK74: =COUNTIF(F74:AJ74,"X") + COUNTIF(F74:AJ74,"x") + COUNTIF(F74:AJ74,"1/2")*0.5 + COUNTIF(F74:AJ74,"0.5")*0.5 + COUNTIF(F74:AJ74,"P") | AL74: - | AM74: - | AN74: - | AO74: 1 | AP74: 22 | AQ74: 0 | AR74: =COUNTIF(F74:AJ74,"P") + COUNTIF(F74:AJ74,"p")
A75: 66 | B75: 10003661.FCIC | C75: Bùi Huy Quang | D75: CT | E75: Chỉ huy trưởng | F75: X | G75: CN | H75: X | I75: X | J75: X | K75: X | L75: X | M75: X | N75: CN | O75: X | P75: X | Q75: X | R75: X | S75: X | T75: X | U75: CN | V75: X | W75: X | X75: X | Y75: X | Z75: X | AA75: X | AB75: CN | AC75: X | AD75: X | AE75: X | AF75: X | AG75: X | AH75: X | AI75: CN | AJ75: P | AK75: =COUNTIF(F75:AJ75,"X") + COUNTIF(F75:AJ75,"x") + COUNTIF(F75:AJ75,"1/2")*0.5 + COUNTIF(F75:AJ75,"0.5")*0.5 + COUNTIF(F75:AJ75,"P") | AL75: - | AM75: - | AN75: - | AO75: 0 | AP75: 25 | AQ75: 0 | AR75: =COUNTIF(F75:AJ75,"P") + COUNTIF(F75:AJ75,"p")
A76: 67 | B76: 10003684.FCIC | C76: Đỗ Đăng Đức | D76: CT | E76: Kỹ sư chất lượng | F76: X | G76: X | H76: X | I76: X | J76: X | K76: X | L76: X | M76: X | N76: X | O76: X | P76: X | Q76: X | R76: X | S76: X | T76: X | U76: CN | V76: X | W76: X | X76: X | Y76: X | Z76: X | AA76: X | AB76: CN | AC76: X | AD76: X | AE76: X | AF76: X | AG76: X | AH76: X | AI76: CN | AJ76: X | AK76: =COUNTIF(F76:AJ76,"X") + COUNTIF(F76:AJ76,"x") + COUNTIF(F76:AJ76,"1/2")*0.5 + COUNTIF(F76:AJ76,"0.5")*0.5 + COUNTIF(F76:AJ76,"P") | AL76: - | AM76: - | AN76: - | AO76: 2 | AP76: 15 | AQ76: 0 | AR76: =COUNTIF(F76:AJ76,"P") + COUNTIF(F76:AJ76,"p")
A77: 68 | B77: 10004035 | C77: Phan Thế Vinh | D77: CT | E77: Chỉ huy trưởng | F77: X | G77: CN | H77: X | I77: X | J77: X | K77: X | L77: X | M77: X | N77: CN | O77: X | P77: X | Q77: X | R77: X | S77: X | T77: X | U77: CN | V77: X | W77: X | X77: X | Y77: X | Z77: X | AA77: X | AB77: CN | AC77: X | AD77: X | AE77: X | AF77: X | AG77: X | AH77: X | AI77: CN | AJ77: X | AK77: =COUNTIF(F77:AJ77,"X") + COUNTIF(F77:AJ77,"x") + COUNTIF(F77:AJ77,"1/2")*0.5 + COUNTIF(F77:AJ77,"0.5")*0.5 + COUNTIF(F77:AJ77,"P") | AL77: - | AM77: - | AN77: - | AO77: 0 | AP77: 26 | AQ77: 0 | AR77: =COUNTIF(F77:AJ77,"P") + COUNTIF(F77:AJ77,"p")
A78: 69 | B78: 10004052 | C78: Nguyễn Phú Hoài | D78: CT | E78: HSE | F78: X | G78: CN | H78: X | I78: X | J78: X | K78: X | L78: X | M78: X | N78: CN | O78: X | P78: X | Q78: X | R78: X | S78: X | T78: X | U78: CN | V78: X | W78: X | X78: X | Y78: X | Z78: X | AA78: X | AB78: CN | AC78: X | AD78: X | AE78: X | AF78: X | AG78: X | AH78: X | AI78: CN | AJ78: X | AK78: =COUNTIF(F78:AJ78,"X") + COUNTIF(F78:AJ78,"x") + COUNTIF(F78:AJ78,"1/2")*0.5 + COUNTIF(F78:AJ78,"0.5")*0.5 + COUNTIF(F78:AJ78,"P") | AL78: - | AM78: - | AN78: - | AO78: 0 | AP78: 26 | AQ78: 0 | AR78: =COUNTIF(F78:AJ78,"P") + COUNTIF(F78:AJ78,"p")
... A84: 75 | B84: 10005130 | C84: Phan Thanh Nho | D84: CT | E84: Kỹ sư hiện trường | F84: X | G84: X | H84: X | I84: X | J84: X | K84: X | L84: X | M84: X | N84: X | O84: X | P84: X | Q84: X | R84: X | S84: X | T84: X | U84: X | V84: X | W84: X | X84: X | Y84: X | Z84: X | AA84: X | AB84: CN | AC84: X | AD84: X | AE84: X | AF84: X | AG84: X | AH84: X | AI84: CN | AJ84: P | AK84: =COUNTIF(F84:AJ84,"X") + COUNTIF(F84:AJ84,"x") + COUNTIF(F84:AJ84,"1/2")*0.5 + COUNTIF(F84:AJ84,"0.5")*0.5 + COUNTIF(F84:AJ84,"P") | AL84: - | AM84: - | AN84: - | AO84: 3 | AP84: 28 | AQ84: 0 | AR84: =COUNTIF(F84:AJ84,"P") + COUNTIF(F84:AJ84,"p")
A85: 76 | B85: 10005133 | C85: Lê Công Thăng | D85: CT | E85: Chỉ huy phó | F85: X | G85: CN | H85: X | I85: X | J85: X | K85: X | L85: X | M85: X | N85: CN | O85: X | P85: X | Q85: X | R85: X | S85: X | T85: X | U85: CN | V85: X | W85: X | X85: X | Y85: X | Z85: X | AA85: X | AB85: CN | AC85: X | AD85: X | AE85: X | AF85: X | AG85: X | AH85: X | AI85: CN | AJ85: X | AK85: =COUNTIF(F85:AJ85,"X") + COUNTIF(F85:AJ85,"x") + COUNTIF(F85:AJ85,"1/2")*0.5 + COUNTIF(F85:AJ85,"0.5")*0.5 + COUNTIF(F85:AJ85,"P") | AL85: - | AM85: - | AN85: - | AO85: 0 | AP85: =AK85 | AQ85: 0 | AR85: =COUNTIF(F85:AJ85,"P") + COUNTIF(F85:AJ85,"p")
A86: 77 | B86: 10005173 | C86: Cao Văn Thìn | D86: CT | E86: Thủ kho Dự án | F86: X | G86: X | H86: X | I86: X | J86: X | K86: X | L86: X | M86: X | N86: X | O86: X | P86: X | Q86: X | R86: X | S86: X | T86: X | U86: X | V86: X | W86: X | X86: X | Y86: X | Z86: X | AA86: X | AB86: CN | AC86: X | AD86: V | AE86: V | AF86: V | AG86: V | AH86: V | AI86: CN | AJ86: V | AK86: =COUNTIF(F86:AJ86,"X") + COUNTIF(F86:AJ86,"x") + COUNTIF(F86:AJ86,"1/2")*0.5 + COUNTIF(F86:AJ86,"0.5")*0.5 + COUNTIF(F86:AJ86,"P") | AL86: - | AM86: - | AN86: - | AO86: 3 | AP86: 23 | AQ86: 0 | AR86: =COUNTIF(F86:AJ86,"P") + COUNTIF(F86:AJ86,"p")
A87: 78 | B87: 10005550 | C87: Thái Văn Kỳ | D87: CT | E87: Kỹ sư hiện trường | F87: X | G87: X | H87: X | I87: X | J87: X | K87: X | L87: X | M87: X | N87: X | O87: X | P87: X | Q87: X | R87: X | S87: X | T87: X | U87: X | V87: X | W87: X | X87: X | Y87: X | Z87: X | AA87: X | AB87: CN | AC87: X | AD87: X | AE87: X | AF87: X | AG87: X | AH87: X | AI87: CN | AJ87: P | AK87: =COUNTIF(F87:AJ87,"X") + COUNTIF(F87:AJ87,"x") + COUNTIF(F87:AJ87,"1/2")*0.5 + COUNTIF(F87:AJ87,"0.5")*0.5 + COUNTIF(F87:AJ87,"P") | AL87: - | AM87: - | AN87: - | AO87: 3 | AP87: 28 | AQ87: 0 | AR87: =COUNTIF(F87:AJ87,"P") + COUNTIF(F87:AJ87,"p")
A88: 79 | B88: 10005713 | C88: Vũ Đình Nghĩa | D88: CT | E88: Thủ kho Dự án | F88: X | G88: X | H88: X | I88: X | J88: X | K88: X | L88: X | M88: X | N88: X | O88: X | P88: X | Q88: X | R88: X | S88: X | T88: X | U88: X | V88: X | W88: X | X88: X | Y88: X | Z88: X | AA88: X | AB88: CN | AC88: X | AD88: X | AE88: X | AF88: X | AG88: X | AH88: X | AI88: CN | AJ88: X | AK88: =COUNTIF(F88:AJ88,"X") + COUNTIF(F88:AJ88,"x") + COUNTIF(F88:AJ88,"1/2")*0.5 + COUNTIF(F88:AJ88,"0.5")*0.5 + COUNTIF(F88:AJ88,"P") | AL88: - | AM88: - | AN88: - | AO88: 3 | AP88: 29 | AQ88: 0 | AR88: =COUNTIF(F88:AJ88,"P") + COUNTIF(F88:AJ88,"p")
A89: 80 | B89: 10005774 | C89: Nguyễn Hồng Long Chương | D89: CT | E89: Kỹ sư chất lượng | F89: X | G89: CN | H89: X | I89: X | J89: X | K89: X | L89: X | M89: X | N89: CN | O89: X | P89: X | Q89: X | R89: X | S89: X | T89: X | U89: CN | V89: X | W89: X | X89: X | Y89: X | Z89: X | AA89: X | AB89: CN | AC89: X | AD89: X | AE89: X | AF89: X | AG89: X | AH89: P | AI89: CN | AJ89: P | AK89: =COUNTIF(F89:AJ89,"X") + COUNTIF(F89:AJ89,"x") + COUNTIF(F89:AJ89,"1/2")*0.5 + COUNTIF(F89:AJ89,"0.5")*0.5 + COUNTIF(F89:AJ89,"P") | AL89: - | AM89: - | AN89: - | AO89: 0 | AP89: 24 | AQ89: 0 | AR89: =COUNTIF(F89:AJ89,"P") + COUNTIF(F89:AJ89,"p")
A90: 81 | B90: 10005784 | C90: Nguyễn Văn Quyết | D90: CT | E90: Kỹ sư chất lượng | F90: X | G90: X | H90: X | I90: X | J90: X | K90: X | L90: X | M90: X | N90: X | O90: X | P90: X | Q90: X | R90: X | S90: X | T90: X | U90: X | V90: X | W90: X | X90: X | Y90: X | Z90: X | AA90: X | AB90: X | AC90: X | AD90: X | AE90: X | AF90: X | AG90: X | AH90: V | AI90: CN | AJ90: P | AK90: =COUNTIF(F90:AJ90,"X") + COUNTIF(F90:AJ90,"x") + COUNTIF(F90:AJ90,"1/2")*0.5 + COUNTIF(F90:AJ90,"0.5")*0.5 + COUNTIF(F90:AJ90,"P") | AL90: - | AM90: - | AN90: - | AO90: 4 | AP90: 28 | AQ90: 0 | AR90: =COUNTIF(F90:AJ90,"P") + COUNTIF(F90:AJ90,"p")
A91: 82 | B91: 10005869 | C91: Phạm Bá Sơn | D91: CT | E91: Trắc đạc | F91: X | G91: X | H91: X | I91: X | J91: X | K91: X | L91: X | M91: X | N91: X | O91: X | P91: X | Q91: X | R91: X | S91: X | T91: X | U91: X | V91: X | W91: X | X91: X | Y91: X | Z91: X | AA91: X | AB91: X | AC91: X | AD91: X | AE91: X | AF91: X | AG91: X | AH91: X | AI91: X | AJ91: X | AK91: =COUNTIF(F91:AJ91,"X") + COUNTIF(F91:AJ91,"x") + COUNTIF(F91:AJ91,"1/2")*0.5 + COUNTIF(F91:AJ91,"0.5")*0.5 + COUNTIF(F91:AJ91,"P") | AL91: - | AM91: - | AN91: - | AO91: 5 | AP91: 31 | AQ91: 0 | AR91: =COUNTIF(F91:AJ91,"P") + COUNTIF(F91:AJ91,"p")
A92: 83 | B92: 10005975 | C92: Nguyễn Ngọc Ân | D92: CT | E92: Kỹ sư hiện trường | F92: X | G92: CN | H92: X | I92: X | J92: X | K92: X | L92: X | M92: X | N92: CN | O92: X | P92: X | Q92: X | R92: X | S92: X | T92: X | U92: CN | V92: X | W92: X | X92: X | Y92: X | Z92: X | AA92: X | AB92: CN | AC92: X | AD92: X | AE92: X | AF92: X | AG92: X | AH92: X | AI92: CN | AJ92: X | AK92: =COUNTIF(F92:AJ92,"X") + COUNTIF(F92:AJ92,"x") + COUNTIF(F92:AJ92,"1/2")*0.5 + COUNTIF(F92:AJ92,"0.5")*0.5 + COUNTIF(F92:AJ92,"P") | AL92: - | AM92: - | AN92: - | AO92: 0 | AP92: 26 | AQ92: 0 | AR92: =COUNTIF(F92:AJ92,"P") + COUNTIF(F92:AJ92,"p")
A93: 84 | B93: 10006284 | C93: Phạm Trung Tấn | D93: CT | E93: Kỹ sư chất lượng | F93: X | G93: CN | H93: X | I93: X | J93: X | K93: X | L93: X | M93: X | N93: CN | O93: X | P93: X | Q93: X | R93: X | S93: X | T93: X | U93: CN | V93: X | W93: X | X93: X | Y93: X | Z93: X | AA93: X | AB93: CN | AC93: X | AD93: X | AE93: X | AF93: X | AG93: X | AH93: X | AI93: CN | AJ93: X | AK93: =COUNTIF(F93:AJ93,"X") + COUNTIF(F93:AJ93,"x") + COUNTIF(F93:AJ93,"1/2")*0.5 + COUNTIF(F93:AJ93,"0.5")*0.5 + COUNTIF(F93:AJ93,"P") | AL93: - | AM93: - | AN93: - | AO93: 0 | AP93: 26 | AQ93: 0 | AR93: =COUNTIF(F93:AJ93,"P") + COUNTIF(F93:AJ93,"p")
A94: 85 | B94: 10007739.FCIC | C94: Nguyễn Phi Tuấn | D94: CT | E94: Chỉ huy trưởng | F94: X | G94: X | H94: X | I94: X | J94: X | K94: X | L94: X | M94: X | N94: X | O94: X | P94: X | Q94: X | R94: X | S94: X | T94: X | U94: X | V94: X | W94: X | X94: X | Y94: X | Z94: X | AA94: X | AB94: CN | AC94: X | AD94: X | AE94: X | AF94: X | AG94: X | AH94: X | AI94: CN | AJ94: X | AK94: =COUNTIF(F94:AJ94,"X") + COUNTIF(F94:AJ94,"x") + COUNTIF(F94:AJ94,"1/2")*0.5 + COUNTIF(F94:AJ94,"0.5")*0.5 + COUNTIF(F94:AJ94,"P") | AL94: - | AM94: - | AN94: - | AO94: 3 | AP94: 29 | AQ94: 0 | AR94: =COUNTIF(F94:AJ94,"P") + COUNTIF(F94:AJ94,"p")
A95: 86 | B95: 10008055.FCIC | C95: Phan Bá Mạnh | D95: CT | E95: Kỹ sư hiện trường | F95: X | G95: X | H95: X | I95: X | J95: X | K95: X | L95: X | M95: X | N95: X | O95: X | P95: X | Q95: X | R95: X | S95: X | T95: X | U95: X | V95: X | W95: X | X95: X | Y95: X | Z95: X | AA95: X | AB95: X | AC95: X | AD95: X | AE95: X | AF95: X | AG95: X | AH95: V | AI95: CN | AJ95: P | AK95: =COUNTIF(F95:AJ95,"X") + COUNTIF(F95:AJ95,"x") + COUNTIF(F95:AJ95,"1/2")*0.5 + COUNTIF(F95:AJ95,"0.5")*0.5 + COUNTIF(F95:AJ95,"P") | AL95: - | AM95: - | AN95: - | AO95: 4 | AP95: 28 | AQ95: 0 | AR95: =COUNTIF(F95:AJ95,"P") + COUNTIF(F95:AJ95,"p")
A96: 87 | B96: 10008193.FCIC | C96: Phạm Quang Huy | D96: CT | E96: Kỹ sư hiện trường | F96: X | G96: X | H96: X | I96: X | J96: X | K96: X | L96: X | M96: X | N96: X | O96: X | P96: X | Q96: X | R96: X | S96: X | T96: X | U96: X | V96: X | W96: X | X96: X | Y96: X | Z96: X | AA96: X | AB96: CN | AC96: X | AD96: X | AE96: X | AF96: X | AG96: X | AH96: X | AI96: CN | AJ96: P | AK96: =COUNTIF(F96:AJ96,"X") + COUNTIF(F96:AJ96,"x") + COUNTIF(F96:AJ96,"1/2")*0.5 + COUNTIF(F96:AJ96,"0.5")*0.5 + COUNTIF(F96:AJ96,"P") | AL96: - | AM96: - | AN96: - | AO96: 3 | AP96: 28 | AQ96: 0 | AR96: =COUNTIF(F96:AJ96,"P") + COUNTIF(F96:AJ96,"p")
A97: 88 | B97: 10008478 | C97: Đinh Văn Công | D97: CT | E97: Kỹ sư hiện trường | F97: X | G97: X | H97: X | I97: X | J97: X | K97: X | L97: X | M97: X | N97: X | O97: X | P97: X | Q97: X | R97: X | S97: X | T97: X | U97: X | V97: X | W97: X | X97: X | Y97: X | Z97: X | AA97: X | AB97: X | AC97: X | AD97: X | AE97: X | AF97: X | AG97: X | AH97: P | AI97: CN | AJ97: P | AK97: =COUNTIF(F97:AJ97,"X") + COUNTIF(F97:AJ97,"x") + COUNTIF(F97:AJ97,"1/2")*0.5 + COUNTIF(F97:AJ97,"0.5")*0.5 + COUNTIF(F97:AJ97,"P") | AL97: - | AM97: - | AN97: - | AO97: 4 | AP97: 28 | AQ97: 0 | AR97: =COUNTIF(F97:AJ97,"P") + COUNTIF(F97:AJ97,"p")
... A154: 145 | B154: 10012802 | C154: Nguyễn Văn Toàn | D154: CT | E154: Kỹ sư hiện trường | F154: X | G154: X | H154: X | I154: X | J154: X | K154: X | L154: X | M154: X | N154: CN | O154: X | P154: X | Q154: X | R154: X | S154: X | T154: X | U154: CN | V154: X | W154: X | X154: X | Y154: X | Z154: X | AA154: X | AB154: CN | AC154: X | AD154: X | AE154: X | AF154: X | AG154: X | AH154: X | AI154: CN | AJ154: X | AK154: =COUNTIF(F154:AJ154,"X") + COUNTIF(F154:AJ154,"x") + COUNTIF(F154:AJ154,"1/2")*0.5 + COUNTIF(F154:AJ154,"0.5")*0.5 + COUNTIF(F154:AJ154,"P") | AL154: - | AM154: - | AN154: - | AO154: 1 | AP154: 11 | AQ154: 0 | AR154: =COUNTIF(F154:AJ154,"P") + COUNTIF(F154:AJ154,"p")
A155: KHỐI LÁI MÁY (LM) - BẢNG CHẤM CÔNG CHI TIẾT
A156: 146 | B156: 10005013 | C156: Vũ Thành Đồng | D156: LM | E156: Nhân viên Lái máy (Lái ô tô tải) | F156: 8 | G156: 8 | H156: 8 | I156: 8 | J156: 8 | K156: 8 | L156: 8 | M156: 8 | N156: 8 | O156: 8 | P156: 8 | Q156: 8 | R156: 8 | S156: 8 | T156: 8 | U156: 8 | V156: 8 | W156: 8 | X156: 8 | Y156: 8 | Z156: 8 | AA156: 8 | AB156: 8 | AC156: 8 | AD156: 8 | AE156: 8 | AF156: 8 | AG156: 8 | AH156: 8 | AI156: 8 | AJ156: 8 | AK156: =ROUND(AL156/8, 1) | AL156: =SUM(F156:AJ156) | AM156: =MIN(AL156, 208) | AN156: =MAX(0, AL156 - 208) | AO156: 5 | AP156: 31 | AQ156: =AN156 | AR156: =COUNTIF(F156:AJ156,"P") + COUNTIF(F156:AJ156,"p")
A157: 147 | B157: 10005022 | C157: Đặng Quang Hiếu | D157: LM | E157: Nhân viên Lái máy (Lái xúc lật) | F157: 8 | G157: 8 | H157: 8 | I157: 8 | J157: 8 | K157: 8 | L157: 8 | M157: 8 | N157: 8 | O157: 8 | P157: 8 | Q157: 8 | R157: 8 | S157: 8 | T157: 8 | U157: 8 | V157: 8 | W157: 8 | X157: 8 | Y157: 8 | Z157: 8 | AA157: 8 | AB157: 8 | AC157: 8 | AD157: 8 | AE157: 8 | AF157: 8 | AG157: 8 | AH157: 8 | AI157: 8 | AJ157: 8 | AK157: =ROUND(AL157/8, 1) | AL157: =SUM(F157:AJ157) | AM157: =MIN(AL157, 208) | AN157: =MAX(0, AL157 - 208) | AO157: 5 | AP157: 31 | AQ157: =AN157 | AR157: =COUNTIF(F157:AJ157,"P") + COUNTIF(F157:AJ157,"p")
A158: 148 | B158: 10005054 | C158: Triệu Đình Ích | D158: LM | E158: Nhân viên Lái máy (Lái xúc) | F158: 10 | G158: 8 | H158: 10 | I158: 12 | J158: 10 | K158: 12 | L158: 10 | M158: 11 | N158: 8 | O158: 8 | P158: 8 | Q158: 8 | R158: 8 | S158: 8 | T158: 8 | U158: 8 | V158: 8 | W158: 8 | X158: 8 | Y158: 8 | Z158: 8 | AA158: 8 | AB158: 8 | AC158: 8 | AD158: 8 | AE158: 0 | AF158: 0 | AG158: 0 | AH158: 0 | AI158: 8 | AJ158: 0 | AK158: =ROUND(AL158/8, 1) | AL158: =SUM(F158:AJ158) | AM158: =MIN(AL158, 208) | AN158: =MAX(0, AL158 - 208) | AO158: 5 | AP158: 26 | AQ158: =AN158 | AR158: =COUNTIF(F158:AJ158,"P") + COUNTIF(F158:AJ158,"p")
A159: 149 | B159: 10005055 | C159: Đặng Khắc Thắng | D159: LM | E159: Nhân viên Lái máy (Lái lu) | F159: 10 | G159: 8 | H159: 10 | I159: 12 | J159: 10 | K159: 12 | L159: 10 | M159: 12 | N159: 8 | O159: 12 | P159: 10 | Q159: 12 | R159: 10 | S159: 11 | T159: 8 | U159: 8 | V159: 8 | W159: 8 | X159: 8 | Y159: 8 | Z159: 8 | AA159: 8 | AB159: 8 | AC159: 8 | AD159: 8 | AE159: 8 | AF159: 0 | AG159: 0 | AH159: 0 | AI159: 8 | AJ159: 0 | AK159: =ROUND(AL159/8, 1) | AL159: =SUM(F159:AJ159) | AM159: =MIN(AL159, 208) | AN159: =MAX(0, AL159 - 208) | AO159: 5 | AP159: 27 | AQ159: =AN159 | AR159: =COUNTIF(F159:AJ159,"P") + COUNTIF(F159:AJ159,"p")
A160: 150 | B160: 10005104 | C160: Đinh Công Tuấn | D160: LM | E160: Nhân viên Lái máy (Lái ủi) | F160: 10 | G160: 8 | H160: 10 | I160: 8 | J160: 8 | K160: 8 | L160: 8 | M160: 8 | N160: 8 | O160: 8 | P160: 8 | Q160: 8 | R160: 8 | S160: 8 | T160: 8 | U160: 8 | V160: 8 | W160: 8 | X160: 8 | Y160: 8 | Z160: 8 | AA160: 8 | AB160: 8 | AC160: 8 | AD160: 8 | AE160: 8 | AF160: 8 | AG160: 8 | AH160: 8 | AI160: 8 | AJ160: 0 | AK160: =ROUND(AL160/8, 1) | AL160: =SUM(F160:AJ160) | AM160: =MIN(AL160, 208) | AN160: =MAX(0, AL160 - 208) | AO160: 5 | AP160: 30 | AQ160: =AN160 | AR160: =COUNTIF(F160:AJ160,"P") + COUNTIF(F160:AJ160,"p")
A161: 151 | B161: 10007938 | C161: Nguyễn Văn Hoa | D161: LM | E161: Nhân viên Lái máy (Lái san) | F161: 8 | G161: 8 | H161: 8 | I161: 8 | J161: 8 | K161: 8 | L161: 8 | M161: 8 | N161: 8 | O161: 8 | P161: 8 | Q161: 8 | R161: 8 | S161: 8 | T161: 8 | U161: 8 | V161: 8 | W161: 8 | X161: 8 | Y161: 8 | Z161: 8 | AA161: 8 | AB161: 8 | AC161: 8 | AD161: 8 | AE161: 8 | AF161: 8 | AG161: 8 | AH161: 8 | AI161: 8 | AJ161: 8 | AK161: =ROUND(AL161/8, 1) | AL161: =SUM(F161:AJ161) | AM161: =MIN(AL161, 208) | AN161: =MAX(0, AL161 - 208) | AO161: 5 | AP161: 26 | AQ161: =AN161 | AR161: =COUNTIF(F161:AJ161,"P") + COUNTIF(F161:AJ161,"p")
A162: 152 | B162: 10007942 | C162: Nguyễn Văn Đạt | D162: LM | E162: Nhân viên Lái máy (Lái lu) | F162: 8 | G162: CN | H162: 8 | I162: 8 | J162: 8 | K162: 8 | L162: 8 | M162: 8 | N162: CN | O162: 8 | P162: 8 | Q162: 8 | R162: 8 | S162: 8 | T162: 8 | U162: CN | V162: 8 | W162: 8 | X162: 8 | Y162: 8 | Z162: 8 | AA162: 8 | AB162: CN | AC162: 8 | AD162: 8 | AE162: 8 | AF162: 8 | AG162: 8 | AH162: 8 | AI162: CN | AJ162: 8 | AK162: =ROUND(AL162/8, 1) | AL162: =SUM(F162:AJ162) | AM162: =MIN(AL162, 208) | AN162: =MAX(0, AL162 - 208) | AO162: 0 | AP162: =AK162 | AQ162: =AN162 | AR162: =COUNTIF(F162:AJ162,"P") + COUNTIF(F162:AJ162,"p")
A163: 153 | B163: 10008510 | C163: Bùi Công Tuấn | D163: LM | E163: Nhân viên Lái máy (Lái lu) | F163: 10 | G163: 8 | H163: 10 | I163: 12 | J163: 10 | K163: 8.5 | L163: 8 | M163: 8 | N163: 8 | O163: 8 | P163: 8 | Q163: 8 | R163: 8 | S163: 8 | T163: 8 | U163: 8 | V163: 8 | W163: 8 | X163: 8 | Y163: 8 | Z163: 8 | AA163: 8 | AB163: 8 | AC163: 8 | AD163: 8 | AE163: 8 | AF163: 8 | AG163: 8 | AH163: 8 | AI163: 8 | AJ163: 8 | AK163: =ROUND(AL163/8, 1) | AL163: =SUM(F163:AJ163) | AM163: =MIN(AL163, 208) | AN163: =MAX(0, AL163 - 208) | AO163: 5 | AP163: 31 | AQ163: =AN163 | AR163: =COUNTIF(F163:AJ163,"P") + COUNTIF(F163:AJ163,"p")
A164: 154 | B164: 10008805 | C164: Trần Hồng Tiến | D164: LM | E164: Nhân viên Lái máy (Lái xúc) | F164: 10 | G164: 8 | H164: 10 | I164: 9.5 | J164: 8 | K164: 8 | L164: 8 | M164: 8 | N164: 8 | O164: 8 | P164: 8 | Q164: 8 | R164: 8 | S164: 8 | T164: 8 | U164: 8 | V164: 8 | W164: 8 | X164: 8 | Y164: 8 | Z164: 8 | AA164: 8 | AB164: 8 | AC164: 8 | AD164: 8 | AE164: 8 | AF164: 8 | AG164: 8 | AH164: 8 | AI164: 8 | AJ164: 0 | AK164: =ROUND(AL164/8, 1) | AL164: =SUM(F164:AJ164) | AM164: =MIN(AL164, 208) | AN164: =MAX(0, AL164 - 208) | AO164: 5 | AP164: 30 | AQ164: =AN164 | AR164: =COUNTIF(F164:AJ164,"P") + COUNTIF(F164:AJ164,"p")
A165: 155 | B165: 10009116 | C165: Hoàng Văn Hùng | D165: LM | E165: Nhân viên lái máy (Lái xúc xích) | F165: 8 | G165: 8 | H165: 8 | I165: 8 | J165: 8 | K165: 8 | L165: 8 | M165: 8 | N165: 8 | O165: 8 | P165: 8 | Q165: 8 | R165: 8 | S165: 8 | T165: 8 | U165: 8 | V165: 8 | W165: 8 | X165: 8 | Y165: 8 | Z165: 8 | AA165: 8 | AB165: 8 | AC165: 8 | AD165: 8 | AE165: 8 | AF165: 8 | AG165: 8 | AH165: 8 | AI165: 8 | AJ165: 8 | AK165: =ROUND(AL165/8, 1) | AL165: =SUM(F165:AJ165) | AM165: =MIN(AL165, 208) | AN165: =MAX(0, AL165 - 208) | AO165: 5 | AP165: 21 | AQ165: =AN165 | AR165: =COUNTIF(F165:AJ165,"P") + COUNTIF(F165:AJ165,"p")
A166: 156 | B166: 10009480 | C166: Nguyễn Văn Huynh | D166: LM | E166: Nhân viên Lái máy (Lái ủi) | F166: 8 | G166: 8 | H166: 8 | I166: 8 | J166: 8 | K166: 8 | L166: 8 | M166: 8 | N166: 8 | O166: 8 | P166: 8 | Q166: 8 | R166: 8 | S166: 8 | T166: 8 | U166: 8 | V166: 8 | W166: 8 | X166: 8 | Y166: 8 | Z166: 8 | AA166: 8 | AB166: 8 | AC166: 8 | AD166: 8 | AE166: 8 | AF166: 8 | AG166: 8 | AH166: 8 | AI166: 8 | AJ166: 8 | AK166: =ROUND(AL166/8, 1) | AL166: =SUM(F166:AJ166) | AM166: =MIN(AL166, 208) | AN166: =MAX(0, AL166 - 208) | AO166: 5 | AP166: 30 | AQ166: =AN166 | AR166: =COUNTIF(F166:AJ166,"P") + COUNTIF(F166:AJ166,"p")
A167: 157 | B167: 10009766 | C167: Nguyễn Văn Thanh | D167: LM | E167: Nhân viên Lái máy (Lái lu) | F167: 8 | G167: 8 | H167: 8 | I167: 8 | J167: 8 | K167: 8 | L167: 8 | M167: 8 | N167: 8 | O167: 8 | P167: 8 | Q167: 8 | R167: 8 | S167: 8 | T167: 8 | U167: 8 | V167: 8 | W167: 8 | X167: 8 | Y167: 8 | Z167: 8 | AA167: 8 | AB167: 8 | AC167: 8 | AD167: 8 | AE167: 8 | AF167: 8 | AG167: 8 | AH167: 8 | AI167: 8 | AJ167: 8 | AK167: =ROUND(AL167/8, 1) | AL167: =SUM(F167:AJ167) | AM167: =MIN(AL167, 208) | AN167: =MAX(0, AL167 - 208) | AO167: 5 | AP167: 30 | AQ167: =AN167 | AR167: =COUNTIF(F167:AJ167,"P") + COUNTIF(F167:AJ167,"p")
A168: 158 | B168: 10010068 | C168: Phạm Văn Hưng | D168: LM | E168: Nhân viên Lái máy (Lái lu) | F168: 10 | G168: 8 | H168: 10 | I168: 12 | J168: 10 | K168: 12 | L168: 10 | M168: 8 | N168: 8 | O168: 8 | P168: 8 | Q168: 8 | R168: 8 | S168: 8 | T168: 8 | U168: 8 | V168: 8 | W168: 8 | X168: 8 | Y168: 8 | Z168: 8 | AA168: 8 | AB168: 8 | AC168: 8 | AD168: 8 | AE168: 8 | AF168: 8 | AG168: 8 | AH168: 8 | AI168: 8 | AJ168: 0 | AK168: =ROUND(AL168/8, 1) | AL168: =SUM(F168:AJ168) | AM168: =MIN(AL168, 208) | AN168: =MAX(0, AL168 - 208) | AO168: 5 | AP168: 30 | AQ168: =AN168 | AR168: =COUNTIF(F168:AJ168,"P") + COUNTIF(F168:AJ168,"p")
A169: 159 | B169: 10010260 | C169: Dương Trường Vũ | D169: LM | E169: Nhân viên lái máy (Lái xúc xích) | F169: 10 | G169: 8 | H169: 10 | I169: 12 | J169: 10 | K169: 12 | L169: 10 | M169: 10 | N169: 8 | O169: 8 | P169: 8 | Q169: 8 | R169: 8 | S169: 8 | T169: 8 | U169: 8 | V169: 8 | W169: 8 | X169: 8 | Y169: 8 | Z169: 8 | AA169: 8 | AB169: 8 | AC169: 8 | AD169: 8 | AE169: 8 | AF169: 8 | AG169: 8 | AH169: 8 | AI169: 8 | AJ169: 8 | AK169: =ROUND(AL169/8, 1) | AL169: =SUM(F169:AJ169) | AM169: =MIN(AL169, 208) | AN169: =MAX(0, AL169 - 208) | AO169: 5 | AP169: 31 | AQ169: =AN169 | AR169: =COUNTIF(F169:AJ169,"P") + COUNTIF(F169:AJ169,"p")
A170: 160 | B170: 10010477 | C170: Nguyễn Đình Phương | D170: LM | E170: Nhân viên Lái máy (Lái ô tô tải) | F170: 10 | G170: 8 | H170: 10 | I170: 12 | J170: 10 | K170: 12 | L170: 10 | M170: 8.5 | N170: 8 | O170: 8 | P170: 8 | Q170: 8 | R170: 8 | S170: 8 | T170: 8 | U170: 8 | V170: 8 | W170: 8 | X170: 8 | Y170: 8 | Z170: 8 | AA170: 8 | AB170: 8 | AC170: 8 | AD170: 8 | AE170: 8 | AF170: 8 | AG170: 8 | AH170: 8 | AI170: 8 | AJ170: 8 | AK170: =ROUND(AL170/8, 1) | AL170: =SUM(F170:AJ170) | AM170: =MIN(AL170, 208) | AN170: =MAX(0, AL170 - 208) | AO170: 5 | AP170: 31 | AQ170: =AN170 | AR170: =COUNTIF(F170:AJ170,"P") + COUNTIF(F170:AJ170,"p")
A171: 161 | B171: 10010740 | C171: Ngô Mạnh Cường | D171: LM | E171: Nhân viên lái máy (lái ủi) | F171: 8 | G171: 8 | H171: 8 | I171: 8 | J171: 8 | K171: 8 | L171: 8 | M171: 8 | N171: 8 | O171: 8 | P171: 8 | Q171: 8 | R171: 8 | S171: 8 | T171: 8 | U171: 8 | V171: 8 | W171: 8 | X171: 8 | Y171: 8 | Z171: 8 | AA171: 8 | AB171: 8 | AC171: 8 | AD171: 8 | AE171: 8 | AF171: 8 | AG171: 8 | AH171: 8 | AI171: 8 | AJ171: 0 | AK171: =ROUND(AL171/8, 1) | AL171: =SUM(F171:AJ171) | AM171: =MIN(AL171, 208) | AN171: =MAX(0, AL171 - 208) | AO171: 5 | AP171: 20 | AQ171: =AN171 | AR171: =COUNTIF(F171:AJ171,"P") + COUNTIF(F171:AJ171,"p")
...

Sheet Luong_Van_Phong
A2: BẢNG THANH TOÁN TIỀN LƯƠNG THÁNG 08 NĂM 2026
A3: CÔNG TY CỔ PHẦN XÂY DỰNG HẠ TẦNG FECON - KHỐI VĂN PHÒNG (VP)
A6: STT | C6: Mã NV | D6: Họ tên | E6: Chức vụ | F6: Mức lương cơ bản | G6: Mức thưởng hiệu suất | I6: Hệ số công | J6: Ngày công tháng | L6: Công CN | N6: Công WFH | P6: Chờ việc | R6: Công ăn ca | S6: Giờ làm thêm quy đổi | T6: Tiền Lương cơ bản | U6: Tiền thưởng hiệu suất | V6: Lương ngoài giờ | W6: Lương ngày chủ nhật | X6: Hỗ trợ ăn ca | Y6: Hỗ trợ điện thoại | Z6: Lương trách nhiệm | AA6: Lương kiêm nhiệm | AC6: Thù lao HĐQT/CTV | AD6: Hỗ trợ đi lại | AE6: Thưởng HQKD / Khác | AG6: TỔNG THU NHẬP | AH6: Ăn trưa miễn thuế | AL6: Tổng thu nhập chịu thuế | AM6: Thưởng 02.09 | AP6: BHXH 10.5% | AQ6: Giảm trừ bản thân | AR6: Số người PT | AT6: Giảm trừ gia cảnh | AU6: Thu nhập tính thuế | AV6: Thuế TNCN | AZ6: Đoàn phí CĐ | BB6: THỰC LĨNH
A7: 1 - HỘI ĐỒNG QUẢN TRỊ VÀ BAN KIẾM SOÁT
A8: 1 | C8: 10000920.FCIC | D8: Nguyễn Chí Công | E8: Phó Chủ tịch HĐQT | F8: 10000000 | G8: 20000000 | I8: 1 | J8: =Cham_Cong_Hang_Ngay!AK9 | L8: =Cham_Cong_Hang_Ngay!AO9 | N8: 0 | P8: 0 | R8: =Cham_Cong_Hang_Ngay!AP9 | S8: =Cham_Cong_Hang_Ngay!AQ9 | T8: =ROUND(F8/26*(J8+N8+P8),0) | U8: =ROUND((G8*I8)/26*(J8+N8*0.5+P8*0.5),0) | V8: =ROUND((F8+G8*I8)/26/8*S8,0) | W8: =ROUND((F8+G8*I8)/26*L8,0) | X8: =ROUND(R8*50000,0) | Y8: 0 | Z8: 0 | AA8: 0 | AC8: 0 | AD8: 0 | AE8: 0 | AG8: =SUM(T8:AF8) | AH8: =IF(X8<=1200000,X8,1200000) | AL8: =AG8-(AH8+Y8+V8) | AM8: 2000000 | AP8: 2181900 | AQ8: 15500000 | AR8: 4 | AT8: =AQ8+AR8*6200000 | AU8: =IF((AL8+AM8-AP8-AT8)<0,0,(AL8+AM8-AP8-AT8)) | AV8: =ROUND(IF(AU8<=10000000,AU8*5%,IF(AU8<=30000000,AU8*10%-500000,IF(AU8<=60000000,AU8*20%-3500000,IF(AU8<=100000000,AU8*30%-9500000,AU8*35%-14500000)))),0) | AZ8: =ROUND(F8*0.5%,0) | BB8: =ROUND(AG8-AP8-AV8-AZ8,0)
A9: 2 | C9: 10002720.FCIC | D9: Trịnh Quốc Tuấn | E9: Thành viên HĐQT | F9: 0 | G9: 0 | I9: 1 | J9: =Cham_Cong_Hang_Ngay!AK10 | L9: =Cham_Cong_Hang_Ngay!AO10 | N9: 0 | P9: 0 | R9: =Cham_Cong_Hang_Ngay!AP10 | S9: =Cham_Cong_Hang_Ngay!AQ10 | T9: =ROUND(F9/26*(J9+N9+P9),0) | U9: =ROUND((G9*I9)/26*(J9+N9*0.5+P9*0.5),0) | V9: =ROUND((F9+G9*I9)/26/8*S9,0) | W9: =ROUND((F9+G9*I9)/26*L9,0) | X9: =ROUND(R9*50000,0) | Y9: 0 | Z9: 0 | AA9: 0 | AC9: 10000000 | AD9: 0 | AE9: 0 | AG9: =SUM(T9:AF9) | AH9: =IF(X9<=1200000,X9,1200000) | AL9: =AG9-(AH9+Y9+V9) | AM9: 0 | AP9: 0 | AQ9: 15500000 | AR9: 0 | AT9: =AQ9+AR9*6200000 | AU9: =IF((AL9+AM9-AP9-AT9)<0,0,(AL9+AM9-AP9-AT9)) | AV9: =ROUND(IF(AU9<=10000000,AU9*5%,IF(AU9<=30000000,AU9*10%-500000,IF(AU9<=60000000,AU9*20%-3500000,IF(AU9<=100000000,AU9*30%-9500000,AU9*35%-14500000)))),0) | AZ9: =ROUND(F9*0.5%,0) | BB9: =ROUND(AG9-AP9-AV9-AZ9,0)
A10: 3 | C10: 10003397.FCIC | D10: Đỗ Mạnh Cường | E10: Chủ tịch HĐQT | F10: 0 | G10: 0 | I10: 1 | J10: =Cham_Cong_Hang_Ngay!AK11 | L10: =Cham_Cong_Hang_Ngay!AO11 | N10: 0 | P10: 0 | R10: =Cham_Cong_Hang_Ngay!AP11 | S10: =Cham_Cong_Hang_Ngay!AQ11 | T10: =ROUND(F10/26*(J10+N10+P10),0) | U10: =ROUND((G10*I10)/26*(J10+N10*0.5+P10*0.5),0) | V10: =ROUND((F10+G10*I10)/26/8*S10,0) | W10: =ROUND((F10+G10*I10)/26*L10,0) | X10: =ROUND(R10*50000,0) | Y10: 0 | Z10: 0 | AA10: 0 | AC10: 35000000 | AD10: 0 | AE10: 0 | AG10: =SUM(T10:AF10) | AH10: =IF(X10<=1200000,X10,1200000) | AL10: =AG10-(AH10+Y10+V10) | AM10: 0 | AP10: 0 | AQ10: 15500000 | AR10: 0 | AT10: =AQ10+AR10*6200000 | AU10: =IF((AL10+AM10-AP10-AT10)<0,0,(AL10+AM10-AP10-AT10)) | AV10: =ROUND(IF(AU10<=10000000,AU10*5%,IF(AU10<=30000000,AU10*10%-500000,IF(AU10<=60000000,AU10*20%-3500000,IF(AU10<=100000000,AU10*30%-9500000,AU10*35%-14500000)))),0) | AZ10: =ROUND(F10*0.5%,0) | BB10: =ROUND(AG10-AP10-AV10-AZ10,0)
A11: 4 | C11: 10004720.FCIC | D11: Nguyễn Thị Nhàn | E11: Trưởng Ban kiểm soát | F11: 0 | G11: 0 | I11: 1 | J11: =Cham_Cong_Hang_Ngay!AK12 | L11: =Cham_Cong_Hang_Ngay!AO12 | N11: 0 | P11: 0 | R11: =Cham_Cong_Hang_Ngay!AP12 | S11: =Cham_Cong_Hang_Ngay!AQ12 | T11: =ROUND(F11/26*(J11+N11+P11),0) | U11: =ROUND((G11*I11)/26*(J11+N11*0.5+P11*0.5),0) | V11: =ROUND((F11+G11*I11)/26/8*S11,0) | W11: =ROUND((F11+G11*I11)/26*L11,0) | X11: =ROUND(R11*50000,0) | Y11: 0 | Z11: 0 | AA11: 0 | AC11: 7500000 | AD11: 0 | AE11: 0 | AG11: =SUM(T11:AF11) | AH11: =IF(X11<=1200000,X11,1200000) | AL11: =AG11-(AH11+Y11+V11) | AM11: 0 | AP11: 0 | AQ11: 15500000 | AR11: 0 | AT11: =AQ11+AR11*6200000 | AU11: =IF((AL11+AM11-AP11-AT11)<0,0,(AL11+AM11-AP11-AT11)) | AV11: =ROUND(IF(AU11<=10000000,AU11*5%,IF(AU11<=30000000,AU11*10%-500000,IF(AU11<=60000000,AU11*20%-3500000,IF(AU11<=100000000,AU11*30%-9500000,AU11*35%-14500000)))),0) | AZ11: =ROUND(F11*0.5%,0) | BB11: =ROUND(AG11-AP11-AV11-AZ11,0)
A12: 5 | C12: 10005763.FCIC | D12: Nguyễn Thành Duy | E12: Thành viên Ban kiểm soát | F12: 0 | G12: 0 | I12: 1 | J12: =Cham_Cong_Hang_Ngay!AK13 | L12: =Cham_Cong_Hang_Ngay!AO13 | N12: 0 | P12: 0 | R12: =Cham_Cong_Hang_Ngay!AP13 | S12: =Cham_Cong_Hang_Ngay!AQ13 | T12: =ROUND(F12/26*(J12+N12+P12),0) | U12: =ROUND((G12*I12)/26*(J12+N12*0.5+P12*0.5),0) | V12: =ROUND((F12+G12*I12)/26/8*S12,0) | W12: =ROUND((F12+G12*I12)/26*L12,0) | X12: =ROUND(R12*50000,0) | Y12: 0 | Z12: 0 | AA12: 0 | AC12: 5000000 | AD12: 0 | AE12: 0 | AG12: =SUM(T12:AF12) | AH12: =IF(X12<=1200000,X12,1200000) | AL12: =AG12-(AH12+Y12+V12) | AM12: 0 | AP12: 0 | AQ12: 15500000 | AR12: 0 | AT12: =AQ12+AR12*6200000 | AU12: =IF((AL12+AM12-AP12-AT12)<0,0,(AL12+AM12-AP12-AT12)) | AV12: =ROUND(IF(AU12<=10000000,AU12*5%,IF(AU12<=30000000,AU12*10%-500000,IF(AU12<=60000000,AU12*20%-3500000,IF(AU12<=100000000,AU12*30%-9500000,AU12*35%-14500000)))),0) | AZ12: =ROUND(F12*0.5%,0) | BB12: =ROUND(AG12-AP12-AV12-AZ12,0)
A13: 6 | C13: 10006458.FCIC | D13: Phạm Thu Hoài | E13: Thành viên Ban kiểm soát | F13: 0 | G13: 0 | I13: 1 | J13: =Cham_Cong_Hang_Ngay!AK14 | L13: =Cham_Cong_Hang_Ngay!AO14 | N13: 0 | P13: 0 | R13: =Cham_Cong_Hang_Ngay!AP14 | S13: =Cham_Cong_Hang_Ngay!AQ14 | T13: =ROUND(F13/26*(J13+N13+P13),0) | U13: =ROUND((G13*I13)/26*(J13+N13*0.5+P13*0.5),0) | V13: =ROUND((F13+G13*I13)/26/8*S13,0) | W13: =ROUND((F13+G13*I13)/26*L13,0) | X13: =ROUND(R13*50000,0) | Y13: 0 | Z13: 0 | AA13: 0 | AC13: 5000000 | AD13: 0 | AE13: 0 | AG13: =SUM(T13:AF13) | AH13: =IF(X13<=1200000,X13,1200000) | AL13: =AG13-(AH13+Y13+V13) | AM13: 0 | AP13: 0 | AQ13: 15500000 | AR13: 0 | AT13: =AQ13+AR13*6200000 | AU13: =IF((AL13+AM13-AP13-AT13)<0,0,(AL13+AM13-AP13-AT13)) | AV13: =ROUND(IF(AU13<=10000000,AU13*5%,IF(AU13<=30000000,AU13*10%-500000,IF(AU13<=60000000,AU13*20%-3500000,IF(AU13<=100000000,AU13*30%-9500000,AU13*35%-14500000)))),0) | AZ13: =ROUND(F13*0.5%,0) | BB13: =ROUND(AG13-AP13-AV13-AZ13,0)
A14: CỘNG 1 - HỘI ĐỒNG QUẢN TRỊ VÀ BAN KIẾM SOÁT: | F14: =SUM(F8:F13) | G14: =SUM(G8:G13) | T14: =SUM(T8:T13) | U14: =SUM(U8:U13) | V14: =SUM(V8:V13) | W14: =SUM(W8:W13) | X14: =SUM(X8:X13) | Y14: =SUM(Y8:Y13) | Z14: =SUM(Z8:Z13) | AA14: =SUM(AA8:AA13) | AC14: =SUM(AC8:AC13) | AD14: =SUM(AD8:AD13) | AE14: =SUM(AE8:AE13) | AG14: =SUM(AG8:AG13) | AL14: =SUM(AL8:AL13) | AM14: =SUM(AM8:AM13) | AP14: =SUM(AP8:AP13) | AV14: =SUM(AV8:AV13) | AZ14: =SUM(AZ8:AZ13) | BB14: =SUM(BB8:BB13)
A15: 2 - BAN GIÁM ĐỐC
A16: 7 | C16: 10002265.FCIC | D16: Trần Văn Nguyện | E16: Phó Tổng Giám đốc | F16: 10000000 | G16: 20000000 | I16: 1 | J16: =Cham_Cong_Hang_Ngay!AK15 | L16: =Cham_Cong_Hang_Ngay!AO15 | N16: 0 | P16: 0 | R16: =Cham_Cong_Hang_Ngay!AP15 | S16: =Cham_Cong_Hang_Ngay!AQ15 | T16: =ROUND(F16/26*(J16+N16+P16),0) | U16: =ROUND((G16*I16)/26*(J16+N16*0.5+P16*0.5),0) | V16: =ROUND((F16+G16*I16)/26/8*S16,0) | W16: =ROUND((F16+G16*I16)/26*L16,0) | X16: =ROUND(R16*50000,0) | Y16: 1500000 | Z16: 0 | AA16: 0 | AC16: 0 | AD16: 0 | AE16: 0 | AG16: =SUM(T16:AF16) | AH16: =IF(X16<=1200000,X16,1200000) | AL16: =AG16-(AH16+Y16+V16) | AM16: 2000000 | AP16: 1775550 | AQ16: 15500000 | AR16: 4 | AT16: =AQ16+AR16*6200000 | AU16: =IF((AL16+AM16-AP16-AT16)<0,0,(AL16+AM16-AP16-AT16)) | AV16: =ROUND(IF(AU16<=10000000,AU16*5%,IF(AU16<=30000000,AU16*10%-500000,IF(AU16<=60000000,AU16*20%-3500000,IF(AU16<=100000000,AU16*30%-9500000,AU16*35%-14500000)))),0) | AZ16: =ROUND(F16*0.5%,0) | BB16: =ROUND(AG16-AP16-AV16-AZ16,0)
A17: 8 | C17: 10004030 | D17: Nguyễn Quang Tuyến | E17: Phó Tổng Giám đốc | F17: 10000000 | G17: 20000000 | I17: 1 | J17: =Cham_Cong_Hang_Ngay!AK16 | L17: =Cham_Cong_Hang_Ngay!AO16 | N17: 0 | P17: 0 | R17: =Cham_Cong_Hang_Ngay!AP16 | S17: =Cham_Cong_Hang_Ngay!AQ16 | T17: =ROUND(F17/26*(J17+N17+P17),0) | U17: =ROUND((G17*I17)/26*(J17+N17*0.5+P17*0.5),0) | V17: =ROUND((F17+G17*I17)/26/8*S17,0) | W17: =ROUND((F17+G17*I17)/26*L17,0) | X17: =ROUND(R17*50000,0) | Y17: 1500000 | Z17: 0 | AA17: 0 | AC17: 0 | AD17: 0 | AE17: 0 | AG17: =SUM(T17:AF17) | AH17: =IF(X17<=1200000,X17,1200000) | AL17: =AG17-(AH17+Y17+V17) | AM17: 2000000 | AP17: 1775550 | AQ17: 15500000 | AR17: 3 | AT17: =AQ17+AR17*6200000 | AU17: =IF((AL17+AM17-AP17-AT17)<0,0,(AL17+AM17-AP17-AT17)) | AV17: =ROUND(IF(AU17<=10000000,AU17*5%,IF(AU17<=30000000,AU17*10%-500000,IF(AU17<=60000000,AU17*20%-3500000,IF(AU17<=100000000,AU17*30%-9500000,AU17*35%-14500000)))),0) | AZ17: =ROUND(F17*0.5%,0) | BB17: =ROUND(AG17-AP17-AV17-AZ17,0)
A18: 9 | C18: 10005729.FCIC | D18: Trần Dương Khánh | E18: Phó Tổng Giám đốc | F18: 10000000 | G18: 20000000 | I18: 1 | J18: =Cham_Cong_Hang_Ngay!AK17 | L18: =Cham_Cong_Hang_Ngay!AO17 | N18: 0 | P18: 0 | R18: =Cham_Cong_Hang_Ngay!AP17 | S18: =Cham_Cong_Hang_Ngay!AQ17 | T18: =ROUND(F18/26*(J18+N18+P18),0) | U18: =ROUND((G18*I18)/26*(J18+N18*0.5+P18*0.5),0) | V18: =ROUND((F18+G18*I18)/26/8*S18,0) | W18: =ROUND((F18+G18*I18)/26*L18,0) | X18: =ROUND(R18*50000,0) | Y18: 1500000 | Z18: 0 | AA18: 0 | AC18: 0 | AD18: 0 | AE18: 0 | AG18: =SUM(T18:AF18) | AH18: =IF(X18<=1200000,X18,1200000) | AL18: =AG18-(AH18+Y18+V18) | AM18: 2000000 | AP18: 1775550 | AQ18: 15500000 | AR18: 1 | AT18: =AQ18+AR18*6200000 | AU18: =IF((AL18+AM18-AP18-AT18)<0,0,(AL18+AM18-AP18-AT18)) | AV18: =ROUND(IF(AU18<=10000000,AU18*5%,IF(AU18<=30000000,AU18*10%-500000,IF(AU18<=60000000,AU18*20%-3500000,IF(AU18<=100000000,AU18*30%-9500000,AU18*35%-14500000)))),0) | AZ18: =ROUND(F18*0.5%,0) | BB18: =ROUND(AG18-AP18-AV18-AZ18,0)
A19: 10 | C19: 10009200 | D19: Võ Huy Bình | E19: Tổng Giám đốc điều hành | F19: 10000000 | G19: 20000000 | I19: 1 | J19: =Cham_Cong_Hang_Ngay!AK18 | L19: =Cham_Cong_Hang_Ngay!AO18 | N19: 0 | P19: 0 | R19: =Cham_Cong_Hang_Ngay!AP18 | S19: =Cham_Cong_Hang_Ngay!AQ18 | T19: =ROUND(F19/26*(J19+N19+P19),0) | U19: =ROUND((G19*I19)/26*(J19+N19*0.5+P19*0.5),0) | V19: =ROUND((F19+G19*I19)/26/8*S19,0) | W19: =ROUND((F19+G19*I19)/26*L19,0) | X19: =ROUND(R19*50000,0) | Y19: 1500000 | Z19: 0 | AA19: 0 | AC19: 0 | AD19: 0 | AE19: 0 | AG19: =SUM(T19:AF19) | AH19: =IF(X19<=1200000,X19,1200000) | AL19: =AG19-(AH19+Y19+V19) | AM19: 2000000 | AP19: 2181900 | AQ19: 15500000 | AR19: 3 | AT19: =AQ19+AR19*6200000 | AU19: =IF((AL19+AM19-AP19-AT19)<0,0,(AL19+AM19-AP19-AT19)) | AV19: =ROUND(IF(AU19<=10000000,AU19*5%,IF(AU19<=30000000,AU19*10%-500000,IF(AU19<=60000000,AU19*20%-3500000,IF(AU19<=100000000,AU19*30%-9500000,AU19*35%-14500000)))),0) | AZ19: =ROUND(F19*0.5%,0) | BB19: =ROUND(AG19-AP19-AV19-AZ19,0)
A20: 11 | C20: 10011001.FCIC | D20: Lê Đức Thọ | E20: Phó Tổng Giám đốc | F20: 10000000 | G20: 20000000 | I20: 1 | J20: =Cham_Cong_Hang_Ngay!AK19 | L20: =Cham_Cong_Hang_Ngay!AO19 | N20: 0 | P20: 0 | R20: =Cham_Cong_Hang_Ngay!AP19 | S20: =Cham_Cong_Hang_Ngay!AQ19 | T20: =ROUND(F20/26*(J20+N20+P20),0) | U20: =ROUND((G20*I20)/26*(J20+N20*0.5+P20*0.5),0) | V20: =ROUND((F20+G20*I20)/26/8*S20,0) | W20: =ROUND((F20+G20*I20)/26*L20,0) | X20: =ROUND(R20*50000,0) | Y20: 1500000 | Z20: 0 | AA20: 0 | AC20: 0 | AD20: 0 | AE20: 0 | AG20: =SUM(T20:AF20) | AH20: =IF(X20<=1200000,X20,1200000) | AL20: =AG20-(AH20+Y20+V20) | AM20: 2000000 | AP20: 1775550 | AQ20: 15500000 | AR20: 2 | AT20: =AQ20+AR20*6200000 | AU20: =IF((AL20+AM20-AP20-AT20)<0,0,(AL20+AM20-AP20-AT20)) | AV20: =ROUND(IF(AU20<=10000000,AU20*5%,IF(AU20<=30000000,AU20*10%-500000,IF(AU20<=60000000,AU20*20%-3500000,IF(AU20<=100000000,AU20*30%-9500000,AU20*35%-14500000)))),0) | AZ20: =ROUND(F20*0.5%,0) | BB20: =ROUND(AG20-AP20-AV20-AZ20,0)
A21: CỘNG 2 - BAN GIÁM ĐỐC: | F21: =SUM(F16:F20) | G21: =SUM(G16:G20) | T21: =SUM(T16:T20) | U21: =SUM(U16:U20) | V21: =SUM(V16:V20) | W21: =SUM(W16:W20) | X21: =SUM(X16:X20) | Y21: =SUM(Y16:Y20) | Z21: =SUM(Z16:Z20) | AA21: =SUM(AA16:AA20) | AC21: =SUM(AC16:AC20) | AD21: =SUM(AD16:AD20) | AE21: =SUM(AE16:AE20) | AG21: =SUM(AG16:AG20) | AL21: =SUM(AL16:AL20) | AM21: =SUM(AM16:AM20) | AP21: =SUM(AP16:AP20) | AV21: =SUM(AV16:AV20) | AZ21: =SUM(AZ16:AZ20) | BB21: =SUM(BB16:BB20)
A22: 3 - PHÒNG TÀI CHÍNH - KẾ TOÁN
A23: 12 | C23: 10003680 | D23: Bùi Thị Liên | E23: Chuyên viên Kế toán | F23: 6000000 | G23: 10000000 | I23: 1 | J23: =Cham_Cong_Hang_Ngay!AK20 | L23: =Cham_Cong_Hang_Ngay!AO20 | N23: 0 | P23: 0 | R23: =Cham_Cong_Hang_Ngay!AP20 | S23: =Cham_Cong_Hang_Ngay!AQ20 | T23: =ROUND(F23/26*(J23+N23+P23),0) | U23: =ROUND((G23*I23)/26*(J23+N23*0.5+P23*0.5),0) | V23: =ROUND((F23+G23*I23)/26/8*S23,0) | W23: =ROUND((F23+G23*I23)/26*L23,0) | X23: =ROUND(R23*50000,0) | Y23: 500000 | Z23: 0 | AA23: 0 | AC23: 0 | AD23: 0 | AE23: 0 | AG23: =SUM(T23:AF23) | AH23: =IF(X23<=1200000,X23,1200000) | AL23: =AG23-(AH23+Y23+V23) | AM23: 1000000 | AP23: 780150 | AQ23: 15500000 | AR23: 1 | AT23: =AQ23+AR23*6200000 | AU23: =IF((AL23+AM23-AP23-AT23)<0,0,(AL23+AM23-AP23-AT23)) | AV23: =ROUND(IF(AU23<=10000000,AU23*5%,IF(AU23<=30000000,AU23*10%-500000,IF(AU23<=60000000,AU23*20%-3500000,IF(AU23<=100000000,AU23*30%-9500000,AU23*35%-14500000)))),0) | AZ23: =ROUND(F23*0.5%,0) | BB23: =ROUND(AG23-AP23-AV23-AZ23,0)
A24: 13 | C24: 10004026 | D24: Lê Thị Thùy Dương | E24: Trưởng phòng Tài chính Kế toán | F24: 8000000 | G24: 15000000 | I24: 1 | J24: =Cham_Cong_Hang_Ngay!AK21 | L24: =Cham_Cong_Hang_Ngay!AO21 | N24: 0 | P24: 0 | R24: =Cham_Cong_Hang_Ngay!AP21 | S24: =Cham_Cong_Hang_Ngay!AQ21 | T24: =ROUND(F24/26*(J24+N24+P24),0) | U24: =ROUND((G24*I24)/26*(J24+N24*0.5+P24*0.5),0) | V24: =ROUND((F24+G24*I24)/26/8*S24,0) | W24: =ROUND((F24+G24*I24)/26*L24,0) | X24: =ROUND(R24*50000,0) | Y24: 1000000 | Z24: 0 | AA24: 0 | AC24: 0 | AD24: 0 | AE24: 0 | AG24: =SUM(T24:AF24) | AH24: =IF(X24<=1200000,X24,1200000) | AL24: =AG24-(AH24+Y24+V24) | AM24: 1500000 | AP24: 1059450 | AQ24: 15500000 | AR24: 2 | AT24: =AQ24+AR24*6200000 | AU24: =IF((AL24+AM24-AP24-AT24)<0,0,(AL24+AM24-AP24-AT24)) | AV24: =ROUND(IF(AU24<=10000000,AU24*5%,IF(AU24<=30000000,AU24*10%-500000,IF(AU24<=60000000,AU24*20%-3500000,IF(AU24<=100000000,AU24*30%-9500000,AU24*35%-14500000)))),0) | AZ24: =ROUND(F24*0.5%,0) | BB24: =ROUND(AG24-AP24-AV24-AZ24,0)
A25: 14 | C25: 10005451 | D25: Thế Thị Trang | E25: Chuyên viên Kế toán | F25: 6000000 | G25: 10000000 | I25: 1 | J25: =Cham_Cong_Hang_Ngay!AK22 | L25: =Cham_Cong_Hang_Ngay!AO22 | N25: 0 | P25: 0 | R25: =Cham_Cong_Hang_Ngay!AP22 | S25: =Cham_Cong_Hang_Ngay!AQ22 | T25: =ROUND(F25/26*(J25+N25+P25),0) | U25: =ROUND((G25*I25)/26*(J25+N25*0.5+P25*0.5),0) | V25: =ROUND((F25+G25*I25)/26/8*S25,0) | W25: =ROUND((F25+G25*I25)/26*L25,0) | X25: =ROUND(R25*50000,0) | Y25: 500000 | Z25: 0 | AA25: 0 | AC25: 0 | AD25: 0 | AE25: 0 | AG25: =SUM(T25:AF25) | AH25: =IF(X25<=1200000,X25,1200000) | AL25: =AG25-(AH25+Y25+V25) | AM25: 1000000 | AP25: 780150 | AQ25: 15500000 | AR25: 1 | AT25: =AQ25+AR25*6200000 | AU25: =IF((AL25+AM25-AP25-AT25)<0,0,(AL25+AM25-AP25-AT25)) | AV25: =ROUND(IF(AU25<=10000000,AU25*5%,IF(AU25<=30000000,AU25*10%-500000,IF(AU25<=60000000,AU25*20%-3500000,IF(AU25<=100000000,AU25*30%-9500000,AU25*35%-14500000)))),0) | AZ25: =ROUND(F25*0.5%,0) | BB25: =ROUND(AG25-AP25-AV25-AZ25,0)
A26: 15 | C26: 10008554 | D26: Bùi Thị Thu Thủy | E26: Chuyên viên Kế toán | F26: 6000000 | G26: 10000000 | I26: 1 | J26: =Cham_Cong_Hang_Ngay!AK23 | L26: =Cham_Cong_Hang_Ngay!AO23 | N26: 0 | P26: 0 | R26: =Cham_Cong_Hang_Ngay!AP23 | S26: =Cham_Cong_Hang_Ngay!AQ23 | T26: =ROUND(F26/26*(J26+N26+P26),0) | U26: =ROUND((G26*I26)/26*(J26+N26*0.5+P26*0.5),0) | V26: =ROUND((F26+G26*I26)/26/8*S26,0) | W26: =ROUND((F26+G26*I26)/26*L26,0) | X26: =ROUND(R26*50000,0) | Y26: 500000 | Z26: 0 | AA26: 0 | AC26: 0 | AD26: 0 | AE26: 0 | AG26: =SUM(T26:AF26) | AH26: =IF(X26<=1200000,X26,1200000) | AL26: =AG26-(AH26+Y26+V26) | AM26: 1000000 | AP26: 743400 | AQ26: 15500000 | AR26: 1 | AT26: =AQ26+AR26*6200000 | AU26: =IF((AL26+AM26-AP26-AT26)<0,0,(AL26+AM26-AP26-AT26)) | AV26: =ROUND(IF(AU26<=10000000,AU26*5%,IF(AU26<=30000000,AU26*10%-500000,IF(AU26<=60000000,AU26*20%-3500000,IF(AU26<=100000000,AU26*30%-9500000,AU26*35%-14500000)))),0) | AZ26: =ROUND(F26*0.5%,0) | BB26: =ROUND(AG26-AP26-AV26-AZ26,0)
A27: 16 | C27: 10009041 | D27: Đỗ Thị Thảo | E27: Kế toán tổng hợp | F27: 6000000 | G27: 10000000 | I27: 1 | J27: =Cham_Cong_Hang_Ngay!AK24 | L27: =Cham_Cong_Hang_Ngay!AO24 | N27: 0 | P27: 0 | R27: =Cham_Cong_Hang_Ngay!AP24 | S27: =Cham_Cong_Hang_Ngay!AQ24 | T27: =ROUND(F27/26*(J27+N27+P27),0) | U27: =ROUND((G27*I27)/26*(J27+N27*0.5+P27*0.5),0) | V27: =ROUND((F27+G27*I27)/26/8*S27,0) | W27: =ROUND((F27+G27*I27)/26*L27,0) | X27: =ROUND(R27*50000,0) | Y27: 500000 | Z27: 0 | AA27: 0 | AC27: 0 | AD27: 0 | AE27: 0 | AG27: =SUM(T27:AF27) | AH27: =IF(X27<=1200000,X27,1200000) | AL27: =AG27-(AH27+Y27+V27) | AM27: 1000000 | AP27: 780150 | AQ27: 15500000 | AR27: 2 | AT27: =AQ27+AR27*6200000 | AU27: =IF((AL27+AM27-AP27-AT27)<0,0,(AL27+AM27-AP27-AT27)) | AV27: =ROUND(IF(AU27<=10000000,AU27*5%,IF(AU27<=30000000,AU27*10%-500000,IF(AU27<=60000000,AU27*20%-3500000,IF(AU27<=100000000,AU27*30%-9500000,AU27*35%-14500000)))),0) | AZ27: =ROUND(F27*0.5%,0) | BB27: =ROUND(AG27-AP27-AV27-AZ27,0)
A28: 17 | C28: 10012215 | D28: Nguyễn Thị Thắm | E28: Chuyên viên Kế toán | F28: 6000000 | G28: 10000000 | I28: 1 | J28: =Cham_Cong_Hang_Ngay!AK25 | L28: =Cham_Cong_Hang_Ngay!AO25 | N28: 0 | P28: 0 | R28: =Cham_Cong_Hang_Ngay!AP25 | S28: =Cham_Cong_Hang_Ngay!AQ25 | T28: =ROUND(F28/26*(J28+N28+P28),0) | U28: =ROUND((G28*I28)/26*(J28+N28*0.5+P28*0.5),0) | V28: =ROUND((F28+G28*I28)/26/8*S28,0) | W28: =ROUND((F28+G28*I28)/26*L28,0) | X28: =ROUND(R28*50000,0) | Y28: 500000 | Z28: 0 | AA28: 0 | AC28: 0 | AD28: 0 | AE28: 0 | AG28: =SUM(T28:AF28) | AH28: =IF(X28<=1200000,X28,1200000) | AL28: =AG28-(AH28+Y28+V28) | AM28: 0 | AP28: 630000 | AQ28: 15500000 | AR28: 0 | AT28: =AQ28+AR28*6200000 | AU28: =IF((AL28+AM28-AP28-AT28)<0,0,(AL28+AM28-AP28-AT28)) | AV28: =ROUND(IF(AU28<=10000000,AU28*5%,IF(AU28<=30000000,AU28*10%-500000,IF(AU28<=60000000,AU28*20%-3500000,IF(AU28<=100000000,AU28*30%-9500000,AU28*35%-14500000)))),0) | AZ28: =ROUND(F28*0.5%,0) | BB28: =ROUND(AG28-AP28-AV28-AZ28,0)
A29: CỘNG 3 - PHÒNG TÀI CHÍNH - KẾ TOÁN: | F29: =SUM(F23:F28) | G29: =SUM(G23:G28) | T29: =SUM(T23:T28) | U29: =SUM(U23:U28) | V29: =SUM(V23:V28) | W29: =SUM(W23:W28) | X29: =SUM(X23:X28) | Y29: =SUM(Y23:Y28) | Z29: =SUM(Z23:Z28) | AA29: =SUM(AA23:AA28) | AC29: =SUM(AC23:AC28) | AD29: =SUM(AD23:AD28) | AE29: =SUM(AE23:AE28) | AG29: =SUM(AG23:AG28) | AL29: =SUM(AL23:AL28) | AM29: =SUM(AM23:AM28) | AP29: =SUM(AP23:AP28) | AV29: =SUM(AV23:AV28) | AZ29: =SUM(AZ23:AZ28) | BB29: =SUM(BB23:BB28)
A30: 4 - PHÒNG HÀNH CHÍNH NHÂN SỰ
A31: 18 | C31: 10003676 | D31: Nguyễn Thị Kim Chi | E31: Trưởng phòng Hành chính Nhân sự | F31: 8000000 | G31: 15000000 | I31: 1 | J31: =Cham_Cong_Hang_Ngay!AK26 | L31: =Cham_Cong_Hang_Ngay!AO26 | N31: 0 | P31: 0 | R31: =Cham_Cong_Hang_Ngay!AP26 | S31: =Cham_Cong_Hang_Ngay!AQ26 | T31: =ROUND(F31/26*(J31+N31+P31),0) | U31: =ROUND((G31*I31)/26*(J31+N31*0.5+P31*0.5),0) | V31: =ROUND((F31+G31*I31)/26/8*S31,0) | W31: =ROUND((F31+G31*I31)/26*L31,0) | X31: =ROUND(R31*50000,0) | Y31: 1000000 | Z31: 0 | AA31: 0 | AC31: 0 | AD31: 0 | AE31: 0 | AG31: =SUM(T31:AF31) | AH31: =IF(X31<=1200000,X31,1200000) | AL31: =AG31-(AH31+Y31+V31) | AM31: 1500000 | AP31: 1005900 | AQ31: 15500000 | AR31: 1 | AT31: =AQ31+AR31*6200000 | AU31: =IF((AL31+AM31-AP31-AT31)<0,0,(AL31+AM31-AP31-AT31)) | AV31: =ROUND(IF(AU31<=10000000,AU31*5%,IF(AU31<=30000000,AU31*10%-500000,IF(AU31<=60000000,AU31*20%-3500000,IF(AU31<=100000000,AU31*30%-9500000,AU31*35%-14500000)))),0) | AZ31: =ROUND(F31*0.5%,0) | BB31: =ROUND(AG31-AP31-AV31-AZ31,0)
A32: 19 | C32: 10004041 | D32: Thế Thị Minh Tâm | E32: Chuyên viên Nhân sự | F32: 6000000 | G32: 10000000 | I32: 1 | J32: =Cham_Cong_Hang_Ngay!AK27 | L32: =Cham_Cong_Hang_Ngay!AO27 | N32: 0 | P32: 0 | R32: =Cham_Cong_Hang_Ngay!AP27 | S32: =Cham_Cong_Hang_Ngay!AQ27 | T32: =ROUND(F32/26*(J32+N32+P32),0) | U32: =ROUND((G32*I32)/26*(J32+N32*0.5+P32*0.5),0) | V32: =ROUND((F32+G32*I32)/26/8*S32,0) | W32: =ROUND((F32+G32*I32)/26*L32,0) | X32: =ROUND(R32*50000,0) | Y32: 500000 | Z32: 0 | AA32: 0 | AC32: 0 | AD32: 0 | AE32: 0 | AG32: =SUM(T32:AF32) | AH32: =IF(X32<=1200000,X32,1200000) | AL32: =AG32-(AH32+Y32+V32) | AM32: 1000000 | AP32: 743400 | AQ32: 15500000 | AR32: 0 | AT32: =AQ32+AR32*6200000 | AU32: =IF((AL32+AM32-AP32-AT32)<0,0,(AL32+AM32-AP32-AT32)) | AV32: =ROUND(IF(AU32<=10000000,AU32*5%,IF(AU32<=30000000,AU32*10%-500000,IF(AU32<=60000000,AU32*20%-3500000,IF(AU32<=100000000,AU32*30%-9500000,AU32*35%-14500000)))),0) | AZ32: =ROUND(F32*0.5%,0) | BB32: =ROUND(AG32-AP32-AV32-AZ32,0)
A33: 20 | C33: 10004042 | D33: Nguyễn Văn Minh | E33: Nhân viên Lái xe | F33: 6000000 | G33: 10000000 | I33: 1 | J33: =Cham_Cong_Hang_Ngay!AK28 | L33: =Cham_Cong_Hang_Ngay!AO28 | N33: 0 | P33: 0 | R33: =Cham_Cong_Hang_Ngay!AP28 | S33: =Cham_Cong_Hang_Ngay!AQ28 | T33: =ROUND(F33/26*(J33+N33+P33),0) | U33: =ROUND((G33*I33)/26*(J33+N33*0.5+P33*0.5),0) | V33: =ROUND((F33+G33*I33)/26/8*S33,0) | W33: =ROUND((F33+G33*I33)/26*L33,0) | X33: =ROUND(R33*50000,0) | Y33: 300000 | Z33: 0 | AA33: 0 | AC33: 0 | AD33: 0 | AE33: 0 | AG33: =SUM(T33:AF33) | AH33: =IF(X33<=1200000,X33,1200000) | AL33: =AG33-(AH33+Y33+V33) | AM33: 800000 | AP33: 695100 | AQ33: 15500000 | AR33: 0 | AT33: =AQ33+AR33*6200000 | AU33: =IF((AL33+AM33-AP33-AT33)<0,0,(AL33+AM33-AP33-AT33)) | AV33: =ROUND(IF(AU33<=10000000,AU33*5%,IF(AU33<=30000000,AU33*10%-500000,IF(AU33<=60000000,AU33*20%-3500000,IF(AU33<=100000000,AU33*30%-9500000,AU33*35%-14500000)))),0) | AZ33: =ROUND(F33*0.5%,0) | BB33: =ROUND(AG33-AP33-AV33-AZ33,0)
A34: 21 | C34: 10004074 | D34: Vũ Thị Thu Lan | E34: Chuyên viên Nhân sự | F34: 6000000 | G34: 10000000 | I34: 1 | J34: =Cham_Cong_Hang_Ngay!AK29 | L34: =Cham_Cong_Hang_Ngay!AO29 | N34: 0 | P34: 0 | R34: =Cham_Cong_Hang_Ngay!AP29 | S34: =Cham_Cong_Hang_Ngay!AQ29 | T34: =ROUND(F34/26*(J34+N34+P34),0) | U34: =ROUND((G34*I34)/26*(J34+N34*0.5+P34*0.5),0) | V34: =ROUND((F34+G34*I34)/26/8*S34,0) | W34: =ROUND((F34+G34*I34)/26*L34,0) | X34: =ROUND(R34*50000,0) | Y34: 500000 | Z34: 0 | AA34: 2800000 | AC34: 0 | AD34: 0 | AE34: 0 | AG34: =SUM(T34:AF34) | AH34: =IF(X34<=1200000,X34,1200000) | AL34: =AG34-(AH34+Y34+V34) | AM34: 1000000 | AP34: 861000 | AQ34: 15500000 | AR34: 1 | AT34: =AQ34+AR34*6200000 | AU34: =IF((AL34+AM34-AP34-AT34)<0,0,(AL34+AM34-AP34-AT34)) | AV34: =ROUND(IF(AU34<=10000000,AU34*5%,IF(AU34<=30000000,AU34*10%-500000,IF(AU34<=60000000,AU34*20%-3500000,IF(AU34<=100000000,AU34*30%-9500000,AU34*35%-14500000)))),0) | AZ34: =ROUND(F34*0.5%,0) | BB34: =ROUND(AG34-AP34-AV34-AZ34,0)
A35: 22 | C35: 10004152 | D35: Nguyễn Thị Xuân | E35: Tạp vụ- CTV | F35: 0 | G35: 0 | I35: 1 | J35: =Cham_Cong_Hang_Ngay!AK30 | L35: =Cham_Cong_Hang_Ngay!AO30 | N35: 0 | P35: 0 | R35: =Cham_Cong_Hang_Ngay!AP30 | S35: =Cham_Cong_Hang_Ngay!AQ30 | T35: =ROUND(F35/26*(J35+N35+P35),0) | U35: =ROUND((G35*I35)/26*(J35+N35*0.5+P35*0.5),0) | V35: =ROUND((F35+G35*I35)/26/8*S35,0) | W35: =ROUND((F35+G35*I35)/26*L35,0) | X35: =ROUND(R35*50000,0) | Y35: 0 | Z35: 0 | AA35: 0 | AC35: 3000000 | AD35: 0 | AE35: 0 | AG35: =SUM(T35:AF35) | AH35: =IF(X35<=1200000,X35,1200000) | AL35: =AG35-(AH35+Y35+V35) | AM35: 300000 | AP35: 0 | AQ35: 15500000 | AR35: 0 | AT35: =AQ35+AR35*6200000 | AU35: =IF((AL35+AM35-AP35-AT35)<0,0,(AL35+AM35-AP35-AT35)) | AV35: =ROUND(IF(AU35<=10000000,AU35*5%,IF(AU35<=30000000,AU35*10%-500000,IF(AU35<=60000000,AU35*20%-3500000,IF(AU35<=100000000,AU35*30%-9500000,AU35*35%-14500000)))),0) | AZ35: =ROUND(F35*0.5%,0) | BB35: =ROUND(AG35-AP35-AV35-AZ35,0)
A36: 23 | C36: 10004472 | D36: Phạm Thị Tuyết Mai | E36: Chuyên viên Nhân sự | F36: 6000000 | G36: 10000000 | I36: 1 | J36: =Cham_Cong_Hang_Ngay!AK31 | L36: =Cham_Cong_Hang_Ngay!AO31 | N36: 0 | P36: 0 | R36: =Cham_Cong_Hang_Ngay!AP31 | S36: =Cham_Cong_Hang_Ngay!AQ31 | T36: =ROUND(F36/26*(J36+N36+P36),0) | U36: =ROUND((G36*I36)/26*(J36+N36*0.5+P36*0.5),0) | V36: =ROUND((F36+G36*I36)/26/8*S36,0) | W36: =ROUND((F36+G36*I36)/26*L36,0) | X36: =ROUND(R36*50000,0) | Y36: 500000 | Z36: 0 | AA36: 0 | AC36: 0 | AD36: 0 | AE36: 0 | AG36: =SUM(T36:AF36) | AH36: =IF(X36<=1200000,X36,1200000) | AL36: =AG36-(AH36+Y36+V36) | AM36: 1000000 | AP36: 780150 | AQ36: 15500000 | AR36: 1 | AT36: =AQ36+AR36*6200000 | AU36: =IF((AL36+AM36-AP36-AT36)<0,0,(AL36+AM36-AP36-AT36)) | AV36: =ROUND(IF(AU36<=10000000,AU36*5%,IF(AU36<=30000000,AU36*10%-500000,IF(AU36<=60000000,AU36*20%-3500000,IF(AU36<=100000000,AU36*30%-9500000,AU36*35%-14500000)))),0) | AZ36: =ROUND(F36*0.5%,0) | BB36: =ROUND(AG36-AP36-AV36-AZ36,0)
A37: 24 | C37: 10011040 | D37: Nguyễn Kim Dũng | E37: Nhân viên Lái xe | F37: 6000000 | G37: 10000000 | I37: 1 | J37: =Cham_Cong_Hang_Ngay!AK32 | L37: =Cham_Cong_Hang_Ngay!AO32 | N37: 0 | P37: 0 | R37: =Cham_Cong_Hang_Ngay!AP32 | S37: =Cham_Cong_Hang_Ngay!AQ32 | T37: =ROUND(F37/26*(J37+N37+P37),0) | U37: =ROUND((G37*I37)/26*(J37+N37*0.5+P37*0.5),0) | V37: =ROUND((F37+G37*I37)/26/8*S37,0) | W37: =ROUND((F37+G37*I37)/26*L37,0) | X37: =ROUND(R37*50000,0) | Y37: 300000 | Z37: 0 | AA37: 0 | AC37: 0 | AD37: 0 | AE37: 0 | AG37: =SUM(T37:AF37) | AH37: =IF(X37<=1200000,X37,1200000) | AL37: =AG37-(AH37+Y37+V37) | AM37: 800000 | AP37: 662550 | AQ37: 15500000 | AR37: 0 | AT37: =AQ37+AR37*6200000 | AU37: =IF((AL37+AM37-AP37-AT37)<0,0,(AL37+AM37-AP37-AT37)) | AV37: =ROUND(IF(AU37<=10000000,AU37*5%,IF(AU37<=30000000,AU37*10%-500000,IF(AU37<=60000000,AU37*20%-3500000,IF(AU37<=100000000,AU37*30%-9500000,AU37*35%-14500000)))),0) | AZ37: =ROUND(F37*0.5%,0) | BB37: =ROUND(AG37-AP37-AV37-AZ37,0)
A38: 25 | C38: 10012266 | D38: Trần Đặng Quỳnh Anh | E38: Nhân viên hành chính | F38: 6000000 | G38: 10000000 | I38: 1 | J38: =Cham_Cong_Hang_Ngay!AK33 | L38: =Cham_Cong_Hang_Ngay!AO33 | N38: 0 | P38: 0 | R38: =Cham_Cong_Hang_Ngay!AP33 | S38: =Cham_Cong_Hang_Ngay!AQ33 | T38: =ROUND(F38/26*(J38+N38+P38),0) | U38: =ROUND((G38*I38)/26*(J38+N38*0.5+P38*0.5),0) | V38: =ROUND((F38+G38*I38)/26/8*S38,0) | W38: =ROUND((F38+G38*I38)/26*L38,0) | X38: =ROUND(R38*50000,0) | Y38: 500000 | Z38: 0 | AA38: 0 | AC38: 0 | AD38: 0 | AE38: 0 | AG38: =SUM(T38:AF38) | AH38: =IF(X38<=1200000,X38,1200000) | AL38: =AG38-(AH38+Y38+V38) | AM38: 1000000 | AP38: 708750 | AQ38: 15500000 | AR38: 0 | AT38: =AQ38+AR38*6200000 | AU38: =IF((AL38+AM38-AP38-AT38)<0,0,(AL38+AM38-AP38-AT38)) | AV38: =ROUND(IF(AU38<=10000000,AU38*5%,IF(AU38<=30000000,AU38*10%-500000,IF(AU38<=60000000,AU38*20%-3500000,IF(AU38<=100000000,AU38*30%-9500000,AU38*35%-14500000)))),0) | AZ38: =ROUND(F38*0.5%,0) | BB38: =ROUND(AG38-AP38-AV38-AZ38,0)
A39: CỘNG 4 - PHÒNG HÀNH CHÍNH NHÂN SỰ: | F39: =SUM(F31:F38) | G39: =SUM(G31:G38) | T39: =SUM(T31:T38) | U39: =SUM(U31:U38) | V39: =SUM(V31:V38) | W39: =SUM(W31:W38) | X39: =SUM(X31:X38) | Y39: =SUM(Y31:Y38) | Z39: =SUM(Z31:Z38) | AA39: =SUM(AA31:AA38) | AC39: =SUM(AC31:AC38) | AD39: =SUM(AD31:AD38) | AE39: =SUM(AE31:AE38) | AG39: =SUM(AG31:AG38) | AL39: =SUM(AL31:AL38) | AM39: =SUM(AM31:AM38) | AP39: =SUM(AP31:AP38) | AV39: =SUM(AV31:AV38) | AZ39: =SUM(AZ31:AZ38) | BB39: =SUM(BB31:BB38)
A40: 5 - PHÒNG KINH TẾ ĐẤU THẦU
A41: 26 | C41: 10003666 | D41: Lê Đức Hùng | E41: Chuyên viên Kinh tế Đấu thầu | F41: 6000000 | G41: 10000000 | I41: 1 | J41: =Cham_Cong_Hang_Ngay!AK34 | L41: =Cham_Cong_Hang_Ngay!AO34 | N41: 0 | P41: 0 | R41: =Cham_Cong_Hang_Ngay!AP34 | S41: =Cham_Cong_Hang_Ngay!AQ34 | T41: =ROUND(F41/26*(J41+N41+P41),0) | U41: =ROUND((G41*I41)/26*(J41+N41*0.5+P41*0.5),0) | V41: =ROUND((F41+G41*I41)/26/8*S41,0) | W41: =ROUND((F41+G41*I41)/26*L41,0) | X41: =ROUND(R41*50000,0) | Y41: 500000 | Z41: 0 | AA41: 3000000 | AC41: 0 | AD41: 288462 | AE41: 0 | AG41: =SUM(T41:AF41) | AH41: =IF(X41<=1200000,X41,1200000) | AL41: =AG41-(AH41+Y41+V41) | AM41: 1000000 | AP41: 819000 | AQ41: 15500000 | AR41: 1 | AT41: =AQ41+AR41*6200000 | AU41: =IF((AL41+AM41-AP41-AT41)<0,0,(AL41+AM41-AP41-AT41)) | AV41: =ROUND(IF(AU41<=10000000,AU41*5%,IF(AU41<=30000000,AU41*10%-500000,IF(AU41<=60000000,AU41*20%-3500000,IF(AU41<=100000000,AU41*30%-9500000,AU41*35%-14500000)))),0) | AZ41: =ROUND(F41*0.5%,0) | BB41: =ROUND(AG41-AP41-AV41-AZ41,0)
A42: 27 | C42: 10003667 | D42: Trương Đức Cường | E42: Trưởng nhóm đấu thầu | F42: 8000000 | G42: 15000000 | I42: 1 | J42: =Cham_Cong_Hang_Ngay!AK35 | L42: =Cham_Cong_Hang_Ngay!AO35 | N42: 0 | P42: 0 | R42: =Cham_Cong_Hang_Ngay!AP35 | S42: =Cham_Cong_Hang_Ngay!AQ35 | T42: =ROUND(F42/26*(J42+N42+P42),0) | U42: =ROUND((G42*I42)/26*(J42+N42*0.5+P42*0.5),0) | V42: =ROUND((F42+G42*I42)/26/8*S42,0) | W42: =ROUND((F42+G42*I42)/26*L42,0) | X42: =ROUND(R42*50000,0) | Y42: 500000 | Z42: 0 | AA42: 0 | AC42: 0 | AD42: 0 | AE42: 0 | AG42: =SUM(T42:AF42) | AH42: =IF(X42<=1200000,X42,1200000) | AL42: =AG42-(AH42+Y42+V42) | AM42: 1000000 | AP42: 861000 | AQ42: 15500000 | AR42: 2 | AT42: =AQ42+AR42*6200000 | AU42: =IF((AL42+AM42-AP42-AT42)<0,0,(AL42+AM42-AP42-AT42)) | AV42: =ROUND(IF(AU42<=10000000,AU42*5%,IF(AU42<=30000000,AU42*10%-500000,IF(AU42<=60000000,AU42*20%-3500000,IF(AU42<=100000000,AU42*30%-9500000,AU42*35%-14500000)))),0) | AZ42: =ROUND(F42*0.5%,0) | BB42: =ROUND(AG42-AP42-AV42-AZ42,0)
A43: 28 | C43: 10003668 | D43: Bùi Thị Hoa | E43: Chuyên viên Kinh tế Đấu thầu | F43: 6000000 | G43: 10000000 | I43: 1 | J43: =Cham_Cong_Hang_Ngay!AK36 | L43: =Cham_Cong_Hang_Ngay!AO36 | N43: 0 | P43: 0 | R43: =Cham_Cong_Hang_Ngay!AP36 | S43: =Cham_Cong_Hang_Ngay!AQ36 | T43: =ROUND(F43/26*(J43+N43+P43),0) | U43: =ROUND((G43*I43)/26*(J43+N43*0.5+P43*0.5),0) | V43: =ROUND((F43+G43*I43)/26/8*S43,0) | W43: =ROUND((F43+G43*I43)/26*L43,0) | X43: =ROUND(R43*50000,0) | Y43: 500000 | Z43: 0 | AA43: 0 | AC43: 0 | AD43: 0 | AE43: 0 | AG43: =SUM(T43:AF43) | AH43: =IF(X43<=1200000,X43,1200000) | AL43: =AG43-(AH43+Y43+V43) | AM43: 1000000 | AP43: 780150 | AQ43: 15500000 | AR43: 1 | AT43: =AQ43+AR43*6200000 | AU43: =IF((AL43+AM43-AP43-AT43)<0,0,(AL43+AM43-AP43-AT43)) | AV43: =ROUND(IF(AU43<=10000000,AU43*5%,IF(AU43<=30000000,AU43*10%-500000,IF(AU43<=60000000,AU43*20%-3500000,IF(AU43<=100000000,AU43*30%-9500000,AU43*35%-14500000)))),0) | AZ43: =ROUND(F43*0.5%,0) | BB43: =ROUND(AG43-AP43-AV43-AZ43,0)
A44: 29 | C44: 10003733.FCIC | D44: Nguyễn Hồng Thái | E44: Chuyên viên Kinh tế Đấu thầu | F44: 6000000 | G44: 10000000 | I44: 1 | J44: =Cham_Cong_Hang_Ngay!AK37 | L44: =Cham_Cong_Hang_Ngay!AO37 | N44: 0 | P44: 0 | R44: =Cham_Cong_Hang_Ngay!AP37 | S44: =Cham_Cong_Hang_Ngay!AQ37 | T44: =ROUND(F44/26*(J44+N44+P44),0) | U44: =ROUND((G44*I44)/26*(J44+N44*0.5+P44*0.5),0) | V44: =ROUND((F44+G44*I44)/26/8*S44,0) | W44: =ROUND((F44+G44*I44)/26*L44,0) | X44: =ROUND(R44*50000,0) | Y44: 500000 | Z44: 0 | AA44: 0 | AC44: 0 | AD44: 0 | AE44: 0 | AG44: =SUM(T44:AF44) | AH44: =IF(X44<=1200000,X44,1200000) | AL44: =AG44-(AH44+Y44+V44) | AM44: 1000000 | AP44: 743400 | AQ44: 15500000 | AR44: 0 | AT44: =AQ44+AR44*6200000 | AU44: =IF((AL44+AM44-AP44-AT44)<0,0,(AL44+AM44-AP44-AT44)) | AV44: =ROUND(IF(AU44<=10000000,AU44*5%,IF(AU44<=30000000,AU44*10%-500000,IF(AU44<=60000000,AU44*20%-3500000,IF(AU44<=100000000,AU44*30%-9500000,AU44*35%-14500000)))),0) | AZ44: =ROUND(F44*0.5%,0) | BB44: =ROUND(AG44-AP44-AV44-AZ44,0)
A45: 30 | C45: 10004047 | D45: Đặng Văn Thanh | E45: Chuyên viên Kinh tế Đấu thầu | F45: 6000000 | G45: 10000000 | I45: 1 | J45: =Cham_Cong_Hang_Ngay!AK38 | L45: =Cham_Cong_Hang_Ngay!AO38 | N45: 0 | P45: 0 | R45: =Cham_Cong_Hang_Ngay!AP38 | S45: =Cham_Cong_Hang_Ngay!AQ38 | T45: =ROUND(F45/26*(J45+N45+P45),0) | U45: =ROUND((G45*I45)/26*(J45+N45*0.5+P45*0.5),0) | V45: =ROUND((F45+G45*I45)/26/8*S45,0) | W45: =ROUND((F45+G45*I45)/26*L45,0) | X45: =ROUND(R45*50000,0) | Y45: 500000 | Z45: 0 | AA45: 0 | AC45: 0 | AD45: 0 | AE45: 0 | AG45: =SUM(T45:AF45) | AH45: =IF(X45<=1200000,X45,1200000) | AL45: =AG45-(AH45+Y45+V45) | AM45: 1000000 | AP45: 819000 | AQ45: 15500000 | AR45: 2 | AT45: =AQ45+AR45*6200000 | AU45: =IF((AL45+AM45-AP45-AT45)<0,0,(AL45+AM45-AP45-AT45)) | AV45: =ROUND(IF(AU45<=10000000,AU45*5%,IF(AU45<=30000000,AU45*10%-500000,IF(AU45<=60000000,AU45*20%-3500000,IF(AU45<=100000000,AU45*30%-9500000,AU45*35%-14500000)))),0) | AZ45: =ROUND(F45*0.5%,0) | BB45: =ROUND(AG45-AP45-AV45-AZ45,0)
A46: 31 | C46: 10006982 | D46: Phạm Văn Tuấn | E46: Chuyên viên Kinh tế Đấu thầu | F46: 6000000 | G46: 10000000 | I46: 1 | J46: =Cham_Cong_Hang_Ngay!AK39 | L46: =Cham_Cong_Hang_Ngay!AO39 | N46: 0 | P46: 0 | R46: =Cham_Cong_Hang_Ngay!AP39 | S46: =Cham_Cong_Hang_Ngay!AQ39 | T46: =ROUND(F46/26*(J46+N46+P46),0) | U46: =ROUND((G46*I46)/26*(J46+N46*0.5+P46*0.5),0) | V46: =ROUND((F46+G46*I46)/26/8*S46,0) | W46: =ROUND((F46+G46*I46)/26*L46,0) | X46: =ROUND(R46*50000,0) | Y46: 500000 | Z46: 0 | AA46: 0 | AC46: 0 | AD46: 0 | AE46: 0 | AG46: =SUM(T46:AF46) | AH46: =IF(X46<=1200000,X46,1200000) | AL46: =AG46-(AH46+Y46+V46) | AM46: 1000000 | AP46: 819000 | AQ46: 15500000 | AR46: 2 | AT46: =AQ46+AR46*6200000 | AU46: =IF((AL46+AM46-AP46-AT46)<0,0,(AL46+AM46-AP46-AT46)) | AV46: =ROUND(IF(AU46<=10000000,AU46*5%,IF(AU46<=30000000,AU46*10%-500000,IF(AU46<=60000000,AU46*20%-3500000,IF(AU46<=100000000,AU46*30%-9500000,AU46*35%-14500000)))),0) | AZ46: =ROUND(F46*0.5%,0) | BB46: =ROUND(AG46-AP46-AV46-AZ46,0)
A47: 32 | C47: 10008167 | D47: Phạm Quang Bình | E47: Trưởng phòng Kinh tế Đấu thầu | F47: 8000000 | G47: 15000000 | I47: 1 | J47: =Cham_Cong_Hang_Ngay!AK40 | L47: =Cham_Cong_Hang_Ngay!AO40 | N47: 0 | P47: 0 | R47: =Cham_Cong_Hang_Ngay!AP40 | S47: =Cham_Cong_Hang_Ngay!AQ40 | T47: =ROUND(F47/26*(J47+N47+P47),0) | U47: =ROUND((G47*I47)/26*(J47+N47*0.5+P47*0.5),0) | V47: =ROUND((F47+G47*I47)/26/8*S47,0) | W47: =ROUND((F47+G47*I47)/26*L47,0) | X47: =ROUND(R47*50000,0) | Y47: 1000000 | Z47: 0 | AA47: 0 | AC47: 0 | AD47: 0 | AE47: 0 | AG47: =SUM(T47:AF47) | AH47: =IF(X47<=1200000,X47,1200000) | AL47: =AG47-(AH47+Y47+V47) | AM47: 1500000 | AP47: 1116150 | AQ47: 15500000 | AR47: 1 | AT47: =AQ47+AR47*6200000 | AU47: =IF((AL47+AM47-AP47-AT47)<0,0,(AL47+AM47-AP47-AT47)) | AV47: =ROUND(IF(AU47<=10000000,AU47*5%,IF(AU47<=30000000,AU47*10%-500000,IF(AU47<=60000000,AU47*20%-3500000,IF(AU47<=100000000,AU47*30%-9500000,AU47*35%-14500000)))),0) | AZ47: =ROUND(F47*0.5%,0) | BB47: =ROUND(AG47-AP47-AV47-AZ47,0)
A48: 33 | C48: 10012767 | D48: Ngô Minh Châu | E48: Chuyên viên Kinh tế Đấu thầu | F48: 6000000 | G48: 10000000 | I48: 1 | J48: =Cham_Cong_Hang_Ngay!AK41 | L48: =Cham_Cong_Hang_Ngay!AO41 | N48: 0 | P48: 0 | R48: =Cham_Cong_Hang_Ngay!AP41 | S48: =Cham_Cong_Hang_Ngay!AQ41 | T48: =ROUND(F48/26*(J48+N48+P48),0) | U48: =ROUND((G48*I48)/26*(J48+N48*0.5+P48*0.5),0) | V48: =ROUND((F48+G48*I48)/26/8*S48,0) | W48: =ROUND((F48+G48*I48)/26*L48,0) | X48: =ROUND(R48*50000,0) | Y48: 500000 | Z48: 0 | AA48: 0 | AC48: 0 | AD48: 0 | AE48: 0 | AG48: =SUM(T48:AF48) | AH48: =IF(X48<=1200000,X48,1200000) | AL48: =AG48-(AH48+Y48+V48) | AM48: 300000 | AP48: 630000 | AQ48: 15500000 | AR48: 0 | AT48: =AQ48+AR48*6200000 | AU48: =IF((AL48+AM48-AP48-AT48)<0,0,(AL48+AM48-AP48-AT48)) | AV48: =ROUND(IF(AU48<=10000000,AU48*5%,IF(AU48<=30000000,AU48*10%-500000,IF(AU48<=60000000,AU48*20%-3500000,IF(AU48<=100000000,AU48*30%-9500000,AU48*35%-14500000)))),0) | AZ48: =ROUND(F48*0.5%,0) | BB48: =ROUND(AG48-AP48-AV48-AZ48,0)
A49: CỘNG 5 - PHÒNG KINH TẾ ĐẤU THẦU: | F49: =SUM(F41:F48) | G49: =SUM(G41:G48) | T49: =SUM(T41:T48) | U49: =SUM(U41:U48) | V49: =SUM(V41:V48) | W49: =SUM(W41:W48) | X49: =SUM(X41:X48) | Y49: =SUM(Y41:Y48) | Z49: =SUM(Z41:Z48) | AA49: =SUM(AA41:AA48) | AC49: =SUM(AC41:AC48) | AD49: =SUM(AD41:AD48) | AE49: =SUM(AE41:AE48) | AG49: =SUM(AG41:AG48) | AL49: =SUM(AL41:AL48) | AM49: =SUM(AM41:AM48) | AP49: =SUM(AP41:AP48) | AV49: =SUM(AV41:AV48) | AZ49: =SUM(AZ41:AZ48) | BB49: =SUM(BB41:BB48)
A50: 6- PHÒNG KỸ THUẬT
A51: 34 | C51: 10000132.FCIC | D51: Vũ Văn Tuấn | E51: Phó phòng Kỹ thuật | F51: 8000000 | G51: 15000000 | I51: 1 | J51: =Cham_Cong_Hang_Ngay!AK42 | L51: =Cham_Cong_Hang_Ngay!AO42 | N51: 0 | P51: 0 | R51: =Cham_Cong_Hang_Ngay!AP42 | S51: =Cham_Cong_Hang_Ngay!AQ42 | T51: =ROUND(F51/26*(J51+N51+P51),0) | U51: =ROUND((G51*I51)/26*(J51+N51*0.5+P51*0.5),0) | V51: =ROUND((F51+G51*I51)/26/8*S51,0) | W51: =ROUND((F51+G51*I51)/26*L51,0) | X51: =ROUND(R51*50000,0) | Y51: 500000 | Z51: 0 | AA51: 0 | AC51: 0 | AD51: 173077 | AE51: 0 | AG51: =SUM(T51:AF51) | AH51: =IF(X51<=1200000,X51,1200000) | AL51: =AG51-(AH51+Y51+V51) | AM51: 1000000 | AP51: 955500 | AQ51: 15500000 | AR51: 1 | AT51: =AQ51+AR51*6200000 | AU51: =IF((AL51+AM51-AP51-AT51)<0,0,(AL51+AM51-AP51-AT51)) | AV51: =ROUND(IF(AU51<=10000000,AU51*5%,IF(AU51<=30000000,AU51*10%-500000,IF(AU51<=60000000,AU51*20%-3500000,IF(AU51<=100000000,AU51*30%-9500000,AU51*35%-14500000)))),0) | AZ51: =ROUND(F51*0.5%,0) | BB51: =ROUND(AG51-AP51-AV51-AZ51,0)
A52: 35 | C52: 10003458 | D52: Phạm Văn Quân | E52: Trưởng phòng Kỹ thuật | F52: 8000000 | G52: 15000000 | I52: 1 | J52: =Cham_Cong_Hang_Ngay!AK43 | L52: =Cham_Cong_Hang_Ngay!AO43 | N52: 0 | P52: 0 | R52: =Cham_Cong_Hang_Ngay!AP43 | S52: =Cham_Cong_Hang_Ngay!AQ43 | T52: =ROUND(F52/26*(J52+N52+P52),0) | U52: =ROUND((G52*I52)/26*(J52+N52*0.5+P52*0.5),0) | V52: =ROUND((F52+G52*I52)/26/8*S52,0) | W52: =ROUND((F52+G52*I52)/26*L52,0) | X52: =ROUND(R52*50000,0) | Y52: 1000000 | Z52: 0 | AA52: 0 | AC52: 0 | AD52: 0 | AE52: 0 | AG52: =SUM(T52:AF52) | AH52: =IF(X52<=1200000,X52,1200000) | AL52: =AG52-(AH52+Y52+V52) | AM52: 1500000 | AP52: 1059450 | AQ52: 15500000 | AR52: 4 | AT52: =AQ52+AR52*6200000 | AU52: =IF((AL52+AM52-AP52-AT52)<0,0,(AL52+AM52-AP52-AT52)) | AV52: =ROUND(IF(AU52<=10000000,AU52*5%,IF(AU52<=30000000,AU52*10%-500000,IF(AU52<=60000000,AU52*20%-3500000,IF(AU52<=100000000,AU52*30%-9500000,AU52*35%-14500000)))),0) | AZ52: =ROUND(F52*0.5%,0) | BB52: =ROUND(AG52-AP52-AV52-AZ52,0)
A53: 36 | C53: 10003652 | D53: Trần Thế Mùi | E53: Phó phòng Kỹ thuật | F53: 8000000 | G53: 15000000 | I53: 1 | J53: =Cham_Cong_Hang_Ngay!AK44 | L53: =Cham_Cong_Hang_Ngay!AO44 | N53: 0 | P53: 0 | R53: =Cham_Cong_Hang_Ngay!AP44 | S53: =Cham_Cong_Hang_Ngay!AQ44 | T53: =ROUND(F53/26*(J53+N53+P53),0) | U53: =ROUND((G53*I53)/26*(J53+N53*0.5+P53*0.5),0) | V53: =ROUND((F53+G53*I53)/26/8*S53,0) | W53: =ROUND((F53+G53*I53)/26*L53,0) | X53: =ROUND(R53*50000,0) | Y53: 500000 | Z53: 0 | AA53: 0 | AC53: 0 | AD53: 538462 | AE53: 0 | AG53: =SUM(T53:AF53) | AH53: =IF(X53<=1200000,X53,1200000) | AL53: =AG53-(AH53+Y53+V53) | AM53: 1000000 | AP53: 861000 | AQ53: 15500000 | AR53: 1 | AT53: =AQ53+AR53*6200000 | AU53: =IF((AL53+AM53-AP53-AT53)<0,0,(AL53+AM53-AP53-AT53)) | AV53: =ROUND(IF(AU53<=10000000,AU53*5%,IF(AU53<=30000000,AU53*10%-500000,IF(AU53<=60000000,AU53*20%-3500000,IF(AU53<=100000000,AU53*30%-9500000,AU53*35%-14500000)))),0) | AZ53: =ROUND(F53*0.5%,0) | BB53: =ROUND(AG53-AP53-AV53-AZ53,0)
A54: 37 | C54: 10004056 | D54: Lê Anh Đức | E54: Trưởng nhóm XLN | F54: 6000000 | G54: 10000000 | I54: 1 | J54: =Cham_Cong_Hang_Ngay!AK45 | L54: =Cham_Cong_Hang_Ngay!AO45 | N54: 0 | P54: 0 | R54: =Cham_Cong_Hang_Ngay!AP45 | S54: =Cham_Cong_Hang_Ngay!AQ45 | T54: =ROUND(F54/26*(J54+N54+P54),0) | U54: =ROUND((G54*I54)/26*(J54+N54*0.5+P54*0.5),0) | V54: =ROUND((F54+G54*I54)/26/8*S54,0) | W54: =ROUND((F54+G54*I54)/26*L54,0) | X54: =ROUND(R54*50000,0) | Y54: 500000 | Z54: 0 | AA54: 0 | AC54: 0 | AD54: 0 | AE54: 0 | AG54: =SUM(T54:AF54) | AH54: =IF(X54<=1200000,X54,1200000) | AL54: =AG54-(AH54+Y54+V54) | AM54: 1000000 | AP54: 901950 | AQ54: 15500000 | AR54: 1 | AT54: =AQ54+AR54*6200000 | AU54: =IF((AL54+AM54-AP54-AT54)<0,0,(AL54+AM54-AP54-AT54)) | AV54: =ROUND(IF(AU54<=10000000,AU54*5%,IF(AU54<=30000000,AU54*10%-500000,IF(AU54<=60000000,AU54*20%-3500000,IF(AU54<=100000000,AU54*30%-9500000,AU54*35%-14500000)))),0) | AZ54: =ROUND(F54*0.5%,0) | BB54: =ROUND(AG54-AP54-AV54-AZ54,0)
A55: 38 | C55: 10004259 | D55: Đỗ Ngọc An | E55: Chuyên viên Kỹ thuật | F55: 6000000 | G55: 10000000 | I55: 1 | J55: =Cham_Cong_Hang_Ngay!AK46 | L55: =Cham_Cong_Hang_Ngay!AO46 | N55: 0 | P55: 0 | R55: =Cham_Cong_Hang_Ngay!AP46 | S55: =Cham_Cong_Hang_Ngay!AQ46 | T55: =ROUND(F55/26*(J55+N55+P55),0) | U55: =ROUND((G55*I55)/26*(J55+N55*0.5+P55*0.5),0) | V55: =ROUND((F55+G55*I55)/26/8*S55,0) | W55: =ROUND((F55+G55*I55)/26*L55,0) | X55: =ROUND(R55*50000,0) | Y55: 500000 | Z55: 0 | AA55: 0 | AC55: 0 | AD55: 0 | AE55: 0 | AG55: =SUM(T55:AF55) | AH55: =IF(X55<=1200000,X55,1200000) | AL55: =AG55-(AH55+Y55+V55) | AM55: 1000000 | AP55: 819000 | AQ55: 15500000 | AR55: 2 | AT55: =AQ55+AR55*6200000 | AU55: =IF((AL55+AM55-AP55-AT55)<0,0,(AL55+AM55-AP55-AT55)) | AV55: =ROUND(IF(AU55<=10000000,AU55*5%,IF(AU55<=30000000,AU55*10%-500000,IF(AU55<=60000000,AU55*20%-3500000,IF(AU55<=100000000,AU55*30%-9500000,AU55*35%-14500000)))),0) | AZ55: =ROUND(F55*0.5%,0) | BB55: =ROUND(AG55-AP55-AV55-AZ55,0)
A56: 39 | C56: 10005086 | D56: Bùi Văn Dương | E56: Trưởng nhóm | F56: 6000000 | G56: 10000000 | I56: 1 | J56: =Cham_Cong_Hang_Ngay!AK47 | L56: =Cham_Cong_Hang_Ngay!AO47 | N56: 0 | P56: 0 | R56: =Cham_Cong_Hang_Ngay!AP47 | S56: =Cham_Cong_Hang_Ngay!AQ47 | T56: =ROUND(F56/26*(J56+N56+P56),0) | U56: =ROUND((G56*I56)/26*(J56+N56*0.5+P56*0.5),0) | V56: =ROUND((F56+G56*I56)/26/8*S56,0) | W56: =ROUND((F56+G56*I56)/26*L56,0) | X56: =ROUND(R56*50000,0) | Y56: 500000 | Z56: 0 | AA56: 0 | AC56: 0 | AD56: 0 | AE56: 0 | AG56: =SUM(T56:AF56) | AH56: =IF(X56<=1200000,X56,1200000) | AL56: =AG56-(AH56+Y56+V56) | AM56: 1000000 | AP56: 743400 | AQ56: 15500000 | AR56: 1 | AT56: =AQ56+AR56*6200000 | AU56: =IF((AL56+AM56-AP56-AT56)<0,0,(AL56+AM56-AP56-AT56)) | AV56: =ROUND(IF(AU56<=10000000,AU56*5%,IF(AU56<=30000000,AU56*10%-500000,IF(AU56<=60000000,AU56*20%-3500000,IF(AU56<=100000000,AU56*30%-9500000,AU56*35%-14500000)))),0) | AZ56: =ROUND(F56*0.5%,0) | BB56: =ROUND(AG56-AP56-AV56-AZ56,0)
A57: 40 | C57: 10012620 | D57: Trần Hồng Phúc | E57: Chuyên viên Kỹ thuật | F57: 6000000 | G57: 10000000 | I57: 1 | J57: =Cham_Cong_Hang_Ngay!AK48 | L57: =Cham_Cong_Hang_Ngay!AO48 | N57: 0 | P57: 0 | R57: =Cham_Cong_Hang_Ngay!AP48 | S57: =Cham_Cong_Hang_Ngay!AQ48 | T57: =ROUND(F57/26*(J57+N57+P57),0) | U57: =ROUND((G57*I57)/26*(J57+N57*0.5+P57*0.5),0) | V57: =ROUND((F57+G57*I57)/26/8*S57,0) | W57: =ROUND((F57+G57*I57)/26*L57,0) | X57: =ROUND(R57*50000,0) | Y57: 500000 | Z57: 0 | AA57: 0 | AC57: 0 | AD57: 230769 | AE57: 0 | AG57: =SUM(T57:AF57) | AH57: =IF(X57<=1200000,X57,1200000) | AL57: =AG57-(AH57+Y57+V57) | AM57: 300000 | AP57: 630000 | AQ57: 15500000 | AR57: 0 | AT57: =AQ57+AR57*6200000 | AU57: =IF((AL57+AM57-AP57-AT57)<0,0,(AL57+AM57-AP57-AT57)) | AV57: =ROUND(IF(AU57<=10000000,AU57*5%,IF(AU57<=30000000,AU57*10%-500000,IF(AU57<=60000000,AU57*20%-3500000,IF(AU57<=100000000,AU57*30%-9500000,AU57*35%-14500000)))),0) | AZ57: =ROUND(F57*0.5%,0) | BB57: =ROUND(AG57-AP57-AV57-AZ57,0)
A58: 41 | C58: 10012663 | D58: Nguyễn Lâm Thanh | E58: Chuyên viên Kỹ thuật | F58: 6000000 | G58: 10000000 | I58: 1 | J58: =Cham_Cong_Hang_Ngay!AK49 | L58: =Cham_Cong_Hang_Ngay!AO49 | N58: 0 | P58: 0 | R58: =Cham_Cong_Hang_Ngay!AP49 | S58: =Cham_Cong_Hang_Ngay!AQ49 | T58: =ROUND(F58/26*(J58+N58+P58),0) | U58: =ROUND((G58*I58)/26*(J58+N58*0.5+P58*0.5),0) | V58: =ROUND((F58+G58*I58)/26/8*S58,0) | W58: =ROUND((F58+G58*I58)/26*L58,0) | X58: =ROUND(R58*50000,0) | Y58: 500000 | Z58: 0 | AA58: 0 | AC58: 0 | AD58: 115385 | AE58: 0 | AG58: =SUM(T58:AF58) | AH58: =IF(X58<=1200000,X58,1200000) | AL58: =AG58-(AH58+Y58+V58) | AM58: 300000 | AP58: 630000 | AQ58: 15500000 | AR58: 0 | AT58: =AQ58+AR58*6200000 | AU58: =IF((AL58+AM58-AP58-AT58)<0,0,(AL58+AM58-AP58-AT58)) | AV58: =ROUND(IF(AU58<=10000000,AU58*5%,IF(AU58<=30000000,AU58*10%-500000,IF(AU58<=60000000,AU58*20%-3500000,IF(AU58<=100000000,AU58*30%-9500000,AU58*35%-14500000)))),0) | AZ58: =ROUND(F58*0.5%,0) | BB58: =ROUND(AG58-AP58-AV58-AZ58,0)
A59: 42 | C59: 10012769 | D59: Nguyễn Quang Minh | E59: Học việc | F59: 6000000 | G59: 10000000 | I59: 1 | J59: =Cham_Cong_Hang_Ngay!AK50 | L59: =Cham_Cong_Hang_Ngay!AO50 | N59: 0 | P59: 0 | R59: =Cham_Cong_Hang_Ngay!AP50 | S59: =Cham_Cong_Hang_Ngay!AQ50 | T59: =ROUND(F59/26*(J59+N59+P59),0) | U59: =ROUND((G59*I59)/26*(J59+N59*0.5+P59*0.5),0) | V59: =ROUND((F59+G59*I59)/26/8*S59,0) | W59: =ROUND((F59+G59*I59)/26*L59,0) | X59: =ROUND(R59*50000,0) | Y59: 0 | Z59: 0 | AA59: 0 | AC59: 0 | AD59: 0 | AE59: 0 | AG59: =SUM(T59:AF59) | AH59: =IF(X59<=1200000,X59,1200000) | AL59: =AG59-(AH59+Y59+V59) | AM59: 0 | AP59: 630000 | AQ59: 15500000 | AR59: 0 | AT59: =AQ59+AR59*6200000 | AU59: =IF((AL59+AM59-AP59-AT59)<0,0,(AL59+AM59-AP59-AT59)) | AV59: =ROUND(IF(AU59<=10000000,AU59*5%,IF(AU59<=30000000,AU59*10%-500000,IF(AU59<=60000000,AU59*20%-3500000,IF(AU59<=100000000,AU59*30%-9500000,AU59*35%-14500000)))),0) | AZ59: =ROUND(F59*0.5%,0) | BB59: =ROUND(AG59-AP59-AV59-AZ59,0)
A60: CỘNG 6- PHÒNG KỸ THUẬT: | F60: =SUM(F51:F59) | G60: =SUM(G51:G59) | T60: =SUM(T51:T59) | U60: =SUM(U51:U59) | V60: =SUM(V51:V59) | W60: =SUM(W51:W59) | X60: =SUM(X51:X59) | Y60: =SUM(Y51:Y59) | Z60: =SUM(Z51:Z59) | AA60: =SUM(AA51:AA59) | AC60: =SUM(AC51:AC59) | AD60: =SUM(AD51:AD59) | AE60: =SUM(AE51:AE59) | AG60: =SUM(AG51:AG59) | AL60: =SUM(AL51:AL59) | AM60: =SUM(AM51:AM59) | AP60: =SUM(AP51:AP59) | AV60: =SUM(AV51:AV59) | AZ60: =SUM(AZ51:AZ59) | BB60: =SUM(BB51:BB59)
A61: 7 - PHÒNG CUNG ỨNG
A62: 43 | C62: 10003692 | D62: Trần Văn Nam | E62: Trưởng phòng Cung ứng | F62: 8000000 | G62: 15000000 | I62: 1 | J62: =Cham_Cong_Hang_Ngay!AK51 | L62: =Cham_Cong_Hang_Ngay!AO51 | N62: 0 | P62: 0 | R62: =Cham_Cong_Hang_Ngay!AP51 | S62: =Cham_Cong_Hang_Ngay!AQ51 | T62: =ROUND(F62/26*(J62+N62+P62),0) | U62: =ROUND((G62*I62)/26*(J62+N62*0.5+P62*0.5),0) | V62: =ROUND((F62+G62*I62)/26/8*S62,0) | W62: =ROUND((F62+G62*I62)/26*L62,0) | X62: =ROUND(R62*50000,0) | Y62: 1000000 | Z62: 0 | AA62: 0 | AC62: 0 | AD62: 0 | AE62: 0 | AG62: =SUM(T62:AF62) | AH62: =IF(X62<=1200000,X62,1200000) | AL62: =AG62-(AH62+Y62+V62) | AM62: 1500000 | AP62: 1059450 | AQ62: 15500000 | AR62: 2 | AT62: =AQ62+AR62*6200000 | AU62: =IF((AL62+AM62-AP62-AT62)<0,0,(AL62+AM62-AP62-AT62)) | AV62: =ROUND(IF(AU62<=10000000,AU62*5%,IF(AU62<=30000000,AU62*10%-500000,IF(AU62<=60000000,AU62*20%-3500000,IF(AU62<=100000000,AU62*30%-9500000,AU62*35%-14500000)))),0) | AZ62: =ROUND(F62*0.5%,0) | BB62: =ROUND(AG62-AP62-AV62-AZ62,0)
A63: 44 | C63: 10004046 | D63: Lê Quốc Việt | E63: Chuyên viên Cung ứng | F63: 6000000 | G63: 10000000 | I63: 1 | J63: =Cham_Cong_Hang_Ngay!AK52 | L63: =Cham_Cong_Hang_Ngay!AO52 | N63: 0 | P63: 0 | R63: =Cham_Cong_Hang_Ngay!AP52 | S63: =Cham_Cong_Hang_Ngay!AQ52 | T63: =ROUND(F63/26*(J63+N63+P63),0) | U63: =ROUND((G63*I63)/26*(J63+N63*0.5+P63*0.5),0) | V63: =ROUND((F63+G63*I63)/26/8*S63,0) | W63: =ROUND((F63+G63*I63)/26*L63,0) | X63: =ROUND(R63*50000,0) | Y63: 500000 | Z63: 0 | AA63: 0 | AC63: 0 | AD63: 57692 | AE63: 0 | AG63: =SUM(T63:AF63) | AH63: =IF(X63<=1200000,X63,1200000) | AL63: =AG63-(AH63+Y63+V63) | AM63: 1000000 | AP63: 819000 | AQ63: 15500000 | AR63: 0 | AT63: =AQ63+AR63*6200000 | AU63: =IF((AL63+AM63-AP63-AT63)<0,0,(AL63+AM63-AP63-AT63)) | AV63: =ROUND(IF(AU63<=10000000,AU63*5%,IF(AU63<=30000000,AU63*10%-500000,IF(AU63<=60000000,AU63*20%-3500000,IF(AU63<=100000000,AU63*30%-9500000,AU63*35%-14500000)))),0) | AZ63: =ROUND(F63*0.5%,0) | BB63: =ROUND(AG63-AP63-AV63-AZ63,0)
A64: 45 | C64: 10005008 | D64: Vũ Ngọc Tú | E64: Phó phòng Cung ứng | F64: 8000000 | G64: 15000000 | I64: 1 | J64: =Cham_Cong_Hang_Ngay!AK53 | L64: =Cham_Cong_Hang_Ngay!AO53 | N64: 0 | P64: 0 | R64: =Cham_Cong_Hang_Ngay!AP53 | S64: =Cham_Cong_Hang_Ngay!AQ53 | T64: =ROUND(F64/26*(J64+N64+P64),0) | U64: =ROUND((G64*I64)/26*(J64+N64*0.5+P64*0.5),0) | V64: =ROUND((F64+G64*I64)/26/8*S64,0) | W64: =ROUND((F64+G64*I64)/26*L64,0) | X64: =ROUND(R64*50000,0) | Y64: 500000 | Z64: 0 | AA64: 0 | AC64: 0 | AD64: 0 | AE64: 0 | AG64: =SUM(T64:AF64) | AH64: =IF(X64<=1200000,X64,1200000) | AL64: =AG64-(AH64+Y64+V64) | AM64: 1000000 | AP64: 861000 | AQ64: 15500000 | AR64: 2 | AT64: =AQ64+AR64*6200000 | AU64: =IF((AL64+AM64-AP64-AT64)<0,0,(AL64+AM64-AP64-AT64)) | AV64: =ROUND(IF(AU64<=10000000,AU64*5%,IF(AU64<=30000000,AU64*10%-500000,IF(AU64<=60000000,AU64*20%-3500000,IF(AU64<=100000000,AU64*30%-9500000,AU64*35%-14500000)))),0) | AZ64: =ROUND(F64*0.5%,0) | BB64: =ROUND(AG64-AP64-AV64-AZ64,0)
A65: 46 | C65: 10005233 | D65: Đỗ Dương Cảnh | E65: Chuyên viên Cung ứng | F65: 6000000 | G65: 10000000 | I65: 1 | J65: =Cham_Cong_Hang_Ngay!AK54 | L65: =Cham_Cong_Hang_Ngay!AO54 | N65: 0 | P65: 0 | R65: =Cham_Cong_Hang_Ngay!AP54 | S65: =Cham_Cong_Hang_Ngay!AQ54 | T65: =ROUND(F65/26*(J65+N65+P65),0) | U65: =ROUND((G65*I65)/26*(J65+N65*0.5+P65*0.5),0) | V65: =ROUND((F65+G65*I65)/26/8*S65,0) | W65: =ROUND((F65+G65*I65)/26*L65,0) | X65: =ROUND(R65*50000,0) | Y65: 500000 | Z65: 0 | AA65: 0 | AC65: 0 | AD65: 76923 | AE65: 0 | AG65: =SUM(T65:AF65) | AH65: =IF(X65<=1200000,X65,1200000) | AL65: =AG65-(AH65+Y65+V65) | AM65: 1000000 | AP65: 819000 | AQ65: 15500000 | AR65: 2 | AT65: =AQ65+AR65*6200000 | AU65: =IF((AL65+AM65-AP65-AT65)<0,0,(AL65+AM65-AP65-AT65)) | AV65: =ROUND(IF(AU65<=10000000,AU65*5%,IF(AU65<=30000000,AU65*10%-500000,IF(AU65<=60000000,AU65*20%-3500000,IF(AU65<=100000000,AU65*30%-9500000,AU65*35%-14500000)))),0) | AZ65: =ROUND(F65*0.5%,0) | BB65: =ROUND(AG65-AP65-AV65-AZ65,0)
A66: 47 | C66: 10011469 | D66: Nguyễn Xuân Anh | E66: Chuyên viên Cung ứng | F66: 6000000 | G66: 10000000 | I66: 1 | J66: =Cham_Cong_Hang_Ngay!AK55 | L66: =Cham_Cong_Hang_Ngay!AO55 | N66: 0 | P66: 0 | R66: =Cham_Cong_Hang_Ngay!AP55 | S66: =Cham_Cong_Hang_Ngay!AQ55 | T66: =ROUND(F66/26*(J66+N66+P66),0) | U66: =ROUND((G66*I66)/26*(J66+N66*0.5+P66*0.5),0) | V66: =ROUND((F66+G66*I66)/26/8*S66,0) | W66: =ROUND((F66+G66*I66)/26*L66,0) | X66: =ROUND(R66*50000,0) | Y66: 500000 | Z66: 0 | AA66: 0 | AC66: 0 | AD66: 0 | AE66: 0 | AG66: =SUM(T66:AF66) | AH66: =IF(X66<=1200000,X66,1200000) | AL66: =AG66-(AH66+Y66+V66) | AM66: 1000000 | AP66: 743400 | AQ66: 15500000 | AR66: 0 | AT66: =AQ66+AR66*6200000 | AU66: =IF((AL66+AM66-AP66-AT66)<0,0,(AL66+AM66-AP66-AT66)) | AV66: =ROUND(IF(AU66<=10000000,AU66*5%,IF(AU66<=30000000,AU66*10%-500000,IF(AU66<=60000000,AU66*20%-3500000,IF(AU66<=100000000,AU66*30%-9500000,AU66*35%-14500000)))),0) | AZ66: =ROUND(F66*0.5%,0) | BB66: =ROUND(AG66-AP66-AV66-AZ66,0)
A67: 48 | C67: 10011643 | D67: Phạm Kim Dung | E67: Chuyên viên Cung ứng | F67: 6000000 | G67: 10000000 | I67: 1 | J67: =Cham_Cong_Hang_Ngay!AK56 | L67: =Cham_Cong_Hang_Ngay!AO56 | N67: 0 | P67: 0 | R67: =Cham_Cong_Hang_Ngay!AP56 | S67: =Cham_Cong_Hang_Ngay!AQ56 | T67: =ROUND(F67/26*(J67+N67+P67),0) | U67: =ROUND((G67*I67)/26*(J67+N67*0.5+P67*0.5),0) | V67: =ROUND((F67+G67*I67)/26/8*S67,0) | W67: =ROUND((F67+G67*I67)/26*L67,0) | X67: =ROUND(R67*50000,0) | Y67: 500000 | Z67: 0 | AA67: 0 | AC67: 0 | AD67: 0 | AE67: 0 | AG67: =SUM(T67:AF67) | AH67: =IF(X67<=1200000,X67,1200000) | AL67: =AG67-(AH67+Y67+V67) | AM67: 1000000 | AP67: 743400 | AQ67: 15500000 | AR67: 2 | AT67: =AQ67+AR67*6200000 | AU67: =IF((AL67+AM67-AP67-AT67)<0,0,(AL67+AM67-AP67-AT67)) | AV67: =ROUND(IF(AU67<=10000000,AU67*5%,IF(AU67<=30000000,AU67*10%-500000,IF(AU67<=60000000,AU67*20%-3500000,IF(AU67<=100000000,AU67*30%-9500000,AU67*35%-14500000)))),0) | AZ67: =ROUND(F67*0.5%,0) | BB67: =ROUND(AG67-AP67-AV67-AZ67,0)
A68: 49 | C68: 10012692 | D68: Phùng Thanh Lộc | E68: Chuyên viên Cung ứng | F68: 6000000 | G68: 10000000 | I68: 1 | J68: =Cham_Cong_Hang_Ngay!AK57 | L68: =Cham_Cong_Hang_Ngay!AO57 | N68: 0 | P68: 0 | R68: =Cham_Cong_Hang_Ngay!AP57 | S68: =Cham_Cong_Hang_Ngay!AQ57 | T68: =ROUND(F68/26*(J68+N68+P68),0) | U68: =ROUND((G68*I68)/26*(J68+N68*0.5+P68*0.5),0) | V68: =ROUND((F68+G68*I68)/26/8*S68,0) | W68: =ROUND((F68+G68*I68)/26*L68,0) | X68: =ROUND(R68*50000,0) | Y68: 0 | Z68: 0 | AA68: 0 | AC68: 0 | AD68: 0 | AE68: 0 | AG68: =SUM(T68:AF68) | AH68: =IF(X68<=1200000,X68,1200000) | AL68: =AG68-(AH68+Y68+V68) | AM68: 0 | AP68: 630000 | AQ68: 15500000 | AR68: 0 | AT68: =AQ68+AR68*6200000 | AU68: =IF((AL68+AM68-AP68-AT68)<0,0,(AL68+AM68-AP68-AT68)) | AV68: =ROUND(IF(AU68<=10000000,AU68*5%,IF(AU68<=30000000,AU68*10%-500000,IF(AU68<=60000000,AU68*20%-3500000,IF(AU68<=100000000,AU68*30%-9500000,AU68*35%-14500000)))),0) | AZ68: =ROUND(F68*0.5%,0) | BB68: =ROUND(AG68-AP68-AV68-AZ68,0)
A69: CỘNG 7 - PHÒNG CUNG ỨNG: | F69: =SUM(F62:F68) | G69: =SUM(G62:G68) | T69: =SUM(T62:T68) | U69: =SUM(U62:U68) | V69: =SUM(V62:V68) | W69: =SUM(W62:W68) | X69: =SUM(X62:X68) | Y69: =SUM(Y62:Y68) | Z69: =SUM(Z62:Z68) | AA69: =SUM(AA62:AA68) | AC69: =SUM(AC62:AC68) | AD69: =SUM(AD62:AD68) | AE69: =SUM(AE62:AE68) | AG69: =SUM(AG62:AG68) | AL69: =SUM(AL62:AL68) | AM69: =SUM(AM62:AM68) | AP69: =SUM(AP62:AP68) | AV69: =SUM(AV62:AV68) | AZ69: =SUM(AZ62:AZ68) | BB69: =SUM(BB62:BB68)
A70: 8 - PHÒNG QUẢN LÝ THIẾT BỊ
A71: 50 | C71: 10004070 | D71: Hà Văn Thân | E71: Phó phòng Quản lý thiết bị | F71: 8000000 | G71: 15000000 | I71: 1 | J71: =Cham_Cong_Hang_Ngay!AK58 | L71: =Cham_Cong_Hang_Ngay!AO58 | N71: 0 | P71: 0 | R71: =Cham_Cong_Hang_Ngay!AP58 | S71: =Cham_Cong_Hang_Ngay!AQ58 | T71: =ROUND(F71/26*(J71+N71+P71),0) | U71: =ROUND((G71*I71)/26*(J71+N71*0.5+P71*0.5),0) | V71: =ROUND((F71+G71*I71)/26/8*S71,0) | W71: =ROUND((F71+G71*I71)/26*L71,0) | X71: =ROUND(R71*50000,0) | Y71: 500000 | Z71: 0 | AA71: 0 | AC71: 0 | AD71: 0 | AE71: 0 | AG71: =SUM(T71:AF71) | AH71: =IF(X71<=1200000,X71,1200000) | AL71: =AG71-(AH71+Y71+V71) | AM71: 1000000 | AP71: 861000 | AQ71: 15500000 | AR71: 2 | AT71: =AQ71+AR71*6200000 | AU71: =IF((AL71+AM71-AP71-AT71)<0,0,(AL71+AM71-AP71-AT71)) | AV71: =ROUND(IF(AU71<=10000000,AU71*5%,IF(AU71<=30000000,AU71*10%-500000,IF(AU71<=60000000,AU71*20%-3500000,IF(AU71<=100000000,AU71*30%-9500000,AU71*35%-14500000)))),0) | AZ71: =ROUND(F71*0.5%,0) | BB71: =ROUND(AG71-AP71-AV71-AZ71,0)
A72: 51 | C72: 10008674.FCIC | D72: Nguyễn Thùy Dương | E72: Thư ký P.QLTB | F72: 6000000 | G72: 10000000 | I72: 1 | J72: =Cham_Cong_Hang_Ngay!AK59 | L72: =Cham_Cong_Hang_Ngay!AO59 | N72: 0 | P72: 0 | R72: =Cham_Cong_Hang_Ngay!AP59 | S72: =Cham_Cong_Hang_Ngay!AQ59 | T72: =ROUND(F72/26*(J72+N72+P72),0) | U72: =ROUND((G72*I72)/26*(J72+N72*0.5+P72*0.5),0) | V72: =ROUND((F72+G72*I72)/26/8*S72,0) | W72: =ROUND((F72+G72*I72)/26*L72,0) | X72: =ROUND(R72*50000,0) | Y72: 500000 | Z72: 0 | AA72: 0 | AC72: 0 | AD72: 0 | AE72: 0 | AG72: =SUM(T72:AF72) | AH72: =IF(X72<=1200000,X72,1200000) | AL72: =AG72-(AH72+Y72+V72) | AM72: 1000000 | AP72: 675150 | AQ72: 15500000 | AR72: 0 | AT72: =AQ72+AR72*6200000 | AU72: =IF((AL72+AM72-AP72-AT72)<0,0,(AL72+AM72-AP72-AT72)) | AV72: =ROUND(IF(AU72<=10000000,AU72*5%,IF(AU72<=30000000,AU72*10%-500000,IF(AU72<=60000000,AU72*20%-3500000,IF(AU72<=100000000,AU72*30%-9500000,AU72*35%-14500000)))),0) | AZ72: =ROUND(F72*0.5%,0) | BB72: =ROUND(AG72-AP72-AV72-AZ72,0)
A73: CỘNG 8 - PHÒNG QUẢN LÝ THIẾT BỊ: | F73: =SUM(F71:F72) | G73: =SUM(G71:G72) | T73: =SUM(T71:T72) | U73: =SUM(U71:U72) | V73: =SUM(V71:V72) | W73: =SUM(W71:W72) | X73: =SUM(X71:X72) | Y73: =SUM(Y71:Y72) | Z73: =SUM(Z71:Z72) | AA73: =SUM(AA71:AA72) | AC73: =SUM(AC71:AC72) | AD73: =SUM(AD71:AD72) | AE73: =SUM(AE71:AE72) | AG73: =SUM(AG71:AG72) | AL73: =SUM(AL71:AL72) | AM73: =SUM(AM71:AM72) | AP73: =SUM(AP71:AP72) | AV73: =SUM(AV71:AV72) | AZ73: =SUM(AZ71:AZ72) | BB73: =SUM(BB71:BB72)
A74: 9- PHÒNG QUẢN LÝ THI CÔNG
A75: 52 | C75: 10003418.FCIC | D75: Nguyễn Thị Tuyết Mai | E75: Thư ký P.QLTC | F75: 6000000 | G75: 10000000 | I75: 1 | J75: =Cham_Cong_Hang_Ngay!AK60 | L75: =Cham_Cong_Hang_Ngay!AO60 | N75: 0 | P75: 0 | R75: =Cham_Cong_Hang_Ngay!AP60 | S75: =Cham_Cong_Hang_Ngay!AQ60 | T75: =ROUND(F75/26*(J75+N75+P75),0) | U75: =ROUND((G75*I75)/26*(J75+N75*0.5+P75*0.5),0) | V75: =ROUND((F75+G75*I75)/26/8*S75,0) | W75: =ROUND((F75+G75*I75)/26*L75,0) | X75: =ROUND(R75*50000,0) | Y75: 500000 | Z75: 0 | AA75: 0 | AC75: 0 | AD75: 0 | AE75: 0 | AG75: =SUM(T75:AF75) | AH75: =IF(X75<=1200000,X75,1200000) | AL75: =AG75-(AH75+Y75+V75) | AM75: 1000000 | AP75: 819000 | AQ75: 15500000 | AR75: 0 | AT75: =AQ75+AR75*6200000 | AU75: =IF((AL75+AM75-AP75-AT75)<0,0,(AL75+AM75-AP75-AT75)) | AV75: =ROUND(IF(AU75<=10000000,AU75*5%,IF(AU75<=30000000,AU75*10%-500000,IF(AU75<=60000000,AU75*20%-3500000,IF(AU75<=100000000,AU75*30%-9500000,AU75*35%-14500000)))),0) | AZ75: =ROUND(F75*0.5%,0) | BB75: =ROUND(AG75-AP75-AV75-AZ75,0)
A76: 53 | C76: 10004073 | D76: Phạm Thị Hồng | E76: Thư ký P.QLTC | F76: 6000000 | G76: 10000000 | I76: 1 | J76: =Cham_Cong_Hang_Ngay!AK61 | L76: =Cham_Cong_Hang_Ngay!AO61 | N76: 0 | P76: 0 | R76: =Cham_Cong_Hang_Ngay!AP61 | S76: =Cham_Cong_Hang_Ngay!AQ61 | T76: =ROUND(F76/26*(J76+N76+P76),0) | U76: =ROUND((G76*I76)/26*(J76+N76*0.5+P76*0.5),0) | V76: =ROUND((F76+G76*I76)/26/8*S76,0) | W76: =ROUND((F76+G76*I76)/26*L76,0) | X76: =ROUND(R76*50000,0) | Y76: 500000 | Z76: 0 | AA76: 0 | AC76: 0 | AD76: 0 | AE76: 0 | AG76: =SUM(T76:AF76) | AH76: =IF(X76<=1200000,X76,1200000) | AL76: =AG76-(AH76+Y76+V76) | AM76: 1000000 | AP76: 675150 | AQ76: 15500000 | AR76: 0 | AT76: =AQ76+AR76*6200000 | AU76: =IF((AL76+AM76-AP76-AT76)<0,0,(AL76+AM76-AP76-AT76)) | AV76: =ROUND(IF(AU76<=10000000,AU76*5%,IF(AU76<=30000000,AU76*10%-500000,IF(AU76<=60000000,AU76*20%-3500000,IF(AU76<=100000000,AU76*30%-9500000,AU76*35%-14500000)))),0) | AZ76: =ROUND(F76*0.5%,0) | BB76: =ROUND(AG76-AP76-AV76-AZ76,0)
A77: 54 | C77: 10004795 | D77: Trần Khánh Vân | E77: Thư ký P.QLTC | F77: 6000000 | G77: 10000000 | I77: 1 | J77: =Cham_Cong_Hang_Ngay!AK62 | L77: =Cham_Cong_Hang_Ngay!AO62 | N77: 0 | P77: 0 | R77: =Cham_Cong_Hang_Ngay!AP62 | S77: =Cham_Cong_Hang_Ngay!AQ62 | T77: =ROUND(F77/26*(J77+N77+P77),0) | U77: =ROUND((G77*I77)/26*(J77+N77*0.5+P77*0.5),0) | V77: =ROUND((F77+G77*I77)/26/8*S77,0) | W77: =ROUND((F77+G77*I77)/26*L77,0) | X77: =ROUND(R77*50000,0) | Y77: 500000 | Z77: 0 | AA77: 0 | AC77: 0 | AD77: 0 | AE77: 0 | AG77: =SUM(T77:AF77) | AH77: =IF(X77<=1200000,X77,1200000) | AL77: =AG77-(AH77+Y77+V77) | AM77: 1000000 | AP77: 708750 | AQ77: 15500000 | AR77: 0 | AT77: =AQ77+AR77*6200000 | AU77: =IF((AL77+AM77-AP77-AT77)<0,0,(AL77+AM77-AP77-AT77)) | AV77: =ROUND(IF(AU77<=10000000,AU77*5%,IF(AU77<=30000000,AU77*10%-500000,IF(AU77<=60000000,AU77*20%-3500000,IF(AU77<=100000000,AU77*30%-9500000,AU77*35%-14500000)))),0) | AZ77: =ROUND(F77*0.5%,0) | BB77: =ROUND(AG77-AP77-AV77-AZ77,0)
A78: CỘNG 9- PHÒNG QUẢN LÝ THI CÔNG: | F78: =SUM(F75:F77) | G78: =SUM(G75:G77) | T78: =SUM(T75:T77) | U78: =SUM(U75:U77) | V78: =SUM(V75:V77) | W78: =SUM(W75:W77) | X78: =SUM(X75:X77) | Y78: =SUM(Y75:Y77) | Z78: =SUM(Z75:Z77) | AA78: =SUM(AA75:AA77) | AC78: =SUM(AC75:AC77) | AD78: =SUM(AD75:AD77) | AE78: =SUM(AE75:AE77) | AG78: =SUM(AG75:AG77) | AL78: =SUM(AL75:AL77) | AM78: =SUM(AM75:AM77) | AP78: =SUM(AP75:AP77) | AV78: =SUM(AV75:AV77) | AZ78: =SUM(AZ75:AZ77) | BB78: =SUM(BB75:BB77)
A79: TỔNG CỘNG KHỐI VĂN PHÒNG (VP): | F79: =F14+F21+F29+F39+F49+F60+F69+F73+F78 | G79: =G14+G21+G29+G39+G49+G60+G69+G73+G78 | T79: =T14+T21+T29+T39+T49+T60+T69+T73+T78 | U79: =U14+U21+U29+U39+U49+U60+U69+U73+U78 | V79: =V14+V21+V29+V39+V49+V60+V69+V73+V78 | W79: =W14+W21+W29+W39+W49+W60+W69+W73+W78 | X79: =X14+X21+X29+X39+X49+X60+X69+X73+X78 | Y79: =Y14+Y21+Y29+Y39+Y49+Y60+Y69+Y73+Y78 | Z79: =Z14+Z21+Z29+Z39+Z49+Z60+Z69+Z73+Z78 | AA79: =AA14+AA21+AA29+AA39+AA49+AA60+AA69+AA73+AA78 | AC79: =AC14+AC21+AC29+AC39+AC49+AC60+AC69+AC73+AC78 | AD79: =AD14+AD21+AD29+AD39+AD49+AD60+AD69+AD73+AD78 | AE79: =AE14+AE21+AE29+AE39+AE49+AE60+AE69+AE73+AE78 | AG79: =AG14+AG21+AG29+AG39+AG49+AG60+AG69+AG73+AG78 | AL79: =AL14+AL21+AL29+AL39+AL49+AL60+AL69+AL73+AL78 | AM79: =AM14+AM21+AM29+AM39+AM49+AM60+AM69+AM73+AM78 | AP79: =AP14+AP21+AP29+AP39+AP49+AP60+AP69+AP73+AP78 | AV79: =AV14+AV21+AV29+AV39+AV49+AV60+AV69+AV73+AV78 | AZ79: =AZ14+AZ21+AZ29+AZ39+AZ49+AZ60+AZ69+AZ73+AZ78 | BB79: =BB14+BB21+BB29+BB39+BB49+BB60+BB69+BB73+BB78

Sheet Luong_Cong_Truong
A2: BẢNG THANH TOÁN TIỀN LƯƠNG THÁNG 08 NĂM 2026
A3: CÔNG TY CỔ PHẦN XÂY DỰNG HẠ TẦNG FECON - KHỐI CÔNG TRƯỜNG (CT)
A6: STT | C6: Mã NV | D6: Họ tên | E6: Chức vụ | F6: Mức lương cơ bản | G6: Mức thưởng hiệu suất | I6: Hệ số công | J6: Ngày công tháng | L6: Công CN | N6: Công WFH | P6: Chờ việc | R6: Công ăn ca | S6: Giờ làm thêm quy đổi | T6: Tiền Lương cơ bản | U6: Tiền thưởng hiệu suất | V6: Lương ngoài giờ | W6: Lương ngày chủ nhật | X6: Hỗ trợ ăn ca | Y6: Hỗ trợ điện thoại | Z6: Lương trách nhiệm | AA6: Lương kiêm nhiệm | AC6: Thù lao HĐQT/CTV | AD6: Hỗ trợ đi lại | AE6: Thưởng HQKD / Khác | AG6: TỔNG THU NHẬP | AH6: Ăn trưa miễn thuế | AL6: Tổng thu nhập chịu thuế | AM6: Thưởng 02.09 | AP6: BHXH 10.5% | AQ6: Giảm trừ bản thân | AR6: Số người PT | AT6: Giảm trừ gia cảnh | AU6: Thu nhập tính thuế | AV6: Thuế TNCN | AZ6: Đoàn phí CĐ | BB6: THỰC LĨNH
A7: 8 - PHÒNG QUẢN LÝ THIẾT BỊ
A8: 1 | C8: 10004055 | D8: Thạch Thương | E8: Bảo vệ | F8: 6000000 | G8: 10000000 | I8: 1 | J8: =Cham_Cong_Hang_Ngay!AK64 | L8: =Cham_Cong_Hang_Ngay!AO64 | N8: 0 | P8: 0 | R8: =Cham_Cong_Hang_Ngay!AP64 | S8: =Cham_Cong_Hang_Ngay!AQ64 | T8: =ROUND(F8/26*(J8+N8+P8),0) | U8: =ROUND((G8*I8)/26*(J8+N8*0.5+P8*0.5),0) | V8: =ROUND((F8+G8*I8)/26/8*S8,0) | W8: =ROUND((F8+G8*I8)/26*L8,0) | X8: =ROUND(R8*50000,0) | Y8: 300000 | Z8: 0 | AA8: 0 | AC8: 0 | AD8: 596154 | AE8: 0 | AG8: =SUM(T8:AF8) | AH8: =IF(X8<=1200000,X8,1200000) | AL8: =AG8-(AH8+Y8+V8) | AM8: 800000 | AP8: 601650 | AQ8: 15500000 | AR8: 1 | AT8: =AQ8+AR8*6200000 | AU8: =IF((AL8+AM8-AP8-AT8)<0,0,(AL8+AM8-AP8-AT8)) | AV8: =ROUND(IF(AU8<=10000000,AU8*5%,IF(AU8<=30000000,AU8*10%-500000,IF(AU8<=60000000,AU8*20%-3500000,IF(AU8<=100000000,AU8*30%-9500000,AU8*35%-14500000)))),0) | AZ8: =ROUND(F8*0.5%,0) | BB8: =ROUND(AG8-AP8-AV8-AZ8,0)
A9: 2 | C9: 10004115.FCIC | D9: Nguyễn Chí Công | E9: Chuyên viên Quản lý thiết bị | F9: 6000000 | G9: 10000000 | I9: 1 | J9: =Cham_Cong_Hang_Ngay!AK65 | L9: =Cham_Cong_Hang_Ngay!AO65 | N9: 0 | P9: 0 | R9: =Cham_Cong_Hang_Ngay!AP65 | S9: =Cham_Cong_Hang_Ngay!AQ65 | T9: =ROUND(F9/26*(J9+N9+P9),0) | U9: =ROUND((G9*I9)/26*(J9+N9*0.5+P9*0.5),0) | V9: =ROUND((F9+G9*I9)/26/8*S9,0) | W9: =ROUND((F9+G9*I9)/26*L9,0) | X9: =ROUND(R9*50000,0) | Y9: 500000 | Z9: 0 | AA9: 0 | AC9: 0 | AD9: 346154 | AE9: 0 | AG9: =SUM(T9:AF9) | AH9: =IF(X9<=1200000,X9,1200000) | AL9: =AG9-(AH9+Y9+V9) | AM9: 1000000 | AP9: 780150 | AQ9: 15500000 | AR9: 1 | AT9: =AQ9+AR9*6200000 | AU9: =IF((AL9+AM9-AP9-AT9)<0,0,(AL9+AM9-AP9-AT9)) | AV9: =ROUND(IF(AU9<=10000000,AU9*5%,IF(AU9<=30000000,AU9*10%-500000,IF(AU9<=60000000,AU9*20%-3500000,IF(AU9<=100000000,AU9*30%-9500000,AU9*35%-14500000)))),0) | AZ9: =ROUND(F9*0.5%,0) | BB9: =ROUND(AG9-AP9-AV9-AZ9,0)
A10: 3 | C10: 10004773.FCIC | D10: Trần Văn Hải | E10: CTV-thủ kho | F10: 0 | G10: 0 | I10: 1 | J10: =Cham_Cong_Hang_Ngay!AK66 | L10: =Cham_Cong_Hang_Ngay!AO66 | N10: 0 | P10: 0 | R10: =Cham_Cong_Hang_Ngay!AP66 | S10: =Cham_Cong_Hang_Ngay!AQ66 | T10: =ROUND(F10/26*(J10+N10+P10),0) | U10: =ROUND((G10*I10)/26*(J10+N10*0.5+P10*0.5),0) | V10: =ROUND((F10+G10*I10)/26/8*S10,0) | W10: =ROUND((F10+G10*I10)/26*L10,0) | X10: =ROUND(R10*50000,0) | Y10: 0 | Z10: 0 | AA10: 0 | AC10: 26666667 | AD10: 0 | AE10: 0 | AG10: =SUM(T10:AF10) | AH10: =IF(X10<=1200000,X10,1200000) | AL10: =AG10-(AH10+Y10+V10) | AM10: 0 | AP10: 0 | AQ10: 15500000 | AR10: 0 | AT10: =AQ10+AR10*6200000 | AU10: =IF((AL10+AM10-AP10-AT10)<0,0,(AL10+AM10-AP10-AT10)) | AV10: =ROUND(IF(AU10<=10000000,AU10*5%,IF(AU10<=30000000,AU10*10%-500000,IF(AU10<=60000000,AU10*20%-3500000,IF(AU10<=100000000,AU10*30%-9500000,AU10*35%-14500000)))),0) | AZ10: =ROUND(F10*0.5%,0) | BB10: =ROUND(AG10-AP10-AV10-AZ10,0)
A11: 4 | C11: 10005461 | D11: Cao Văn Long | E11: Thợ sửa chữa | F11: 6000000 | G11: 10000000 | I11: 1 | J11: =Cham_Cong_Hang_Ngay!AK67 | L11: =Cham_Cong_Hang_Ngay!AO67 | N11: 0 | P11: 0 | R11: =Cham_Cong_Hang_Ngay!AP67 | S11: =Cham_Cong_Hang_Ngay!AQ67 | T11: =ROUND(F11/26*(J11+N11+P11),0) | U11: =ROUND((G11*I11)/26*(J11+N11*0.5+P11*0.5),0) | V11: =ROUND((F11+G11*I11)/26/8*S11,0) | W11: =ROUND((F11+G11*I11)/26*L11,0) | X11: =ROUND(R11*50000,0) | Y11: 300000 | Z11: 0 | AA11: 0 | AC11: 0 | AD11: 596154 | AE11: 0 | AG11: =SUM(T11:AF11) | AH11: =IF(X11<=1200000,X11,1200000) | AL11: =AG11-(AH11+Y11+V11) | AM11: 800000 | AP11: 729750 | AQ11: 15500000 | AR11: 3 | AT11: =AQ11+AR11*6200000 | AU11: =IF((AL11+AM11-AP11-AT11)<0,0,(AL11+AM11-AP11-AT11)) | AV11: =ROUND(IF(AU11<=10000000,AU11*5%,IF(AU11<=30000000,AU11*10%-500000,IF(AU11<=60000000,AU11*20%-3500000,IF(AU11<=100000000,AU11*30%-9500000,AU11*35%-14500000)))),0) | AZ11: =ROUND(F11*0.5%,0) | BB11: =ROUND(AG11-AP11-AV11-AZ11,0)
A12: 5 | C12: 10005462 | D12: Tiết Minh Toàn | E12: Thợ sửa chữa | F12: 6000000 | G12: 10000000 | I12: 1 | J12: =Cham_Cong_Hang_Ngay!AK68 | L12: =Cham_Cong_Hang_Ngay!AO68 | N12: 0 | P12: 0 | R12: =Cham_Cong_Hang_Ngay!AP68 | S12: =Cham_Cong_Hang_Ngay!AQ68 | T12: =ROUND(F12/26*(J12+N12+P12),0) | U12: =ROUND((G12*I12)/26*(J12+N12*0.5+P12*0.5),0) | V12: =ROUND((F12+G12*I12)/26/8*S12,0) | W12: =ROUND((F12+G12*I12)/26*L12,0) | X12: =ROUND(R12*50000,0) | Y12: 300000 | Z12: 0 | AA12: 0 | AC12: 0 | AD12: 1192308 | AE12: 0 | AG12: =SUM(T12:AF12) | AH12: =IF(X12<=1200000,X12,1200000) | AL12: =AG12-(AH12+Y12+V12) | AM12: 800000 | AP12: 695100 | AQ12: 15500000 | AR12: 0 | AT12: =AQ12+AR12*6200000 | AU12: =IF((AL12+AM12-AP12-AT12)<0,0,(AL12+AM12-AP12-AT12)) | AV12: =ROUND(IF(AU12<=10000000,AU12*5%,IF(AU12<=30000000,AU12*10%-500000,IF(AU12<=60000000,AU12*20%-3500000,IF(AU12<=100000000,AU12*30%-9500000,AU12*35%-14500000)))),0) | AZ12: =ROUND(F12*0.5%,0) | BB12: =ROUND(AG12-AP12-AV12-AZ12,0)
A13: 6 | C13: 10008723.FCIC | D13: Nguyễn Văn Nhương | E13: Thợ sửa chữa | F13: 6000000 | G13: 10000000 | I13: 1 | J13: =Cham_Cong_Hang_Ngay!AK69 | L13: =Cham_Cong_Hang_Ngay!AO69 | N13: 0 | P13: 0 | R13: =Cham_Cong_Hang_Ngay!AP69 | S13: =Cham_Cong_Hang_Ngay!AQ69 | T13: =ROUND(F13/26*(J13+N13+P13),0) | U13: =ROUND((G13*I13)/26*(J13+N13*0.5+P13*0.5),0) | V13: =ROUND((F13+G13*I13)/26/8*S13,0) | W13: =ROUND((F13+G13*I13)/26*L13,0) | X13: =ROUND(R13*50000,0) | Y13: 300000 | Z13: 0 | AA13: 0 | AC13: 0 | AD13: 596154 | AE13: 0 | AG13: =SUM(T13:AF13) | AH13: =IF(X13<=1200000,X13,1200000) | AL13: =AG13-(AH13+Y13+V13) | AM13: 800000 | AP13: 662550 | AQ13: 15500000 | AR13: 1 | AT13: =AQ13+AR13*6200000 | AU13: =IF((AL13+AM13-AP13-AT13)<0,0,(AL13+AM13-AP13-AT13)) | AV13: =ROUND(IF(AU13<=10000000,AU13*5%,IF(AU13<=30000000,AU13*10%-500000,IF(AU13<=60000000,AU13*20%-3500000,IF(AU13<=100000000,AU13*30%-9500000,AU13*35%-14500000)))),0) | AZ13: =ROUND(F13*0.5%,0) | BB13: =ROUND(AG13-AP13-AV13-AZ13,0)
A14: CỘNG 8 - PHÒNG QUẢN LÝ THIẾT BỊ: | F14: =SUM(F8:F13) | G14: =SUM(G8:G13) | T14: =SUM(T8:T13) | U14: =SUM(U8:U13) | V14: =SUM(V8:V13) | W14: =SUM(W8:W13) | X14: =SUM(X8:X13) | Y14: =SUM(Y8:Y13) | Z14: =SUM(Z8:Z13) | AA14: =SUM(AA8:AA13) | AC14: =SUM(AC8:AC13) | AD14: =SUM(AD8:AD13) | AE14: =SUM(AE8:AE13) | AG14: =SUM(AG8:AG13) | AL14: =SUM(AL8:AL13) | AM14: =SUM(AM8:AM13) | AP14: =SUM(AP8:AP13) | AV14: =SUM(AV8:AV13) | AZ14: =SUM(AZ8:AZ13) | BB14: =SUM(BB8:BB13)
A15: 9- PHÒNG QUẢN LÝ THI CÔNG
A16: 7 | C16: 10002528.FCIC | D16: Lê Đình Xuyên | E16: Nhân viên Vật tư | F16: 6000000 | G16: 10000000 | I16: 1 | J16: =Cham_Cong_Hang_Ngay!AK70 | L16: =Cham_Cong_Hang_Ngay!AO70 | N16: 0 | P16: 0 | R16: =Cham_Cong_Hang_Ngay!AP70 | S16: =Cham_Cong_Hang_Ngay!AQ70 | T16: =ROUND(F16/26*(J16+N16+P16),0) | U16: =ROUND((G16*I16)/26*(J16+N16*0.5+P16*0.5),0) | V16: =ROUND((F16+G16*I16)/26/8*S16,0) | W16: =ROUND((F16+G16*I16)/26*L16,0) | X16: =ROUND(R16*50000,0) | Y16: 500000 | Z16: 0 | AA16: 0 | AC16: 0 | AD16: 576923 | AE16: 0 | AG16: =SUM(T16:AF16) | AH16: =IF(X16<=1200000,X16,1200000) | AL16: =AG16-(AH16+Y16+V16) | AM16: 1000000 | AP16: 780150 | AQ16: 15500000 | AR16: 2 | AT16: =AQ16+AR16*6200000 | AU16: =IF((AL16+AM16-AP16-AT16)<0,0,(AL16+AM16-AP16-AT16)) | AV16: =ROUND(IF(AU16<=10000000,AU16*5%,IF(AU16<=30000000,AU16*10%-500000,IF(AU16<=60000000,AU16*20%-3500000,IF(AU16<=100000000,AU16*30%-9500000,AU16*35%-14500000)))),0) | AZ16: =ROUND(F16*0.5%,0) | BB16: =ROUND(AG16-AP16-AV16-AZ16,0)
A17: 8 | C17: 10003327.FCIC | D17: Nguyễn Đình Bình | E17: Trắc đạc | F17: 6000000 | G17: 10000000 | I17: 1 | J17: =Cham_Cong_Hang_Ngay!AK71 | L17: =Cham_Cong_Hang_Ngay!AO71 | N17: 0 | P17: 0 | R17: =Cham_Cong_Hang_Ngay!AP71 | S17: =Cham_Cong_Hang_Ngay!AQ71 | T17: =ROUND(F17/26*(J17+N17+P17),0) | U17: =ROUND((G17*I17)/26*(J17+N17*0.5+P17*0.5),0) | V17: =ROUND((F17+G17*I17)/26/8*S17,0) | W17: =ROUND((F17+G17*I17)/26*L17,0) | X17: =ROUND(R17*50000,0) | Y17: 500000 | Z17: 0 | AA17: 0 | AC17: 0 | AD17: 538462 | AE17: 0 | AG17: =SUM(T17:AF17) | AH17: =IF(X17<=1200000,X17,1200000) | AL17: =AG17-(AH17+Y17+V17) | AM17: 1000000 | AP17: 861000 | AQ17: 15500000 | AR17: 3 | AT17: =AQ17+AR17*6200000 | AU17: =IF((AL17+AM17-AP17-AT17)<0,0,(AL17+AM17-AP17-AT17)) | AV17: =ROUND(IF(AU17<=10000000,AU17*5%,IF(AU17<=30000000,AU17*10%-500000,IF(AU17<=60000000,AU17*20%-3500000,IF(AU17<=100000000,AU17*30%-9500000,AU17*35%-14500000)))),0) | AZ17: =ROUND(F17*0.5%,0) | BB17: =ROUND(AG17-AP17-AV17-AZ17,0)
A18: 9 | C18: 10003412.FCIC | D18: Đặng Anh Tuấn | E18: Giám đốc dự án | F18: 6000000 | G18: 10000000 | I18: 1 | J18: =Cham_Cong_Hang_Ngay!AK72 | L18: =Cham_Cong_Hang_Ngay!AO72 | N18: 0 | P18: 0 | R18: =Cham_Cong_Hang_Ngay!AP72 | S18: =Cham_Cong_Hang_Ngay!AQ72 | T18: =ROUND(F18/26*(J18+N18+P18),0) | U18: =ROUND((G18*I18)/26*(J18+N18*0.5+P18*0.5),0) | V18: =ROUND((F18+G18*I18)/26/8*S18,0) | W18: =ROUND((F18+G18*I18)/26*L18,0) | X18: =ROUND(R18*50000,0) | Y18: 1000000 | Z18: 0 | AA18: 0 | AC18: 0 | AD18: 500000 | AE18: 0 | AG18: =SUM(T18:AF18) | AH18: =IF(X18<=1200000,X18,1200000) | AL18: =AG18-(AH18+Y18+V18) | AM18: 1500000 | AP18: 1116150 | AQ18: 15500000 | AR18: 1 | AT18: =AQ18+AR18*6200000 | AU18: =IF((AL18+AM18-AP18-AT18)<0,0,(AL18+AM18-AP18-AT18)) | AV18: =ROUND(IF(AU18<=10000000,AU18*5%,IF(AU18<=30000000,AU18*10%-500000,IF(AU18<=60000000,AU18*20%-3500000,IF(AU18<=100000000,AU18*30%-9500000,AU18*35%-14500000)))),0) | AZ18: =ROUND(F18*0.5%,0) | BB18: =ROUND(AG18-AP18-AV18-AZ18,0)
A19: 10 | C19: 10003455.FCIC | D19: Đỗ Ngọc Quý | E19: Chỉ huy trưởng | F19: 6000000 | G19: 10000000 | I19: 1 | J19: =Cham_Cong_Hang_Ngay!AK73 | L19: =Cham_Cong_Hang_Ngay!AO73 | N19: 0 | P19: 0 | R19: =Cham_Cong_Hang_Ngay!AP73 | S19: =Cham_Cong_Hang_Ngay!AQ73 | T19: =ROUND(F19/26*(J19+N19+P19),0) | U19: =ROUND((G19*I19)/26*(J19+N19*0.5+P19*0.5),0) | V19: =ROUND((F19+G19*I19)/26/8*S19,0) | W19: =ROUND((F19+G19*I19)/26*L19,0) | X19: =ROUND(R19*50000,0) | Y19: 500000 | Z19: 0 | AA19: 0 | AC19: 0 | AD19: 538462 | AE19: 0 | AG19: =SUM(T19:AF19) | AH19: =IF(X19<=1200000,X19,1200000) | AL19: =AG19-(AH19+Y19+V19) | AM19: 1000000 | AP19: 817950 | AQ19: 15500000 | AR19: 0 | AT19: =AQ19+AR19*6200000 | AU19: =IF((AL19+AM19-AP19-AT19)<0,0,(AL19+AM19-AP19-AT19)) | AV19: =ROUND(IF(AU19<=10000000,AU19*5%,IF(AU19<=30000000,AU19*10%-500000,IF(AU19<=60000000,AU19*20%-3500000,IF(AU19<=100000000,AU19*30%-9500000,AU19*35%-14500000)))),0) | AZ19: =ROUND(F19*0.5%,0) | BB19: =ROUND(AG19-AP19-AV19-AZ19,0)
A20: 11 | C20: 10003538.FCIC | D20: An Văn Trung | E20: Kỹ sư chất lượng | F20: 6000000 | G20: 10000000 | I20: 1 | J20: =Cham_Cong_Hang_Ngay!AK74 | L20: =Cham_Cong_Hang_Ngay!AO74 | N20: 0 | P20: 0 | R20: =Cham_Cong_Hang_Ngay!AP74 | S20: =Cham_Cong_Hang_Ngay!AQ74 | T20: =ROUND(F20/26*(J20+N20+P20),0) | U20: =ROUND((G20*I20)/26*(J20+N20*0.5+P20*0.5),0) | V20: =ROUND((F20+G20*I20)/26/8*S20,0) | W20: =ROUND((F20+G20*I20)/26*L20,0) | X20: =ROUND(R20*50000,0) | Y20: 500000 | Z20: 0 | AA20: 0 | AC20: 0 | AD20: 221154 | AE20: 0 | AG20: =SUM(T20:AF20) | AH20: =IF(X20<=1200000,X20,1200000) | AL20: =AG20-(AH20+Y20+V20) | AM20: 1000000 | AP20: 861000 | AQ20: 15500000 | AR20: 2 | AT20: =AQ20+AR20*6200000 | AU20: =IF((AL20+AM20-AP20-AT20)<0,0,(AL20+AM20-AP20-AT20)) | AV20: =ROUND(IF(AU20<=10000000,AU20*5%,IF(AU20<=30000000,AU20*10%-500000,IF(AU20<=60000000,AU20*20%-3500000,IF(AU20<=100000000,AU20*30%-9500000,AU20*35%-14500000)))),0) | AZ20: =ROUND(F20*0.5%,0) | BB20: =ROUND(AG20-AP20-AV20-AZ20,0)
A21: 12 | C21: 10003661.FCIC | D21: Bùi Huy Quang | E21: Chỉ huy trưởng | F21: 6000000 | G21: 10000000 | I21: 1 | J21: =Cham_Cong_Hang_Ngay!AK75 | L21: =Cham_Cong_Hang_Ngay!AO75 | N21: 0 | P21: 0 | R21: =Cham_Cong_Hang_Ngay!AP75 | S21: =Cham_Cong_Hang_Ngay!AQ75 | T21: =ROUND(F21/26*(J21+N21+P21),0) | U21: =ROUND((G21*I21)/26*(J21+N21*0.5+P21*0.5),0) | V21: =ROUND((F21+G21*I21)/26/8*S21,0) | W21: =ROUND((F21+G21*I21)/26*L21,0) | X21: =ROUND(R21*50000,0) | Y21: 500000 | Z21: 0 | AA21: 0 | AC21: 0 | AD21: 480769 | AE21: 0 | AG21: =SUM(T21:AF21) | AH21: =IF(X21<=1200000,X21,1200000) | AL21: =AG21-(AH21+Y21+V21) | AM21: 1000000 | AP21: 907200 | AQ21: 15500000 | AR21: 3 | AT21: =AQ21+AR21*6200000 | AU21: =IF((AL21+AM21-AP21-AT21)<0,0,(AL21+AM21-AP21-AT21)) | AV21: =ROUND(IF(AU21<=10000000,AU21*5%,IF(AU21<=30000000,AU21*10%-500000,IF(AU21<=60000000,AU21*20%-3500000,IF(AU21<=100000000,AU21*30%-9500000,AU21*35%-14500000)))),0) | AZ21: =ROUND(F21*0.5%,0) | BB21: =ROUND(AG21-AP21-AV21-AZ21,0)
A22: 13 | C22: 10003684.FCIC | D22: Đỗ Đăng Đức | E22: Kỹ sư chất lượng | F22: 6000000 | G22: 10000000 | I22: 1 | J22: =Cham_Cong_Hang_Ngay!AK76 | L22: =Cham_Cong_Hang_Ngay!AO76 | N22: 0 | P22: 0 | R22: =Cham_Cong_Hang_Ngay!AP76 | S22: =Cham_Cong_Hang_Ngay!AQ76 | T22: =ROUND(F22/26*(J22+N22+P22),0) | U22: =ROUND((G22*I22)/26*(J22+N22*0.5+P22*0.5),0) | V22: =ROUND((F22+G22*I22)/26/8*S22,0) | W22: =ROUND((F22+G22*I22)/26*L22,0) | X22: =ROUND(R22*50000,0) | Y22: 500000 | Z22: 0 | AA22: 0 | AC22: 0 | AD22: 288462 | AE22: 0 | AG22: =SUM(T22:AF22) | AH22: =IF(X22<=1200000,X22,1200000) | AL22: =AG22-(AH22+Y22+V22) | AM22: 300000 | AP22: 630000 | AQ22: 15500000 | AR22: 2 | AT22: =AQ22+AR22*6200000 | AU22: =IF((AL22+AM22-AP22-AT22)<0,0,(AL22+AM22-AP22-AT22)) | AV22: =ROUND(IF(AU22<=10000000,AU22*5%,IF(AU22<=30000000,AU22*10%-500000,IF(AU22<=60000000,AU22*20%-3500000,IF(AU22<=100000000,AU22*30%-9500000,AU22*35%-14500000)))),0) | AZ22: =ROUND(F22*0.5%,0) | BB22: =ROUND(AG22-AP22-AV22-AZ22,0)
A23: 14 | C23: 10004035 | D23: Phan Thế Vinh | E23: Chỉ huy trưởng | F23: 6000000 | G23: 10000000 | I23: 1 | J23: =Cham_Cong_Hang_Ngay!AK77 | L23: =Cham_Cong_Hang_Ngay!AO77 | N23: 0 | P23: 0 | R23: =Cham_Cong_Hang_Ngay!AP77 | S23: =Cham_Cong_Hang_Ngay!AQ77 | T23: =ROUND(F23/26*(J23+N23+P23),0) | U23: =ROUND((G23*I23)/26*(J23+N23*0.5+P23*0.5),0) | V23: =ROUND((F23+G23*I23)/26/8*S23,0) | W23: =ROUND((F23+G23*I23)/26*L23,0) | X23: =ROUND(R23*50000,0) | Y23: 500000 | Z23: 0 | AA23: 0 | AC23: 0 | AD23: 500000 | AE23: 0 | AG23: =SUM(T23:AF23) | AH23: =IF(X23<=1200000,X23,1200000) | AL23: =AG23-(AH23+Y23+V23) | AM23: 1000000 | AP23: 861000 | AQ23: 15500000 | AR23: 2 | AT23: =AQ23+AR23*6200000 | AU23: =IF((AL23+AM23-AP23-AT23)<0,0,(AL23+AM23-AP23-AT23)) | AV23: =ROUND(IF(AU23<=10000000,AU23*5%,IF(AU23<=30000000,AU23*10%-500000,IF(AU23<=60000000,AU23*20%-3500000,IF(AU23<=100000000,AU23*30%-9500000,AU23*35%-14500000)))),0) | AZ23: =ROUND(F23*0.5%,0) | BB23: =ROUND(AG23-AP23-AV23-AZ23,0)
A24: 15 | C24: 10004052 | D24: Nguyễn Phú Hoài | E24: HSE | F24: 6000000 | G24: 10000000 | I24: 1 | J24: =Cham_Cong_Hang_Ngay!AK78 | L24: =Cham_Cong_Hang_Ngay!AO78 | N24: 0 | P24: 0 | R24: =Cham_Cong_Hang_Ngay!AP78 | S24: =Cham_Cong_Hang_Ngay!AQ78 | T24: =ROUND(F24/26*(J24+N24+P24),0) | U24: =ROUND((G24*I24)/26*(J24+N24*0.5+P24*0.5),0) | V24: =ROUND((F24+G24*I24)/26/8*S24,0) | W24: =ROUND((F24+G24*I24)/26*L24,0) | X24: =ROUND(R24*50000,0) | Y24: 500000 | Z24: 0 | AA24: 0 | AC24: 0 | AD24: 500000 | AE24: 0 | AG24: =SUM(T24:AF24) | AH24: =IF(X24<=1200000,X24,1200000) | AL24: =AG24-(AH24+Y24+V24) | AM24: 1000000 | AP24: 780150 | AQ24: 15500000 | AR24: 1 | AT24: =AQ24+AR24*6200000 | AU24: =IF((AL24+AM24-AP24-AT24)<0,0,(AL24+AM24-AP24-AT24)) | AV24: =ROUND(IF(AU24<=10000000,AU24*5%,IF(AU24<=30000000,AU24*10%-500000,IF(AU24<=60000000,AU24*20%-3500000,IF(AU24<=100000000,AU24*30%-9500000,AU24*35%-14500000)))),0) | AZ24: =ROUND(F24*0.5%,0) | BB24: =ROUND(AG24-AP24-AV24-AZ24,0)
A25: 16 | C25: 10004064 | D25: Hoàng Duy Hưởng | E25: Chỉ huy phó | F25: 6000000 | G25: 10000000 | I25: 1 | J25: =Cham_Cong_Hang_Ngay!AK79 | L25: =Cham_Cong_Hang_Ngay!AO79 | N25: 0 | P25: 0 | R25: =Cham_Cong_Hang_Ngay!AP79 | S25: =Cham_Cong_Hang_Ngay!AQ79 | T25: =ROUND(F25/26*(J25+N25+P25),0) | U25: =ROUND((G25*I25)/26*(J25+N25*0.5+P25*0.5),0) | V25: =ROUND((F25+G25*I25)/26/8*S25,0) | W25: =ROUND((F25+G25*I25)/26*L25,0) | X25: =ROUND(R25*50000,0) | Y25: 500000 | Z25: 0 | AA25: 0 | AC25: 0 | AD25: 538462 | AE25: 0 | AG25: =SUM(T25:AF25) | AH25: =IF(X25<=1200000,X25,1200000) | AL25: =AG25-(AH25+Y25+V25) | AM25: 1000000 | AP25: 780150 | AQ25: 15500000 | AR25: 2 | AT25: =AQ25+AR25*6200000 | AU25: =IF((AL25+AM25-AP25-AT25)<0,0,(AL25+AM25-AP25-AT25)) | AV25: =ROUND(IF(AU25<=10000000,AU25*5%,IF(AU25<=30000000,AU25*10%-500000,IF(AU25<=60000000,AU25*20%-3500000,IF(AU25<=100000000,AU25*30%-9500000,AU25*35%-14500000)))),0) | AZ25: =ROUND(F25*0.5%,0) | BB25: =ROUND(AG25-AP25-AV25-AZ25,0)
A26: 17 | C26: 10004065 | D26: Nguyễn Văn Hoàng | E26: Trắc đạc | F26: 6000000 | G26: 10000000 | I26: 1 | J26: =Cham_Cong_Hang_Ngay!AK80 | L26: =Cham_Cong_Hang_Ngay!AO80 | N26: 0 | P26: 0 | R26: =Cham_Cong_Hang_Ngay!AP80 | S26: =Cham_Cong_Hang_Ngay!AQ80 | T26: =ROUND(F26/26*(J26+N26+P26),0) | U26: =ROUND((G26*I26)/26*(J26+N26*0.5+P26*0.5),0) | V26: =ROUND((F26+G26*I26)/26/8*S26,0) | W26: =ROUND((F26+G26*I26)/26*L26,0) | X26: =ROUND(R26*50000,0) | Y26: 500000 | Z26: 0 | AA26: 0 | AC26: 0 | AD26: 538462 | AE26: 0 | AG26: =SUM(T26:AF26) | AH26: =IF(X26<=1200000,X26,1200000) | AL26: =AG26-(AH26+Y26+V26) | AM26: 1000000 | AP26: 630000 | AQ26: 15500000 | AR26: 0 | AT26: =AQ26+AR26*6200000 | AU26: =IF((AL26+AM26-AP26-AT26)<0,0,(AL26+AM26-AP26-AT26)) | AV26: =ROUND(IF(AU26<=10000000,AU26*5%,IF(AU26<=30000000,AU26*10%-500000,IF(AU26<=60000000,AU26*20%-3500000,IF(AU26<=100000000,AU26*30%-9500000,AU26*35%-14500000)))),0) | AZ26: =ROUND(F26*0.5%,0) | BB26: =ROUND(AG26-AP26-AV26-AZ26,0)
A27: 18 | C27: 10004071 | D27: Nguyễn Bá Anh Minh | E27: Chuyên viên QLCL | F27: 6000000 | G27: 10000000 | I27: 1 | J27: =Cham_Cong_Hang_Ngay!AK81 | L27: =Cham_Cong_Hang_Ngay!AO81 | N27: 0 | P27: 0 | R27: =Cham_Cong_Hang_Ngay!AP81 | S27: =Cham_Cong_Hang_Ngay!AQ81 | T27: =ROUND(F27/26*(J27+N27+P27),0) | U27: =ROUND((G27*I27)/26*(J27+N27*0.5+P27*0.5),0) | V27: =ROUND((F27+G27*I27)/26/8*S27,0) | W27: =ROUND((F27+G27*I27)/26*L27,0) | X27: =ROUND(R27*50000,0) | Y27: 500000 | Z27: 0 | AA27: 0 | AC27: 0 | AD27: 538462 | AE27: 0 | AG27: =SUM(T27:AF27) | AH27: =IF(X27<=1200000,X27,1200000) | AL27: =AG27-(AH27+Y27+V27) | AM27: 1000000 | AP27: 780150 | AQ27: 15500000 | AR27: 0 | AT27: =AQ27+AR27*6200000 | AU27: =IF((AL27+AM27-AP27-AT27)<0,0,(AL27+AM27-AP27-AT27)) | AV27: =ROUND(IF(AU27<=10000000,AU27*5%,IF(AU27<=30000000,AU27*10%-500000,IF(AU27<=60000000,AU27*20%-3500000,IF(AU27<=100000000,AU27*30%-9500000,AU27*35%-14500000)))),0) | AZ27: =ROUND(F27*0.5%,0) | BB27: =ROUND(AG27-AP27-AV27-AZ27,0)
... A100: 91 | C100: 10012802 | D100: Nguyễn Văn Toàn | E100: Kỹ sư hiện trường | F100: 6000000 | G100: 10000000 | I100: 1 | J100: =Cham_Cong_Hang_Ngay!AK154 | L100: =Cham_Cong_Hang_Ngay!AO154 | N100: 0 | P100: 0 | R100: =Cham_Cong_Hang_Ngay!AP154 | S100: =Cham_Cong_Hang_Ngay!AQ154 | T100: =ROUND(F100/26*(J100+N100+P100),0) | U100: =ROUND((G100*I100)/26*(J100+N100*0.5+P100*0.5),0) | V100: =ROUND((F100+G100*I100)/26/8*S100,0) | W100: =ROUND((F100+G100*I100)/26*L100,0) | X100: =ROUND(R100*50000,0) | Y100: 500000 | Z100: 0 | AA100: 0 | AC100: 0 | AD100: 211538 | AE100: 0 | AG100: =SUM(T100:AF100) | AH100: =IF(X100<=1200000,X100,1200000) | AL100: =AG100-(AH100+Y100+V100) | AM100: 300000 | AP100: 630000 | AQ100: 15500000 | AR100: 0 | AT100: =AQ100+AR100*6200000 | AU100: =IF((AL100+AM100-AP100-AT100)<0,0,(AL100+AM100-AP100-AT100)) | AV100: =ROUND(IF(AU100<=10000000,AU100*5%,IF(AU100<=30000000,AU100*10%-500000,IF(AU100<=60000000,AU100*20%-3500000,IF(AU100<=100000000,AU100*30%-9500000,AU100*35%-14500000)))),0) | AZ100: =ROUND(F100*0.5%,0) | BB100: =ROUND(AG100-AP100-AV100-AZ100,0)
A101: CỘNG 9- PHÒNG QUẢN LÝ THI CÔNG: | F101: =SUM(F16:F100) | G101: =SUM(G16:G100) | T101: =SUM(T16:T100) | U101: =SUM(U16:U100) | V101: =SUM(V16:V100) | W101: =SUM(W16:W100) | X101: =SUM(X16:X100) | Y101: =SUM(Y16:Y100) | Z101: =SUM(Z16:Z100) | AA101: =SUM(AA16:AA100) | AC101: =SUM(AC16:AC100) | AD101: =SUM(AD16:AD100) | AE101: =SUM(AE16:AE100) | AG101: =SUM(AG16:AG100) | AL101: =SUM(AL16:AL100) | AM101: =SUM(AM16:AM100) | AP101: =SUM(AP16:AP100) | AV101: =SUM(AV16:AV100) | AZ101: =SUM(AZ16:AZ100) | BB101: =SUM(BB16:BB100)
A102: TỔNG CỘNG KHỐI CÔNG TRƯỜNG (CT): | F102: =F14+F101 | G102: =G14+G101 | T102: =T14+T101 | U102: =U14+U101 | V102: =V14+V101 | W102: =W14+W101 | X102: =X14+X101 | Y102: =Y14+Y101 | Z102: =Z14+Z101 | AA102: =AA14+AA101 | AC102: =AC14+AC101 | AD102: =AD14+AD101 | AE102: =AE14+AE101 | AG102: =AG14+AG101 | AL102: =AL14+AL101 | AM102: =AM14+AM101 | AP102: =AP14+AP101 | AV102: =AV14+AV101 | AZ102: =AZ14+AZ101 | BB102: =BB14+BB101

Sheet Luong_Lai_May
A2: BẢNG THANH TOÁN TIỀN LƯƠNG THÁNG 08 NĂM 2026
A3: CÔNG TY CỔ PHẦN XÂY DỰNG HẠ TẦNG FECON - KHỐI LÁI MÁY (LM)
A6: STT | C6: Mã NV | D6: Họ tên | E6: Chức vụ | F6: Mức lương cơ bản | G6: Mức thưởng hiệu suất | I6: Hệ số công | J6: Ngày công tháng | L6: Công CN | N6: Công WFH | P6: Chờ việc | R6: Công ăn ca | S6: Giờ làm thêm quy đổi | T6: Tiền Lương cơ bản | U6: Tiền thưởng hiệu suất | V6: Lương ngoài giờ | W6: Lương ngày chủ nhật | X6: Hỗ trợ ăn ca | Y6: Hỗ trợ điện thoại | Z6: Lương trách nhiệm | AA6: Lương kiêm nhiệm | AC6: Thù lao HĐQT/CTV | AD6: Hỗ trợ đi lại | AE6: Thưởng HQKD / Khác | AG6: TỔNG THU NHẬP | AH6: Ăn trưa miễn thuế | AL6: Tổng thu nhập chịu thuế | AM6: Thưởng 02.09 | AP6: BHXH 10.5% | AQ6: Giảm trừ bản thân | AR6: Số người PT | AT6: Giảm trừ gia cảnh | AU6: Thu nhập tính thuế | AV6: Thuế TNCN | AZ6: Đoàn phí CĐ | BB6: THỰC LĨNH
A7: 8 - PHÒNG QUẢN LÝ THIẾT BỊ
A8: 1 | C8: 10005013 | D8: Vũ Thành Đồng | E8: Nhân viên Lái máy (Lái ô tô tải) | F8: 6000000 | G8: 10000000 | I8: 1 | J8: =Cham_Cong_Hang_Ngay!AK156 | L8: =Cham_Cong_Hang_Ngay!AO156 | N8: 0 | P8: 3 | R8: =Cham_Cong_Hang_Ngay!AP156 | S8: =Cham_Cong_Hang_Ngay!AN156 | T8: =ROUND(F8/26*(J8+N8+P8),0) | U8: =ROUND((G8*I8)/26*(J8+N8*0.5+P8*0.5),0) | V8: =ROUND((F8+G8*I8+1300000+300000)/26/8*S8,0) | W8: =ROUND((F8+G8*I8)/26*L8,0) | X8: =ROUND(R8*50000,0) | Y8: 300000 | Z8: 0 | AA8: 2153846 | AC8: 0 | AD8: 538462 | AE8: 0 | AG8: =SUM(T8:AF8) | AH8: =IF(X8<=1200000,X8,1200000) | AL8: =AG8-(AH8+Y8+V8) | AM8: 800000 | AP8: 695100 | AQ8: 15500000 | AR8: 1 | AT8: =AQ8+AR8*6200000 | AU8: =IF((AL8+AM8-AP8-AT8)<0,0,(AL8+AM8-AP8-AT8)) | AV8: =ROUND(IF(AU8<=10000000,AU8*5%,IF(AU8<=30000000,AU8*10%-500000,IF(AU8<=60000000,AU8*20%-3500000,IF(AU8<=100000000,AU8*30%-9500000,AU8*35%-14500000)))),0) | AZ8: =ROUND(F8*0.5%,0) | BB8: =ROUND(AG8-AP8-AV8-AZ8,0)
A9: 2 | C9: 10005022 | D9: Đặng Quang Hiếu | E9: Nhân viên Lái máy (Lái xúc lật) | F9: 6000000 | G9: 10000000 | I9: 1 | J9: =Cham_Cong_Hang_Ngay!AK157 | L9: =Cham_Cong_Hang_Ngay!AO157 | N9: 0 | P9: 11 | R9: =Cham_Cong_Hang_Ngay!AP157 | S9: =Cham_Cong_Hang_Ngay!AN157 | T9: =ROUND(F9/26*(J9+N9+P9),0) | U9: =ROUND((G9*I9)/26*(J9+N9*0.5+P9*0.5),0) | V9: =ROUND((F9+G9*I9+1300000+300000)/26/8*S9,0) | W9: =ROUND((F9+G9*I9)/26*L9,0) | X9: =ROUND(R9*50000,0) | Y9: 300000 | Z9: 0 | AA9: 0 | AC9: 0 | AD9: 384615 | AE9: 0 | AG9: =SUM(T9:AF9) | AH9: =IF(X9<=1200000,X9,1200000) | AL9: =AG9-(AH9+Y9+V9) | AM9: 800000 | AP9: 695100 | AQ9: 15500000 | AR9: 0 | AT9: =AQ9+AR9*6200000 | AU9: =IF((AL9+AM9-AP9-AT9)<0,0,(AL9+AM9-AP9-AT9)) | AV9: =ROUND(IF(AU9<=10000000,AU9*5%,IF(AU9<=30000000,AU9*10%-500000,IF(AU9<=60000000,AU9*20%-3500000,IF(AU9<=100000000,AU9*30%-9500000,AU9*35%-14500000)))),0) | AZ9: =ROUND(F9*0.5%,0) | BB9: =ROUND(AG9-AP9-AV9-AZ9,0)
A10: 3 | C10: 10005054 | D10: Triệu Đình Ích | E10: Nhân viên Lái máy (Lái xúc) | F10: 6000000 | G10: 10000000 | I10: 1 | J10: =Cham_Cong_Hang_Ngay!AK158 | L10: =Cham_Cong_Hang_Ngay!AO158 | N10: 0 | P10: 0 | R10: =Cham_Cong_Hang_Ngay!AP158 | S10: =Cham_Cong_Hang_Ngay!AN158 | T10: =ROUND(F10/26*(J10+N10+P10),0) | U10: =ROUND((G10*I10)/26*(J10+N10*0.5+P10*0.5),0) | V10: =ROUND((F10+G10*I10+1300000+300000)/26/8*S10,0) | W10: =ROUND((F10+G10*I10)/26*L10,0) | X10: =ROUND(R10*50000,0) | Y10: 300000 | Z10: 0 | AA10: 0 | AC10: 0 | AD10: 500000 | AE10: 0 | AG10: =SUM(T10:AF10) | AH10: =IF(X10<=1200000,X10,1200000) | AL10: =AG10-(AH10+Y10+V10) | AM10: 800000 | AP10: 695100 | AQ10: 15500000 | AR10: 0 | AT10: =AQ10+AR10*6200000 | AU10: =IF((AL10+AM10-AP10-AT10)<0,0,(AL10+AM10-AP10-AT10)) | AV10: =ROUND(IF(AU10<=10000000,AU10*5%,IF(AU10<=30000000,AU10*10%-500000,IF(AU10<=60000000,AU10*20%-3500000,IF(AU10<=100000000,AU10*30%-9500000,AU10*35%-14500000)))),0) | AZ10: =ROUND(F10*0.5%,0) | BB10: =ROUND(AG10-AP10-AV10-AZ10,0)
A11: 4 | C11: 10005055 | D11: Đặng Khắc Thắng | E11: Nhân viên Lái máy (Lái lu) | F11: 6000000 | G11: 10000000 | I11: 1 | J11: =Cham_Cong_Hang_Ngay!AK159 | L11: =Cham_Cong_Hang_Ngay!AO159 | N11: 0 | P11: 0 | R11: =Cham_Cong_Hang_Ngay!AP159 | S11: =Cham_Cong_Hang_Ngay!AN159 | T11: =ROUND(F11/26*(J11+N11+P11),0) | U11: =ROUND((G11*I11)/26*(J11+N11*0.5+P11*0.5),0) | V11: =ROUND((F11+G11*I11+1300000+300000)/26/8*S11,0) | W11: =ROUND((F11+G11*I11)/26*L11,0) | X11: =ROUND(R11*50000,0) | Y11: 300000 | Z11: 0 | AA11: 0 | AC11: 0 | AD11: 519231 | AE11: 0 | AG11: =SUM(T11:AF11) | AH11: =IF(X11<=1200000,X11,1200000) | AL11: =AG11-(AH11+Y11+V11) | AM11: 800000 | AP11: 695100 | AQ11: 15500000 | AR11: 1 | AT11: =AQ11+AR11*6200000 | AU11: =IF((AL11+AM11-AP11-AT11)<0,0,(AL11+AM11-AP11-AT11)) | AV11: =ROUND(IF(AU11<=10000000,AU11*5%,IF(AU11<=30000000,AU11*10%-500000,IF(AU11<=60000000,AU11*20%-3500000,IF(AU11<=100000000,AU11*30%-9500000,AU11*35%-14500000)))),0) | AZ11: =ROUND(F11*0.5%,0) | BB11: =ROUND(AG11-AP11-AV11-AZ11,0)
A12: 5 | C12: 10005104 | D12: Đinh Công Tuấn | E12: Nhân viên Lái máy (Lái ủi) | F12: 6000000 | G12: 10000000 | I12: 1 | J12: =Cham_Cong_Hang_Ngay!AK160 | L12: =Cham_Cong_Hang_Ngay!AO160 | N12: 0 | P12: 0 | R12: =Cham_Cong_Hang_Ngay!AP160 | S12: =Cham_Cong_Hang_Ngay!AN160 | T12: =ROUND(F12/26*(J12+N12+P12),0) | U12: =ROUND((G12*I12)/26*(J12+N12*0.5+P12*0.5),0) | V12: =ROUND((F12+G12*I12+1300000+300000)/26/8*S12,0) | W12: =ROUND((F12+G12*I12)/26*L12,0) | X12: =ROUND(R12*50000,0) | Y12: 300000 | Z12: 0 | AA12: 0 | AC12: 0 | AD12: 576923 | AE12: 0 | AG12: =SUM(T12:AF12) | AH12: =IF(X12<=1200000,X12,1200000) | AL12: =AG12-(AH12+Y12+V12) | AM12: 800000 | AP12: 695100 | AQ12: 15500000 | AR12: 0 | AT12: =AQ12+AR12*6200000 | AU12: =IF((AL12+AM12-AP12-AT12)<0,0,(AL12+AM12-AP12-AT12)) | AV12: =ROUND(IF(AU12<=10000000,AU12*5%,IF(AU12<=30000000,AU12*10%-500000,IF(AU12<=60000000,AU12*20%-3500000,IF(AU12<=100000000,AU12*30%-9500000,AU12*35%-14500000)))),0) | AZ12: =ROUND(F12*0.5%,0) | BB12: =ROUND(AG12-AP12-AV12-AZ12,0)
A13: 6 | C13: 10007938 | D13: Nguyễn Văn Hoa | E13: Nhân viên Lái máy (Lái san) | F13: 6000000 | G13: 10000000 | I13: 1 | J13: =Cham_Cong_Hang_Ngay!AK161 | L13: =Cham_Cong_Hang_Ngay!AO161 | N13: 0 | P13: 5 | R13: =Cham_Cong_Hang_Ngay!AP161 | S13: =Cham_Cong_Hang_Ngay!AN161 | T13: =ROUND(F13/26*(J13+N13+P13),0) | U13: =ROUND((G13*I13)/26*(J13+N13*0.5+P13*0.5),0) | V13: =ROUND((F13+G13*I13+1300000+300000)/26/8*S13,0) | W13: =ROUND((F13+G13*I13)/26*L13,0) | X13: =ROUND(R13*50000,0) | Y13: 300000 | Z13: 0 | AA13: 0 | AC13: 0 | AD13: 500000 | AE13: 0 | AG13: =SUM(T13:AF13) | AH13: =IF(X13<=1200000,X13,1200000) | AL13: =AG13-(AH13+Y13+V13) | AM13: 800000 | AP13: 695100 | AQ13: 15500000 | AR13: 0 | AT13: =AQ13+AR13*6200000 | AU13: =IF((AL13+AM13-AP13-AT13)<0,0,(AL13+AM13-AP13-AT13)) | AV13: =ROUND(IF(AU13<=10000000,AU13*5%,IF(AU13<=30000000,AU13*10%-500000,IF(AU13<=60000000,AU13*20%-3500000,IF(AU13<=100000000,AU13*30%-9500000,AU13*35%-14500000)))),0) | AZ13: =ROUND(F13*0.5%,0) | BB13: =ROUND(AG13-AP13-AV13-AZ13,0)
A14: 7 | C14: 10007942 | D14: Nguyễn Văn Đạt | E14: Nhân viên Lái máy (Lái lu) | F14: 6000000 | G14: 10000000 | I14: 1 | J14: =Cham_Cong_Hang_Ngay!AK162 | L14: =Cham_Cong_Hang_Ngay!AO162 | N14: 0 | P14: 0 | R14: =Cham_Cong_Hang_Ngay!AP162 | S14: =Cham_Cong_Hang_Ngay!AN162 | T14: =ROUND(F14/26*(J14+N14+P14),0) | U14: =ROUND((G14*I14)/26*(J14+N14*0.5+P14*0.5),0) | V14: =ROUND((F14+G14*I14+1300000+300000)/26/8*S14,0) | W14: =ROUND((F14+G14*I14)/26*L14,0) | X14: =ROUND(R14*50000,0) | Y14: 0 | Z14: 0 | AA14: 0 | AC14: 0 | AD14: 0 | AE14: 0 | AG14: =SUM(T14:AF14) | AH14: =IF(X14<=1200000,X14,1200000) | AL14: =AG14-(AH14+Y14+V14) | AM14: 0 | AP14: 630000 | AQ14: 15500000 | AR14: 0 | AT14: =AQ14+AR14*6200000 | AU14: =IF((AL14+AM14-AP14-AT14)<0,0,(AL14+AM14-AP14-AT14)) | AV14: =ROUND(IF(AU14<=10000000,AU14*5%,IF(AU14<=30000000,AU14*10%-500000,IF(AU14<=60000000,AU14*20%-3500000,IF(AU14<=100000000,AU14*30%-9500000,AU14*35%-14500000)))),0) | AZ14: =ROUND(F14*0.5%,0) | BB14: =ROUND(AG14-AP14-AV14-AZ14,0)
A15: 8 | C15: 10008510 | D15: Bùi Công Tuấn | E15: Nhân viên Lái máy (Lái lu) | F15: 6000000 | G15: 10000000 | I15: 1 | J15: =Cham_Cong_Hang_Ngay!AK163 | L15: =Cham_Cong_Hang_Ngay!AO163 | N15: 0 | P15: 0 | R15: =Cham_Cong_Hang_Ngay!AP163 | S15: =Cham_Cong_Hang_Ngay!AN163 | T15: =ROUND(F15/26*(J15+N15+P15),0) | U15: =ROUND((G15*I15)/26*(J15+N15*0.5+P15*0.5),0) | V15: =ROUND((F15+G15*I15+1300000+300000)/26/8*S15,0) | W15: =ROUND((F15+G15*I15)/26*L15,0) | X15: =ROUND(R15*50000,0) | Y15: 300000 | Z15: 0 | AA15: 0 | AC15: 0 | AD15: 596154 | AE15: 0 | AG15: =SUM(T15:AF15) | AH15: =IF(X15<=1200000,X15,1200000) | AL15: =AG15-(AH15+Y15+V15) | AM15: 800000 | AP15: 662550 | AQ15: 15500000 | AR15: 2 | AT15: =AQ15+AR15*6200000 | AU15: =IF((AL15+AM15-AP15-AT15)<0,0,(AL15+AM15-AP15-AT15)) | AV15: =ROUND(IF(AU15<=10000000,AU15*5%,IF(AU15<=30000000,AU15*10%-500000,IF(AU15<=60000000,AU15*20%-3500000,IF(AU15<=100000000,AU15*30%-9500000,AU15*35%-14500000)))),0) | AZ15: =ROUND(F15*0.5%,0) | BB15: =ROUND(AG15-AP15-AV15-AZ15,0)
A16: 9 | C16: 10008805 | D16: Trần Hồng Tiến | E16: Nhân viên Lái máy (Lái xúc) | F16: 6000000 | G16: 10000000 | I16: 1 | J16: =Cham_Cong_Hang_Ngay!AK164 | L16: =Cham_Cong_Hang_Ngay!AO164 | N16: 0 | P16: 0 | R16: =Cham_Cong_Hang_Ngay!AP164 | S16: =Cham_Cong_Hang_Ngay!AN164 | T16: =ROUND(F16/26*(J16+N16+P16),0) | U16: =ROUND((G16*I16)/26*(J16+N16*0.5+P16*0.5),0) | V16: =ROUND((F16+G16*I16+1300000+300000)/26/8*S16,0) | W16: =ROUND((F16+G16*I16)/26*L16,0) | X16: =ROUND(R16*50000,0) | Y16: 300000 | Z16: 0 | AA16: 0 | AC16: 0 | AD16: 576923 | AE16: 0 | AG16: =SUM(T16:AF16) | AH16: =IF(X16<=1200000,X16,1200000) | AL16: =AG16-(AH16+Y16+V16) | AM16: 800000 | AP16: 662550 | AQ16: 15500000 | AR16: 0 | AT16: =AQ16+AR16*6200000 | AU16: =IF((AL16+AM16-AP16-AT16)<0,0,(AL16+AM16-AP16-AT16)) | AV16: =ROUND(IF(AU16<=10000000,AU16*5%,IF(AU16<=30000000,AU16*10%-500000,IF(AU16<=60000000,AU16*20%-3500000,IF(AU16<=100000000,AU16*30%-9500000,AU16*35%-14500000)))),0) | AZ16: =ROUND(F16*0.5%,0) | BB16: =ROUND(AG16-AP16-AV16-AZ16,0)
A17: 10 | C17: 10009116 | D17: Hoàng Văn Hùng | E17: Nhân viên lái máy (Lái xúc xích) | F17: 6000000 | G17: 10000000 | I17: 1 | J17: =Cham_Cong_Hang_Ngay!AK165 | L17: =Cham_Cong_Hang_Ngay!AO165 | N17: 0 | P17: 10 | R17: =Cham_Cong_Hang_Ngay!AP165 | S17: =Cham_Cong_Hang_Ngay!AN165 | T17: =ROUND(F17/26*(J17+N17+P17),0) | U17: =ROUND((G17*I17)/26*(J17+N17*0.5+P17*0.5),0) | V17: =ROUND((F17+G17*I17+1300000+300000)/26/8*S17,0) | W17: =ROUND((F17+G17*I17)/26*L17,0) | X17: =ROUND(R17*50000,0) | Y17: 300000 | Z17: 0 | AA17: 0 | AC17: 0 | AD17: 0 | AE17: 0 | AG17: =SUM(T17:AF17) | AH17: =IF(X17<=1200000,X17,1200000) | AL17: =AG17-(AH17+Y17+V17) | AM17: 500000 | AP17: 662550 | AQ17: 15500000 | AR17: 1 | AT17: =AQ17+AR17*6200000 | AU17: =IF((AL17+AM17-AP17-AT17)<0,0,(AL17+AM17-AP17-AT17)) | AV17: =ROUND(IF(AU17<=10000000,AU17*5%,IF(AU17<=30000000,AU17*10%-500000,IF(AU17<=60000000,AU17*20%-3500000,IF(AU17<=100000000,AU17*30%-9500000,AU17*35%-14500000)))),0) | AZ17: =ROUND(F17*0.5%,0) | BB17: =ROUND(AG17-AP17-AV17-AZ17,0)
A18: 11 | C18: 10009480 | D18: Nguyễn Văn Huynh | E18: Nhân viên Lái máy (Lái ủi) | F18: 6000000 | G18: 10000000 | I18: 1 | J18: =Cham_Cong_Hang_Ngay!AK166 | L18: =Cham_Cong_Hang_Ngay!AO166 | N18: 0 | P18: 0.5 | R18: =Cham_Cong_Hang_Ngay!AP166 | S18: =Cham_Cong_Hang_Ngay!AN166 | T18: =ROUND(F18/26*(J18+N18+P18),0) | U18: =ROUND((G18*I18)/26*(J18+N18*0.5+P18*0.5),0) | V18: =ROUND((F18+G18*I18+1300000+300000)/26/8*S18,0) | W18: =ROUND((F18+G18*I18)/26*L18,0) | X18: =ROUND(R18*50000,0) | Y18: 300000 | Z18: 0 | AA18: 0 | AC18: 0 | AD18: 586538 | AE18: 0 | AG18: =SUM(T18:AF18) | AH18: =IF(X18<=1200000,X18,1200000) | AL18: =AG18-(AH18+Y18+V18) | AM18: 800000 | AP18: 662550 | AQ18: 15500000 | AR18: 1 | AT18: =AQ18+AR18*6200000 | AU18: =IF((AL18+AM18-AP18-AT18)<0,0,(AL18+AM18-AP18-AT18)) | AV18: =ROUND(IF(AU18<=10000000,AU18*5%,IF(AU18<=30000000,AU18*10%-500000,IF(AU18<=60000000,AU18*20%-3500000,IF(AU18<=100000000,AU18*30%-9500000,AU18*35%-14500000)))),0) | AZ18: =ROUND(F18*0.5%,0) | BB18: =ROUND(AG18-AP18-AV18-AZ18,0)
A19: 12 | C19: 10009766 | D19: Nguyễn Văn Thanh | E19: Nhân viên Lái máy (Lái lu) | F19: 6000000 | G19: 10000000 | I19: 1 | J19: =Cham_Cong_Hang_Ngay!AK167 | L19: =Cham_Cong_Hang_Ngay!AO167 | N19: 0 | P19: 1 | R19: =Cham_Cong_Hang_Ngay!AP167 | S19: =Cham_Cong_Hang_Ngay!AN167 | T19: =ROUND(F19/26*(J19+N19+P19),0) | U19: =ROUND((G19*I19)/26*(J19+N19*0.5+P19*0.5),0) | V19: =ROUND((F19+G19*I19+1300000+300000)/26/8*S19,0) | W19: =ROUND((F19+G19*I19)/26*L19,0) | X19: =ROUND(R19*50000,0) | Y19: 300000 | Z19: 0 | AA19: 0 | AC19: 0 | AD19: 576923 | AE19: 0 | AG19: =SUM(T19:AF19) | AH19: =IF(X19<=1200000,X19,1200000) | AL19: =AG19-(AH19+Y19+V19) | AM19: 800000 | AP19: 662550 | AQ19: 15500000 | AR19: 1 | AT19: =AQ19+AR19*6200000 | AU19: =IF((AL19+AM19-AP19-AT19)<0,0,(AL19+AM19-AP19-AT19)) | AV19: =ROUND(IF(AU19<=10000000,AU19*5%,IF(AU19<=30000000,AU19*10%-500000,IF(AU19<=60000000,AU19*20%-3500000,IF(AU19<=100000000,AU19*30%-9500000,AU19*35%-14500000)))),0) | AZ19: =ROUND(F19*0.5%,0) | BB19: =ROUND(AG19-AP19-AV19-AZ19,0)
... A35: 28 | C35: 10012800 | D35: Ngô Quang Lợi | E35: Nhân viên Lái máy (Lái lu) | F35: 6000000 | G35: 10000000 | I35: 1 | J35: =Cham_Cong_Hang_Ngay!AK183 | L35: =Cham_Cong_Hang_Ngay!AO183 | N35: 0 | P35: 6.5 | R35: =Cham_Cong_Hang_Ngay!AP183 | S35: =Cham_Cong_Hang_Ngay!AN183 | T35: =ROUND(F35/26*(J35+N35+P35),0) | U35: =ROUND((G35*I35)/26*(J35+N35*0.5+P35*0.5),0) | V35: =ROUND((F35+G35*I35+1300000+300000)/26/8*S35,0) | W35: =ROUND((F35+G35*I35)/26*L35,0) | X35: =ROUND(R35*50000,0) | Y35: 0 | Z35: 0 | AA35: 0 | AC35: 0 | AD35: 125000 | AE35: 0 | AG35: =SUM(T35:AF35) | AH35: =IF(X35<=1200000,X35,1200000) | AL35: =AG35-(AH35+Y35+V35) | AM35: 300000 | AP35: 630000 | AQ35: 15500000 | AR35: 0 | AT35: =AQ35+AR35*6200000 | AU35: =IF((AL35+AM35-AP35-AT35)<0,0,(AL35+AM35-AP35-AT35)) | AV35: =ROUND(IF(AU35<=10000000,AU35*5%,IF(AU35<=30000000,AU35*10%-500000,IF(AU35<=60000000,AU35*20%-3500000,IF(AU35<=100000000,AU35*30%-9500000,AU35*35%-14500000)))),0) | AZ35: =ROUND(F35*0.5%,0) | BB35: =ROUND(AG35-AP35-AV35-AZ35,0)
A36: CỘNG 8 - PHÒNG QUẢN LÝ THIẾT BỊ: | F36: =SUM(F8:F35) | G36: =SUM(G8:G35) | T36: =SUM(T8:T35) | U36: =SUM(U8:U35) | V36: =SUM(V8:V35) | W36: =SUM(W8:W35) | X36: =SUM(X8:X35) | Y36: =SUM(Y8:Y35) | Z36: =SUM(Z8:Z35) | AA36: =SUM(AA8:AA35) | AC36: =SUM(AC8:AC35) | AD36: =SUM(AD8:AD35) | AE36: =SUM(AE8:AE35) | AG36: =SUM(AG8:AG35) | AL36: =SUM(AL8:AL35) | AM36: =SUM(AM8:AM35) | AP36: =SUM(AP8:AP35) | AV36: =SUM(AV8:AV35) | AZ36: =SUM(AZ8:AZ35) | BB36: =SUM(BB8:BB35)
A37: TỔNG CỘNG KHỐI LÁI MÁY (LM): | F37: =F36 | G37: =G36 | T37: =T36 | U37: =U36 | V37: =V36 | W37: =W36 | X37: =X36 | Y37: =Y36 | Z37: =Z36 | AA37: =AA36 | AC37: =AC36 | AD37: =AD36 | AE37: =AE36 | AG37: =AG36 | AL37: =AL36 | AM37: =AM36 | AP37: =AP36 | AV37: =AV36 | AZ37: =AZ36 | BB37: =BB36

Sheet Luong_LDPT
A2: BẢNG THANH TOÁN TIỀN LƯƠNG THÁNG 08 NĂM 2026
A3: CÔNG TY CỔ PHẦN XÂY DỰNG HẠ TẦNG FECON - KHỐI LAO ĐỘNG PHỔ THÔNG (LDPT)
A6: STT | C6: Mã NV | D6: Họ tên | E6: Chức vụ | F6: Mức lương cơ bản | G6: Mức thưởng hiệu suất | I6: Hệ số công | J6: Ngày công tháng | L6: Công CN | N6: Công WFH | P6: Chờ việc | R6: Công ăn ca | S6: Giờ làm thêm quy đổi | T6: Tiền Lương cơ bản | U6: Tiền thưởng hiệu suất | V6: Lương ngoài giờ | W6: Lương ngày chủ nhật | X6: Hỗ trợ ăn ca | Y6: Hỗ trợ điện thoại | Z6: Lương trách nhiệm | AA6: Lương kiêm nhiệm | AC6: Thù lao HĐQT/CTV | AD6: Hỗ trợ đi lại | AE6: Thưởng HQKD / Khác | AG6: TỔNG THU NHẬP | AH6: Ăn trưa miễn thuế | AL6: Tổng thu nhập chịu thuế | AM6: Thưởng 02.09 | AP6: BHXH 10.5% | AQ6: Giảm trừ bản thân | AR6: Số người PT | AT6: Giảm trừ gia cảnh | AU6: Thu nhập tính thuế | AV6: Thuế TNCN | AZ6: Đoàn phí CĐ | BB6: THỰC LĨNH
A7: 9- PHÒNG QUẢN LÝ THI CÔNG
A8: 1 | C8: 10010245 | D8: Thân Văn Chiến | E8: Công nhân LĐPT | F8: 6000000 | G8: 10000000 | I8: 1 | J8: =Cham_Cong_Hang_Ngay!AK185 | L8: =Cham_Cong_Hang_Ngay!AO185 | N8: 0 | P8: 0 | R8: =Cham_Cong_Hang_Ngay!AP185 | S8: =Cham_Cong_Hang_Ngay!AQ185 | T8: =ROUND(F8/26*(J8+N8+P8),0) | U8: =ROUND((G8*I8)/26*(J8+N8*0.5+P8*0.5),0) | V8: =ROUND((F8+G8*I8)/26/8*S8,0) | W8: =ROUND((F8+G8*I8)/26*L8,0) | X8: =ROUND(R8*50000,0) | Y8: 0 | Z8: 0 | AA8: 0 | AC8: 0 | AD8: 0 | AE8: 0 | AG8: =SUM(T8:AF8) | AH8: =IF(X8<=1200000,X8,1200000) | AL8: =AG8-(AH8+Y8+V8) | AM8: 0 | AP8: 573300 | AQ8: 15500000 | AR8: 0 | AT8: =AQ8+AR8*6200000 | AU8: =IF((AL8+AM8-AP8-AT8)<0,0,(AL8+AM8-AP8-AT8)) | AV8: =ROUND(IF(AU8<=10000000,AU8*5%,IF(AU8<=30000000,AU8*10%-500000,IF(AU8<=60000000,AU8*20%-3500000,IF(AU8<=100000000,AU8*30%-9500000,AU8*35%-14500000)))),0) | AZ8: =ROUND(F8*0.5%,0) | BB8: =ROUND(AG8-AP8-AV8-AZ8,0)
A9: 2 | C9: 10010250 | D9: Ngô Văn Hùng | E9: Công nhân LĐPT | F9: 6000000 | G9: 10000000 | I9: 1 | J9: =Cham_Cong_Hang_Ngay!AK186 | L9: =Cham_Cong_Hang_Ngay!AO186 | N9: 0 | P9: 0 | R9: =Cham_Cong_Hang_Ngay!AP186 | S9: =Cham_Cong_Hang_Ngay!AQ186 | T9: =ROUND(F9/26*(J9+N9+P9),0) | U9: =ROUND((G9*I9)/26*(J9+N9*0.5+P9*0.5),0) | V9: =ROUND((F9+G9*I9)/26/8*S9,0) | W9: =ROUND((F9+G9*I9)/26*L9,0) | X9: =ROUND(R9*50000,0) | Y9: 0 | Z9: 0 | AA9: 0 | AC9: 0 | AD9: 0 | AE9: 0 | AG9: =SUM(T9:AF9) | AH9: =IF(X9<=1200000,X9,1200000) | AL9: =AG9-(AH9+Y9+V9) | AM9: 0 | AP9: 573300 | AQ9: 15500000 | AR9: 0 | AT9: =AQ9+AR9*6200000 | AU9: =IF((AL9+AM9-AP9-AT9)<0,0,(AL9+AM9-AP9-AT9)) | AV9: =ROUND(IF(AU9<=10000000,AU9*5%,IF(AU9<=30000000,AU9*10%-500000,IF(AU9<=60000000,AU9*20%-3500000,IF(AU9<=100000000,AU9*30%-9500000,AU9*35%-14500000)))),0) | AZ9: =ROUND(F9*0.5%,0) | BB9: =ROUND(AG9-AP9-AV9-AZ9,0)
A10: 3 | C10: 10010251 | D10: Ngô Văn Vĩ | E10: Công nhân LĐPT | F10: 6000000 | G10: 10000000 | I10: 1 | J10: =Cham_Cong_Hang_Ngay!AK187 | L10: =Cham_Cong_Hang_Ngay!AO187 | N10: 0 | P10: 0 | R10: =Cham_Cong_Hang_Ngay!AP187 | S10: =Cham_Cong_Hang_Ngay!AQ187 | T10: =ROUND(F10/26*(J10+N10+P10),0) | U10: =ROUND((G10*I10)/26*(J10+N10*0.5+P10*0.5),0) | V10: =ROUND((F10+G10*I10)/26/8*S10,0) | W10: =ROUND((F10+G10*I10)/26*L10,0) | X10: =ROUND(R10*50000,0) | Y10: 0 | Z10: 0 | AA10: 0 | AC10: 0 | AD10: 0 | AE10: 0 | AG10: =SUM(T10:AF10) | AH10: =IF(X10<=1200000,X10,1200000) | AL10: =AG10-(AH10+Y10+V10) | AM10: 0 | AP10: 573300 | AQ10: 15500000 | AR10: 0 | AT10: =AQ10+AR10*6200000 | AU10: =IF((AL10+AM10-AP10-AT10)<0,0,(AL10+AM10-AP10-AT10)) | AV10: =ROUND(IF(AU10<=10000000,AU10*5%,IF(AU10<=30000000,AU10*10%-500000,IF(AU10<=60000000,AU10*20%-3500000,IF(AU10<=100000000,AU10*30%-9500000,AU10*35%-14500000)))),0) | AZ10: =ROUND(F10*0.5%,0) | BB10: =ROUND(AG10-AP10-AV10-AZ10,0)
A11: 4 | C11: 10010257 | D11: Nguyễn Văn Lưu | E11: Công nhân LĐPT | F11: 6000000 | G11: 10000000 | I11: 1 | J11: =Cham_Cong_Hang_Ngay!AK188 | L11: =Cham_Cong_Hang_Ngay!AO188 | N11: 0 | P11: 0 | R11: =Cham_Cong_Hang_Ngay!AP188 | S11: =Cham_Cong_Hang_Ngay!AQ188 | T11: =ROUND(F11/26*(J11+N11+P11),0) | U11: =ROUND((G11*I11)/26*(J11+N11*0.5+P11*0.5),0) | V11: =ROUND((F11+G11*I11)/26/8*S11,0) | W11: =ROUND((F11+G11*I11)/26*L11,0) | X11: =ROUND(R11*50000,0) | Y11: 0 | Z11: 0 | AA11: 0 | AC11: 0 | AD11: 0 | AE11: 0 | AG11: =SUM(T11:AF11) | AH11: =IF(X11<=1200000,X11,1200000) | AL11: =AG11-(AH11+Y11+V11) | AM11: 0 | AP11: 573300 | AQ11: 15500000 | AR11: 0 | AT11: =AQ11+AR11*6200000 | AU11: =IF((AL11+AM11-AP11-AT11)<0,0,(AL11+AM11-AP11-AT11)) | AV11: =ROUND(IF(AU11<=10000000,AU11*5%,IF(AU11<=30000000,AU11*10%-500000,IF(AU11<=60000000,AU11*20%-3500000,IF(AU11<=100000000,AU11*30%-9500000,AU11*35%-14500000)))),0) | AZ11: =ROUND(F11*0.5%,0) | BB11: =ROUND(AG11-AP11-AV11-AZ11,0)
A12: 5 | C12: 10010467 | D12: Nguyễn Thị Vui | E12: Công nhân LĐPT | F12: 6000000 | G12: 10000000 | I12: 1 | J12: =Cham_Cong_Hang_Ngay!AK189 | L12: =Cham_Cong_Hang_Ngay!AO189 | N12: 0 | P12: 0 | R12: =Cham_Cong_Hang_Ngay!AP189 | S12: =Cham_Cong_Hang_Ngay!AQ189 | T12: =ROUND(F12/26*(J12+N12+P12),0) | U12: =ROUND((G12*I12)/26*(J12+N12*0.5+P12*0.5),0) | V12: =ROUND((F12+G12*I12)/26/8*S12,0) | W12: =ROUND((F12+G12*I12)/26*L12,0) | X12: =ROUND(R12*50000,0) | Y12: 0 | Z12: 0 | AA12: 0 | AC12: 0 | AD12: 0 | AE12: 0 | AG12: =SUM(T12:AF12) | AH12: =IF(X12<=1200000,X12,1200000) | AL12: =AG12-(AH12+Y12+V12) | AM12: 0 | AP12: 573300 | AQ12: 15500000 | AR12: 0 | AT12: =AQ12+AR12*6200000 | AU12: =IF((AL12+AM12-AP12-AT12)<0,0,(AL12+AM12-AP12-AT12)) | AV12: =ROUND(IF(AU12<=10000000,AU12*5%,IF(AU12<=30000000,AU12*10%-500000,IF(AU12<=60000000,AU12*20%-3500000,IF(AU12<=100000000,AU12*30%-9500000,AU12*35%-14500000)))),0) | AZ12: =ROUND(F12*0.5%,0) | BB12: =ROUND(AG12-AP12-AV12-AZ12,0)
A13: 6 | C13: 10010472 | D13: Trần Văn Mùi | E13: Công nhân LĐPT | F13: 6000000 | G13: 10000000 | I13: 1 | J13: =Cham_Cong_Hang_Ngay!AK190 | L13: =Cham_Cong_Hang_Ngay!AO190 | N13: 0 | P13: 0 | R13: =Cham_Cong_Hang_Ngay!AP190 | S13: =Cham_Cong_Hang_Ngay!AQ190 | T13: =ROUND(F13/26*(J13+N13+P13),0) | U13: =ROUND((G13*I13)/26*(J13+N13*0.5+P13*0.5),0) | V13: =ROUND((F13+G13*I13)/26/8*S13,0) | W13: =ROUND((F13+G13*I13)/26*L13,0) | X13: =ROUND(R13*50000,0) | Y13: 0 | Z13: 0 | AA13: 0 | AC13: 0 | AD13: 0 | AE13: 0 | AG13: =SUM(T13:AF13) | AH13: =IF(X13<=1200000,X13,1200000) | AL13: =AG13-(AH13+Y13+V13) | AM13: 0 | AP13: 573300 | AQ13: 15500000 | AR13: 0 | AT13: =AQ13+AR13*6200000 | AU13: =IF((AL13+AM13-AP13-AT13)<0,0,(AL13+AM13-AP13-AT13)) | AV13: =ROUND(IF(AU13<=10000000,AU13*5%,IF(AU13<=30000000,AU13*10%-500000,IF(AU13<=60000000,AU13*20%-3500000,IF(AU13<=100000000,AU13*30%-9500000,AU13*35%-14500000)))),0) | AZ13: =ROUND(F13*0.5%,0) | BB13: =ROUND(AG13-AP13-AV13-AZ13,0)
A14: 7 | C14: 10010474 | D14: Nguyễn Đình Đồng | E14: Công nhân LĐPT | F14: 6000000 | G14: 10000000 | I14: 1 | J14: =Cham_Cong_Hang_Ngay!AK191 | L14: =Cham_Cong_Hang_Ngay!AO191 | N14: 0 | P14: 0 | R14: =Cham_Cong_Hang_Ngay!AP191 | S14: =Cham_Cong_Hang_Ngay!AQ191 | T14: =ROUND(F14/26*(J14+N14+P14),0) | U14: =ROUND((G14*I14)/26*(J14+N14*0.5+P14*0.5),0) | V14: =ROUND((F14+G14*I14)/26/8*S14,0) | W14: =ROUND((F14+G14*I14)/26*L14,0) | X14: =ROUND(R14*50000,0) | Y14: 0 | Z14: 0 | AA14: 0 | AC14: 0 | AD14: 0 | AE14: 0 | AG14: =SUM(T14:AF14) | AH14: =IF(X14<=1200000,X14,1200000) | AL14: =AG14-(AH14+Y14+V14) | AM14: 0 | AP14: 573300 | AQ14: 15500000 | AR14: 0 | AT14: =AQ14+AR14*6200000 | AU14: =IF((AL14+AM14-AP14-AT14)<0,0,(AL14+AM14-AP14-AT14)) | AV14: =ROUND(IF(AU14<=10000000,AU14*5%,IF(AU14<=30000000,AU14*10%-500000,IF(AU14<=60000000,AU14*20%-3500000,IF(AU14<=100000000,AU14*30%-9500000,AU14*35%-14500000)))),0) | AZ14: =ROUND(F14*0.5%,0) | BB14: =ROUND(AG14-AP14-AV14-AZ14,0)
A15: 8 | C15: 10010475 | D15: Trịnh Thị Bẩy | E15: Công nhân LĐPT | F15: 6000000 | G15: 10000000 | I15: 1 | J15: =Cham_Cong_Hang_Ngay!AK192 | L15: =Cham_Cong_Hang_Ngay!AO192 | N15: 0 | P15: 0 | R15: =Cham_Cong_Hang_Ngay!AP192 | S15: =Cham_Cong_Hang_Ngay!AQ192 | T15: =ROUND(F15/26*(J15+N15+P15),0) | U15: =ROUND((G15*I15)/26*(J15+N15*0.5+P15*0.5),0) | V15: =ROUND((F15+G15*I15)/26/8*S15,0) | W15: =ROUND((F15+G15*I15)/26*L15,0) | X15: =ROUND(R15*50000,0) | Y15: 0 | Z15: 0 | AA15: 0 | AC15: 0 | AD15: 0 | AE15: 0 | AG15: =SUM(T15:AF15) | AH15: =IF(X15<=1200000,X15,1200000) | AL15: =AG15-(AH15+Y15+V15) | AM15: 0 | AP15: 573300 | AQ15: 15500000 | AR15: 0 | AT15: =AQ15+AR15*6200000 | AU15: =IF((AL15+AM15-AP15-AT15)<0,0,(AL15+AM15-AP15-AT15)) | AV15: =ROUND(IF(AU15<=10000000,AU15*5%,IF(AU15<=30000000,AU15*10%-500000,IF(AU15<=60000000,AU15*20%-3500000,IF(AU15<=100000000,AU15*30%-9500000,AU15*35%-14500000)))),0) | AZ15: =ROUND(F15*0.5%,0) | BB15: =ROUND(AG15-AP15-AV15-AZ15,0)
A16: 9 | C16: 10010479 | D16: Nguyễn Thị Kim Dung | E16: Công nhân LĐPT | F16: 6000000 | G16: 10000000 | I16: 1 | J16: =Cham_Cong_Hang_Ngay!AK193 | L16: =Cham_Cong_Hang_Ngay!AO193 | N16: 0 | P16: 0 | R16: =Cham_Cong_Hang_Ngay!AP193 | S16: =Cham_Cong_Hang_Ngay!AQ193 | T16: =ROUND(F16/26*(J16+N16+P16),0) | U16: =ROUND((G16*I16)/26*(J16+N16*0.5+P16*0.5),0) | V16: =ROUND((F16+G16*I16)/26/8*S16,0) | W16: =ROUND((F16+G16*I16)/26*L16,0) | X16: =ROUND(R16*50000,0) | Y16: 0 | Z16: 0 | AA16: 0 | AC16: 0 | AD16: 0 | AE16: 0 | AG16: =SUM(T16:AF16) | AH16: =IF(X16<=1200000,X16,1200000) | AL16: =AG16-(AH16+Y16+V16) | AM16: 0 | AP16: 573300 | AQ16: 15500000 | AR16: 0 | AT16: =AQ16+AR16*6200000 | AU16: =IF((AL16+AM16-AP16-AT16)<0,0,(AL16+AM16-AP16-AT16)) | AV16: =ROUND(IF(AU16<=10000000,AU16*5%,IF(AU16<=30000000,AU16*10%-500000,IF(AU16<=60000000,AU16*20%-3500000,IF(AU16<=100000000,AU16*30%-9500000,AU16*35%-14500000)))),0) | AZ16: =ROUND(F16*0.5%,0) | BB16: =ROUND(AG16-AP16-AV16-AZ16,0)
A17: 10 | C17: 10010480 | D17: Nguyễn Thanh Trường | E17: Công nhân LĐPT | F17: 6000000 | G17: 10000000 | I17: 1 | J17: =Cham_Cong_Hang_Ngay!AK194 | L17: =Cham_Cong_Hang_Ngay!AO194 | N17: 0 | P17: 0 | R17: =Cham_Cong_Hang_Ngay!AP194 | S17: =Cham_Cong_Hang_Ngay!AQ194 | T17: =ROUND(F17/26*(J17+N17+P17),0) | U17: =ROUND((G17*I17)/26*(J17+N17*0.5+P17*0.5),0) | V17: =ROUND((F17+G17*I17)/26/8*S17,0) | W17: =ROUND((F17+G17*I17)/26*L17,0) | X17: =ROUND(R17*50000,0) | Y17: 0 | Z17: 0 | AA17: 0 | AC17: 0 | AD17: 0 | AE17: 0 | AG17: =SUM(T17:AF17) | AH17: =IF(X17<=1200000,X17,1200000) | AL17: =AG17-(AH17+Y17+V17) | AM17: 0 | AP17: 573300 | AQ17: 15500000 | AR17: 0 | AT17: =AQ17+AR17*6200000 | AU17: =IF((AL17+AM17-AP17-AT17)<0,0,(AL17+AM17-AP17-AT17)) | AV17: =ROUND(IF(AU17<=10000000,AU17*5%,IF(AU17<=30000000,AU17*10%-500000,IF(AU17<=60000000,AU17*20%-3500000,IF(AU17<=100000000,AU17*30%-9500000,AU17*35%-14500000)))),0) | AZ17: =ROUND(F17*0.5%,0) | BB17: =ROUND(AG17-AP17-AV17-AZ17,0)
A18: 11 | C18: 10010612 | D18: Lê Văn Dễ | E18: Công nhân LĐPT | F18: 6000000 | G18: 10000000 | I18: 1 | J18: =Cham_Cong_Hang_Ngay!AK195 | L18: =Cham_Cong_Hang_Ngay!AO195 | N18: 0 | P18: 0 | R18: =Cham_Cong_Hang_Ngay!AP195 | S18: =Cham_Cong_Hang_Ngay!AQ195 | T18: =ROUND(F18/26*(J18+N18+P18),0) | U18: =ROUND((G18*I18)/26*(J18+N18*0.5+P18*0.5),0) | V18: =ROUND((F18+G18*I18)/26/8*S18,0) | W18: =ROUND((F18+G18*I18)/26*L18,0) | X18: =ROUND(R18*50000,0) | Y18: 0 | Z18: 0 | AA18: 0 | AC18: 0 | AD18: 0 | AE18: 0 | AG18: =SUM(T18:AF18) | AH18: =IF(X18<=1200000,X18,1200000) | AL18: =AG18-(AH18+Y18+V18) | AM18: 0 | AP18: 573300 | AQ18: 15500000 | AR18: 0 | AT18: =AQ18+AR18*6200000 | AU18: =IF((AL18+AM18-AP18-AT18)<0,0,(AL18+AM18-AP18-AT18)) | AV18: =ROUND(IF(AU18<=10000000,AU18*5%,IF(AU18<=30000000,AU18*10%-500000,IF(AU18<=60000000,AU18*20%-3500000,IF(AU18<=100000000,AU18*30%-9500000,AU18*35%-14500000)))),0) | AZ18: =ROUND(F18*0.5%,0) | BB18: =ROUND(AG18-AP18-AV18-AZ18,0)
A19: 12 | C19: 10010614 | D19: Lưu Ngọc Toản | E19: Công nhân LĐPT | F19: 6000000 | G19: 10000000 | I19: 1 | J19: =Cham_Cong_Hang_Ngay!AK196 | L19: =Cham_Cong_Hang_Ngay!AO196 | N19: 0 | P19: 0 | R19: =Cham_Cong_Hang_Ngay!AP196 | S19: =Cham_Cong_Hang_Ngay!AQ196 | T19: =ROUND(F19/26*(J19+N19+P19),0) | U19: =ROUND((G19*I19)/26*(J19+N19*0.5+P19*0.5),0) | V19: =ROUND((F19+G19*I19)/26/8*S19,0) | W19: =ROUND((F19+G19*I19)/26*L19,0) | X19: =ROUND(R19*50000,0) | Y19: 0 | Z19: 0 | AA19: 0 | AC19: 0 | AD19: 0 | AE19: 0 | AG19: =SUM(T19:AF19) | AH19: =IF(X19<=1200000,X19,1200000) | AL19: =AG19-(AH19+Y19+V19) | AM19: 0 | AP19: 573300 | AQ19: 15500000 | AR19: 0 | AT19: =AQ19+AR19*6200000 | AU19: =IF((AL19+AM19-AP19-AT19)<0,0,(AL19+AM19-AP19-AT19)) | AV19: =ROUND(IF(AU19<=10000000,AU19*5%,IF(AU19<=30000000,AU19*10%-500000,IF(AU19<=60000000,AU19*20%-3500000,IF(AU19<=100000000,AU19*30%-9500000,AU19*35%-14500000)))),0) | AZ19: =ROUND(F19*0.5%,0) | BB19: =ROUND(AG19-AP19-AV19-AZ19,0)
... A38: 31 | C38: 10012816 | D38: Võ Tấn Phong | E38: Công nhân LĐPT | F38: 6000000 | G38: 10000000 | I38: 1 | J38: =Cham_Cong_Hang_Ngay!AK215 | L38: =Cham_Cong_Hang_Ngay!AO215 | N38: 0 | P38: 0 | R38: =Cham_Cong_Hang_Ngay!AP215 | S38: =Cham_Cong_Hang_Ngay!AQ215 | T38: =ROUND(F38/26*(J38+N38+P38),0) | U38: =ROUND((G38*I38)/26*(J38+N38*0.5+P38*0.5),0) | V38: =ROUND((F38+G38*I38)/26/8*S38,0) | W38: =ROUND((F38+G38*I38)/26*L38,0) | X38: =ROUND(R38*50000,0) | Y38: 0 | Z38: 0 | AA38: 0 | AC38: 0 | AD38: 0 | AE38: 0 | AG38: =SUM(T38:AF38) | AH38: =IF(X38<=1200000,X38,1200000) | AL38: =AG38-(AH38+Y38+V38) | AM38: 0 | AP38: 573300 | AQ38: 15500000 | AR38: 0 | AT38: =AQ38+AR38*6200000 | AU38: =IF((AL38+AM38-AP38-AT38)<0,0,(AL38+AM38-AP38-AT38)) | AV38: =ROUND(IF(AU38<=10000000,AU38*5%,IF(AU38<=30000000,AU38*10%-500000,IF(AU38<=60000000,AU38*20%-3500000,IF(AU38<=100000000,AU38*30%-9500000,AU38*35%-14500000)))),0) | AZ38: =ROUND(F38*0.5%,0) | BB38: =ROUND(AG38-AP38-AV38-AZ38,0)
A39: CỘNG 9- PHÒNG QUẢN LÝ THI CÔNG: | F39: =SUM(F8:F38) | G39: =SUM(G8:G38) | T39: =SUM(T8:T38) | U39: =SUM(U8:U38) | V39: =SUM(V8:V38) | W39: =SUM(W8:W38) | X39: =SUM(X8:X38) | Y39: =SUM(Y8:Y38) | Z39: =SUM(Z8:Z38) | AA39: =SUM(AA8:AA38) | AC39: =SUM(AC8:AC38) | AD39: =SUM(AD8:AD38) | AE39: =SUM(AE8:AE38) | AG39: =SUM(AG8:AG38) | AL39: =SUM(AL8:AL38) | AM39: =SUM(AM8:AM38) | AP39: =SUM(AP8:AP38) | AV39: =SUM(AV8:AV38) | AZ39: =SUM(AZ8:AZ38) | BB39: =SUM(BB8:BB38)
A40: TỔNG CỘNG KHỐI LAO ĐỘNG PHỔ THÔNG (LDPT): | F40: =F39 | G40: =G39 | T40: =T39 | U40: =U39 | V40: =V39 | W40: =W39 | X40: =X39 | Y40: =Y39 | Z40: =Z39 | AA40: =AA39 | AC40: =AC39 | AD40: =AD39 | AE40: =AE39 | AG40: =AG39 | AL40: =AL39 | AM40: =AM39 | AP40: =AP39 | AV40: =AV39 | AZ40: =AZ39 | BB40: =BB39
