Workbook

Sheet Tong_Hop_4_Nhom
A1: CÔNG TY CỔ PHẦN XÂY DỰNG HẠ TẦNG FECON
A3: BẢNG TỔNG HỢP QUỸ LƯƠNG 4 NHÓM THÁNG 08/2026
A5: STT | B5: Mã Nhóm | C5: Tên Nhóm Lương | D5: Số Nhân Sự | E5: Tổng Thu Nhập (Gross) | F5: BHXH (10.5%) | G5: Thuế TNCN | H5: THỰC LĨNH
A6: 1 | B6: VP | C6: KHỐI VĂN PHÒNG (VP) | D6: 54 | E6: 994273079 | F6: 44928450 | G6: 2807793 | H6: 947108736
A7: 2 | B7: CT | C7: KHỐI CÔNG TRƯỜNG (CT) | D7: 91 | E7: 1.7116513e+09 | F7: 65971500 | G7: 4736953 | H7: 1638902844
A8: 3 | B8: LM | C8: KHỐI LÁI MÁY (LM) | D8: 28 | E8: 551824999 | F8: 18649050 | G8: 3027064 | H8: 529968885
A9: 4 | B9: LDPT | C9: KHỐI LAO ĐỘNG PHỔ THÔNG (LDPT) | D9: 31 | E9: 498478460 | F9: 17942400 | G9: 2280545 | H9: 477985515
A10: TỔNG CỘNG TOÀN DOANH NGHIỆP: | D10: =SUM(D6:D9) | E10: =SUM(E6:E9) | F10: =SUM(F6:F9) | G10: =SUM(G6:G9) | H10: =SUM(H6:H9)

Sheet Cham_Cong_Hang_Ngay
A1: CÔNG TY CỔ PHẦN XÂY DỰNG HẠ TẦNG FECON
A3: BẢNG CHẤM CÔNG VÀ THEO DÕI GIỜ MÁY HÀNG NGÀY THÁNG 08/2026
A4: (Dữ liệu chấm công hàng ngày được link trực tiếp vào Bảng Tính Lương. Khi sửa ngày công hoặc giờ máy, tiền lương tự động nhảy số theo)
A6: STT | B6: Mã NV | C6: Họ và Tên | D6: Khối | E6: Chức vụ / Thiết bị | F6: 1 | G6: 2 | H6: 3 | I6: 4 | J6: 5 | K6: 6 | L6: 7 | M6: 8 | N6: 9 | O6: 10 | P6: 11 | Q6: 12 | R6: 13 | S6: 14 | T6: 15 | U6: 16 | V6: 17 | W6: 18 | X6: 19 | Y6: 20 | Z6: 21 | AA6: 22 | AB6: 23 | AC6: 24 | AD6: 25 | AE6: 26 | AF6: 27 | AG6: 28 | AH6: 29 | AI6: 30 | AJ6: 31 | AK6: Tổng Ngày Công | AL6: Tổng Giờ Máy | AM6: Giờ Chuẩn (<=208h) | AN6: Giờ Vượt (OT >208h) | AO6: Công Chủ Nhật | AP6: Công Ăn Ca | AQ6: Giờ OT Quy Đổi | AR6: Nghỉ Phép (P) | AS6: Ký Nhận
F7: T7 | G7: CN | H7: T2 | I7: T3 | J7: T4 | K7: T5 | L7: T6 | M7: T7 | N7: CN | O7: T2 | P7: T3 | Q7: T4 | R7: T5 | S7: T6 | T7: T7 | U7: CN | V7: T2 | W7: T3 | X7: T4 | Y7: T5 | Z7: T6 | AA7: T7 | AB7: CN | AC7: T2 | AD7: T3 | AE7: T4 | AF7: T5 | AG7: T6 | AH7: T7 | AI7: CN | AJ7: T2
A8: KHỐI VĂN PHÒNG (VP) - BẢNG CHẤM CÔNG CHI TIẾT
A9: 1 | B9: 10000920.FCIC | C9: Nguyễn Chí Công | D9: VP | E9: Phó Chủ tịch HĐQT | F9: X | G9: CN | H9: X | I9: X | J9: X | K9: X | L9: X | M9: X | N9: CN | O9: X | P9: X | Q9: X | R9: X | S9: X | T9: X | U9: CN | V9: X | W9: X | X9: X | Y9: X | Z9: X | AA9: X | AB9: CN | AC9: X | AD9: X | AE9: X | AF9: X | AG9: X | AH9: X | AI9: CN | AJ9: X | AK9: =COUNTIF(F9:AJ9,"X") + COUNTIF(F9:AJ9,"x") + COUNTIF(F9:AJ9,"1/2")*0.5 + COUNTIF(F9:AJ9,"0.5")*0.5 + COUNTIF(F9:AJ9,"P") | AL9: - | AM9: - | AN9: - | AO9: 0 | AP9: =AK9 | AQ9: 0 | AR9: =COUNTIF(F9:AJ9,"P") + COUNTIF(F9:AJ9,"p")
A10: 2 | B10: 10002720.FCIC | C10: Trịnh Quốc Tuấn | D10: VP | E10: Thành viên HĐQT | F10: X | G10: CN | H10: X | I10: X | J10: X | K10: X | L10: X | M10: X | N10: CN | O10: X | P10: X | Q10: X | R10: X | S10: X | T10: X | U10: CN | V10: X | W10: X | X10: X | Y10: X | Z10: X | AA10: X | AB10: CN | AC10: X | AD10: X | AE10: X | AF10: X | AG10: X | AH10: X | AI10: CN | AJ10: X | AK10: =COUNTIF(F10:AJ10,"X") + COUNTIF(F10:AJ10,"x") + COUNTIF(F10:AJ10,"1/2")*0.5 + COUNTIF(F10:AJ10,"0.5")*0.5 + COUNTIF(F10:AJ10,"P") | AL10: - | AM10: - | AN10: - | AO10: 0 | AP10: =AK10 | AQ10: 0 | AR10: =COUNTIF(F10:AJ10,"P") + COUNTIF(F10:AJ10,"p")
A11: 3 | B11: 10003397.FCIC | C11: Đỗ Mạnh Cường | D11: VP | E11: Chủ tịch HĐQT | F11: X | G11: CN | H11: X | I11: X | J11: X | K11: X | L11: X | M11: X | N11: CN | O11: X | P11: X | Q11: X | R11: X | S11: X | T11: X | U11: CN | V11: X | W11: X | X11: X | Y11: X | Z11: X | AA11: X | AB11: CN | AC11: X | AD11: X | AE11: X | AF11: X | AG11: X | AH11: X | AI11: CN | AJ11: X | AK11: =COUNTIF(F11:AJ11,"X") + COUNTIF(F11:AJ11,"x") + COUNTIF(F11:AJ11,"1/2")*0.5 + COUNTIF(F11:AJ11,"0.5")*0.5 + COUNTIF(F11:AJ11,"P") | AL11: - | AM11: - | AN11: - | AO11: 0 | AP11: =AK11 | AQ11: 0 | AR11: =COUNTIF(F11:AJ11,"P") + COUNTIF(F11:AJ11,"p")
A12: 4 | B12: 10004720.FCIC | C12: Nguyễn Thị Nhàn | D12: VP | E12: Trưởng Ban kiểm soát | F12: X | G12: CN | H12: X | I12: X | J12: X | K12: X | L12: X | M12: X | N12: CN | O12: X | P12: X | Q12: X | R12: X | S12: X | T12: X | U12: CN | V12: X | W12: X | X12: X | Y12: X | Z12: X | AA12: X | AB12: CN | AC12: X | AD12: X | AE12: X | AF12: X | AG12: X | AH12: X | AI12: CN | AJ12: X | AK12: =COUNTIF(F12:AJ12,"X") + COUNTIF(F12:AJ12,"x") + COUNTIF(F12:AJ12,"1/2")*0.5 + COUNTIF(F12:AJ12,"0.5")*0.5 + COUNTIF(F12:AJ12,"P") | AL12: - | AM12: - | AN12: - | AO12: 0 | AP12: =AK12 | AQ12: 0 | AR12: =COUNTIF(F12:AJ12,"P") + COUNTIF(F12:AJ12,"p")
A13: 5 | B13: 10005763.FCIC | C13: Nguyễn Thành Duy | D13: VP | E13: Thành viên Ban kiểm soát | F13: X | G13: CN | H13: X | I13: X | J13: X | K13: X | L13: X | M13: X | N13: CN | O13: X | P13: X | Q13: X | R13: X | S13: X | T13: X | U13: CN | V13: X | W13: X | X13: X | Y13: X | Z13: X | AA13: X | AB13: CN | AC13: X | AD13: X | AE13: X | AF13: X | AG13: X | AH13: X | AI13: CN | AJ13: X | AK13: =COUNTIF(F13:AJ13,"X") + COUNTIF(F13:AJ13,"x") + COUNTIF(F13:AJ13,"1/2")*0.5 + COUNTIF(F13:AJ13,"0.5")*0.5 + COUNTIF(F13:AJ13,"P") | AL13: - | AM13: - | AN13: - | AO13: 0 | AP13: =AK13 | AQ13: 0 | AR13: =COUNTIF(F13:AJ13,"P") + COUNTIF(F13:AJ13,"p")
A14: 6 | B14: 10006458.FCIC | C14: Phạm Thu Hoài | D14: VP | E14: Thành viên Ban kiểm soát | F14: X | G14: CN | H14: X | I14: X | J14: X | K14: X | L14: X | M14: X | N14: CN | O14: X | P14: X | Q14: X | R14: X | S14: X | T14: X | U14: CN | V14: X | W14: X | X14: X | Y14: X | Z14: X | AA14: X | AB14: CN | AC14: X | AD14: X | AE14: X | AF14: X | AG14: X | AH14: X | AI14: CN | AJ14: X | AK14: =COUNTIF(F14:AJ14,"X") + COUNTIF(F14:AJ14,"x") + COUNTIF(F14:AJ14,"1/2")*0.5 + COUNTIF(F14:AJ14,"0.5")*0.5 + COUNTIF(F14:AJ14,"P") | AL14: - | AM14: - | AN14: - | AO14: 0 | AP14: =AK14 | AQ14: 0 | AR14: =COUNTIF(F14:AJ14,"P") + COUNTIF(F14:AJ14,"p")
A15: 7 | B15: 10002265.FCIC | C15: Trần Văn Nguyện | D15: VP | E15: Phó Tổng Giám đốc | F15: X | G15: CN | H15: X | I15: X | J15: X | K15: X | L15: X | M15: X | N15: CN | O15: X | P15: X | Q15: X | R15: X | S15: X | T15: X | U15: CN | V15: X | W15: X | X15: X | Y15: X | Z15: X | AA15: X | AB15: CN | AC15: X | AD15: X | AE15: X | AF15: X | AG15: X | AH15: X | AI15: CN | AJ15: X | AK15: =COUNTIF(F15:AJ15,"X") + COUNTIF(F15:AJ15,"x") + COUNTIF(F15:AJ15,"1/2")*0.5 + COUNTIF(F15:AJ15,"0.5")*0.5 + COUNTIF(F15:AJ15,"P") | AL15: - | AM15: - | AN15: - | AO15: 0 | AP15: 21 | AQ15: 0 | AR15: =COUNTIF(F15:AJ15,"P") + COUNTIF(F15:AJ15,"p")
A16: 8 | B16: 10004030 | C16: Nguyễn Quang Tuyến | D16: VP | E16: Phó Tổng Giám đốc | F16: X | G16: CN | H16: X | I16: X | J16: X | K16: X | L16: X | M16: X | N16: CN | O16: X | P16: X | Q16: X | R16: X | S16: X | T16: X | U16: CN | V16: X | W16: X | X16: X | Y16: X | Z16: X | AA16: X | AB16: CN | AC16: X | AD16: X | AE16: X | AF16: X | AG16: X | AH16: X | AI16: CN | AJ16: P | AK16: =COUNTIF(F16:AJ16,"X") + COUNTIF(F16:AJ16,"x") + COUNTIF(F16:AJ16,"1/2")*0.5 + COUNTIF(F16:AJ16,"0.5")*0.5 + COUNTIF(F16:AJ16,"P") | AL16: - | AM16: - | AN16: - | AO16: 0 | AP16: 21 | AQ16: 0 | AR16: =COUNTIF(F16:AJ16,"P") + COUNTIF(F16:AJ16,"p")
A17: 9 | B17: 10005729.FCIC | C17: Trần Dương Khánh | D17: VP | E17: Phó Tổng Giám đốc | F17: X | G17: CN | H17: X | I17: X | J17: X | K17: X | L17: X | M17: X | N17: CN | O17: X | P17: X | Q17: X | R17: X | S17: X | T17: X | U17: CN | V17: X | W17: X | X17: X | Y17: X | Z17: X | AA17: X | AB17: CN | AC17: X | AD17: X | AE17: X | AF17: X | AG17: X | AH17: X | AI17: CN | AJ17: X | AK17: =COUNTIF(F17:AJ17,"X") + COUNTIF(F17:AJ17,"x") + COUNTIF(F17:AJ17,"1/2")*0.5 + COUNTIF(F17:AJ17,"0.5")*0.5 + COUNTIF(F17:AJ17,"P") | AL17: - | AM17: - | AN17: - | AO17: 0 | AP17: 21 | AQ17: 0 | AR17: =COUNTIF(F17:AJ17,"P") + COUNTIF(F17:AJ17,"p")
A18: 10 | B18: 10009200 | C18: Võ Huy Bình | D18: VP | E18: Tổng Giám đốc điều hành | F18: X | G18: CN | H18: X | I18: X | J18: X | K18: X | L18: X | M18: X | N18: CN | O18: X | P18: X | Q18: X | R18: X | S18: X | T18: X | U18: CN | V18: X | W18: X | X18: X | Y18: X | Z18: X | AA18: X | AB18: CN | AC18: X | AD18: X | AE18: X | AF18: X | AG18: X | AH18: X | AI18: CN | AJ18: X | AK18: =COUNTIF(F18:AJ18,"X") + COUNTIF(F18:AJ18,"x") + COUNTIF(F18:AJ18,"1/2")*0.5 + COUNTIF(F18:AJ18,"0.5")*0.5 + COUNTIF(F18:AJ18,"P") | AL18: - | AM18: - | AN18: - | AO18: 0 | AP18: 21 | AQ18: 0 | AR18: =COUNTIF(F18:AJ18,"P") + COUNTIF(F18:AJ18,"p")
A19: 11 | B19: 10011001.FCIC | C19: Lê Đức Thọ | D19: VP | E19: Phó Tổng Giám đốc | F19: X | G19: CN | H19: X | I19: X | J19: X | K19: X | L19: X | M19: X | N19: CN | O19: X | P19: X | Q19: X | R19: X | S19: X | T19: X | U19: CN | V19: X | W19: X | X19: X | Y19: X | Z19: X | AA19: X | AB19: CN | AC19: X | AD19: X | AE19: X | AF19: X | AG19: X | AH19: X | AI19: CN | AJ19: X | AK19: =COUNTIF(F19:AJ19,"X") + COUNTIF(F19:AJ19,"x") + COUNTIF(F19:AJ19,"1/2")*0.5 + COUNTIF(F19:AJ19,"0.5")*0.5 + COUNTIF(F19:AJ19,"P") | AL19: - | AM19: - | AN19: - | AO19: 0 | AP19: 22 | AQ19: 0 | AR19: =COUNTIF(F19:AJ19,"P") + COUNTIF(F19:AJ19,"p")
A20: 12 | B20: 10003680 | C20: Bùi Thị Liên | D20: VP | E20: Chuyên viên Kế toán | F20: X | G20: CN | H20: X | I20: X | J20: X | K20: X | L20: X | M20: X | N20: CN | O20: X | P20: X | Q20: X | R20: X | S20: X | T20: X | U20: CN | V20: X | W20: X | X20: X | Y20: X | Z20: X | AA20: X | AB20: CN | AC20: X | AD20: X | AE20: X | AF20: X | AG20: X | AH20: P | AI20: CN | AJ20: P | AK20: =COUNTIF(F20:AJ20,"X") + COUNTIF(F20:AJ20,"x") + COUNTIF(F20:AJ20,"1/2")*0.5 + COUNTIF(F20:AJ20,"0.5")*0.5 + COUNTIF(F20:AJ20,"P") | AL20: - | AM20: - | AN20: - | AO20: 0 | AP20: 20 | AQ20: 4.5 | AR20: =COUNTIF(F20:AJ20,"P") + COUNTIF(F20:AJ20,"p")
A21: 13 | B21: 10004026 | C21: Lê Thị Thùy Dương | D21: VP | E21: Trưởng phòng Tài chính Kế toán | F21: X | G21: CN | H21: X | I21: X | J21: X | K21: X | L21: X | M21: X | N21: CN | O21: X | P21: X | Q21: X | R21: X | S21: X | T21: X | U21: CN | V21: X | W21: X | X21: X | Y21: X | Z21: X | AA21: X | AB21: CN | AC21: X | AD21: X | AE21: X | AF21: X | AG21: X | AH21: X | AI21: CN | AJ21: X | AK21: =COUNTIF(F21:AJ21,"X") + COUNTIF(F21:AJ21,"x") + COUNTIF(F21:AJ21,"1/2")*0.5 + COUNTIF(F21:AJ21,"0.5")*0.5 + COUNTIF(F21:AJ21,"P") | AL21: - | AM21: - | AN21: - | AO21: 0 | AP21: 21 | AQ21: 0 | AR21: =COUNTIF(F21:AJ21,"P") + COUNTIF(F21:AJ21,"p")
A22: 14 | B22: 10005451 | C22: Thế Thị Trang | D22: VP | E22: Chuyên viên Kế toán | F22: X | G22: CN | H22: X | I22: X | J22: X | K22: X | L22: X | M22: X | N22: CN | O22: X | P22: X | Q22: X | R22: X | S22: X | T22: X | U22: CN | V22: X | W22: X | X22: X | Y22: X | Z22: X | AA22: X | AB22: CN | AC22: X | AD22: X | AE22: X | AF22: X | AG22: X | AH22: X | AI22: CN | AJ22: P | AK22: =COUNTIF(F22:AJ22,"X") + COUNTIF(F22:AJ22,"x") + COUNTIF(F22:AJ22,"1/2")*0.5 + COUNTIF(F22:AJ22,"0.5")*0.5 + COUNTIF(F22:AJ22,"P") | AL22: - | AM22: - | AN22: - | AO22: 0 | AP22: 21 | AQ22: 0 | AR22: =COUNTIF(F22:AJ22,"P") + COUNTIF(F22:AJ22,"p")
A23: 15 | B23: 10008554 | C23: Bùi Thị Thu Thủy | D23: VP | E23: Chuyên viên Kế toán | F23: X | G23: CN | H23: X | I23: X | J23: X | K23: X | L23: X | M23: X | N23: CN | O23: X | P23: X | Q23: X | R23: X | S23: X | T23: X | U23: CN | V23: X | W23: X | X23: X | Y23: X | Z23: X | AA23: X | AB23: CN | AC23: X | AD23: X | AE23: X | AF23: X | AG23: X | AH23: X | AI23: CN | AJ23: P | AK23: =COUNTIF(F23:AJ23,"X") + COUNTIF(F23:AJ23,"x") + COUNTIF(F23:AJ23,"1/2")*0.5 + COUNTIF(F23:AJ23,"0.5")*0.5 + COUNTIF(F23:AJ23,"P") | AL23: - | AM23: - | AN23: - | AO23: 0 | AP23: 20 | AQ23: 0 | AR23: =COUNTIF(F23:AJ23,"P") + COUNTIF(F23:AJ23,"p")
A24: 16 | B24: 10009041 | C24: Đỗ Thị Thảo | D24: VP | E24: Kế toán tổng hợp | F24: X | G24: CN | H24: X | I24: X | J24: X | K24: X | L24: X | M24: X | N24: CN | O24: X | P24: X | Q24: X | R24: X | S24: X | T24: X | U24: CN | V24: X | W24: X | X24: X | Y24: X | Z24: X | AA24: X | AB24: CN | AC24: X | AD24: X | AE24: X | AF24: X | AG24: X | AH24: X | AI24: CN | AJ24: P | AK24: =COUNTIF(F24:AJ24,"X") + COUNTIF(F24:AJ24,"x") + COUNTIF(F24:AJ24,"1/2")*0.5 + COUNTIF(F24:AJ24,"0.5")*0.5 + COUNTIF(F24:AJ24,"P") | AL24: - | AM24: - | AN24: - | AO24: 0 | AP24: 20 | AQ24: 0 | AR24: =COUNTIF(F24:AJ24,"P") + COUNTIF(F24:AJ24,"p")
A25: 17 | B25: 10012215 | C25: Nguyễn Thị Thắm | D25: VP | E25: Chuyên viên Kế toán | F25: X | G25: CN | H25: X | I25: X | J25: X | K25: X | L25: X | M25: X | N25: CN | O25: X | P25: X | Q25: X | R25: X | S25: X | T25: X | U25: CN | V25: X | W25: X | X25: X | Y25: X | Z25: X | AA25: X | AB25: CN | AC25: X | AD25: X | AE25: X | AF25: X | AG25: X | AH25: V | AI25: CN | AJ25: V | AK25: =COUNTIF(F25:AJ25,"X") + COUNTIF(F25:AJ25,"x") + COUNTIF(F25:AJ25,"1/2")*0.5 + COUNTIF(F25:AJ25,"0.5")*0.5 + COUNTIF(F25:AJ25,"P") | AL25: - | AM25: - | AN25: - | AO25: 0 | AP25: 18 | AQ25: 0 | AR25: =COUNTIF(F25:AJ25,"P") + COUNTIF(F25:AJ25,"p")
A26: 18 | B26: 10003676 | C26: Nguyễn Thị Kim Chi | D26: VP | E26: Trưởng phòng Hành chính Nhân sự | F26: X | G26: CN | H26: X | I26: X | J26: X | K26: X | L26: X | M26: X | N26: CN | O26: X | P26: X | Q26: X | R26: X | S26: X | T26: X | U26: CN | V26: X | W26: X | X26: X | Y26: X | Z26: X | AA26: X | AB26: CN | AC26: X | AD26: X | AE26: X | AF26: X | AG26: X | AH26: P | AI26: CN | AJ26: P | AK26: =COUNTIF(F26:AJ26,"X") + COUNTIF(F26:AJ26,"x") + COUNTIF(F26:AJ26,"1/2")*0.5 + COUNTIF(F26:AJ26,"0.5")*0.5 + COUNTIF(F26:AJ26,"P") | AL26: - | AM26: - | AN26: - | AO26: 0 | AP26: 20 | AQ26: 0 | AR26: =COUNTIF(F26:AJ26,"P") + COUNTIF(F26:AJ26,"p")
... A29: 21 | B29: 10004074 | C29: Vũ Thị Thu Lan | D29: VP | E29: Chuyên viên Nhân sự | F29: X | G29: CN | H29: X | I29: X | J29: X | K29: X | L29: X | M29: X | N29: CN | O29: X | P29: X | Q29: X | R29: X | S29: X | T29: X | U29: CN | V29: X | W29: X | X29: X | Y29: X | Z29: X | AA29: X | AB29: CN | AC29: X | AD29: X | AE29: X | AF29: X | AG29: P | AH29: P | AI29: CN | AJ29: P | AK29: =COUNTIF(F29:AJ29,"X") + COUNTIF(F29:AJ29,"x") + COUNTIF(F29:AJ29,"1/2")*0.5 + COUNTIF(F29:AJ29,"0.5")*0.5 + COUNTIF(F29:AJ29,"P") | AL29: - | AM29: - | AN29: - | AO29: 0 | AP29: 18 | AQ29: 0 | AR29: =COUNTIF(F29:AJ29,"P") + COUNTIF(F29:AJ29,"p")
A30: 22 | B30: 10004152 | C30: Nguyễn Thị Xuân | D30: VP | E30: Tạp vụ- CTV | F30: X | G30: CN | H30: X | I30: X | J30: X | K30: X | L30: X | M30: X | N30: CN | O30: X | P30: X | Q30: X | R30: X | S30: X | T30: X | U30: CN | V30: X | W30: X | X30: X | Y30: X | Z30: X | AA30: X | AB30: CN | AC30: X | AD30: X | AE30: X | AF30: X | AG30: X | AH30: X | AI30: CN | AJ30: X | AK30: =COUNTIF(F30:AJ30,"X") + COUNTIF(F30:AJ30,"x") + COUNTIF(F30:AJ30,"1/2")*0.5 + COUNTIF(F30:AJ30,"0.5")*0.5 + COUNTIF(F30:AJ30,"P") | AL30: - | AM30: - | AN30: - | AO30: 0 | AP30: =AK30 | AQ30: 0 | AR30: =COUNTIF(F30:AJ30,"P") + COUNTIF(F30:AJ30,"p")
A31: 23 | B31: 10004472 | C31: Phạm Thị Tuyết Mai | D31: VP | E31: Chuyên viên Nhân sự | F31: X | G31: CN | H31: X | I31: X | J31: X | K31: X | L31: X | M31: X | N31: CN | O31: X | P31: X | Q31: X | R31: X | S31: X | T31: X | U31: CN | V31: X | W31: X | X31: X | Y31: X | Z31: X | AA31: X | AB31: CN | AC31: X | AD31: X | AE31: X | AF31: X | AG31: X | AH31: P | AI31: CN | AJ31: P | AK31: =COUNTIF(F31:AJ31,"X") + COUNTIF(F31:AJ31,"x") + COUNTIF(F31:AJ31,"1/2")*0.5 + COUNTIF(F31:AJ31,"0.5")*0.5 + COUNTIF(F31:AJ31,"P") | AL31: - | AM31: - | AN31: - | AO31: 0 | AP31: 20 | AQ31: 0 | AR31: =COUNTIF(F31:AJ31,"P") + COUNTIF(F31:AJ31,"p")
A32: 24 | B32: 10011040 | C32: Nguyễn Kim Dũng | D32: VP | E32: Nhân viên Lái xe | F32: X | G32: CN | H32: X | I32: X | J32: X | K32: X | L32: X | M32: X | N32: CN | O32: X | P32: X | Q32: X | R32: X | S32: X | T32: X | U32: CN | V32: X | W32: X | X32: X | Y32: X | Z32: X | AA32: X | AB32: CN | AC32: X | AD32: X | AE32: X | AF32: X | AG32: X | AH32: X | AI32: CN | AJ32: P | AK32: =COUNTIF(F32:AJ32,"X") + COUNTIF(F32:AJ32,"x") + COUNTIF(F32:AJ32,"1/2")*0.5 + COUNTIF(F32:AJ32,"0.5")*0.5 + COUNTIF(F32:AJ32,"P") | AL32: - | AM32: - | AN32: - | AO32: 0 | AP32: 14 | AQ32: 0 | AR32: =COUNTIF(F32:AJ32,"P") + COUNTIF(F32:AJ32,"p")
A33: 25 | B33: 10012266 | C33: Trần Đặng Quỳnh Anh | D33: VP | E33: Nhân viên hành chính | F33: X | G33: CN | H33: X | I33: X | J33: X | K33: X | L33: X | M33: X | N33: CN | O33: X | P33: X | Q33: X | R33: X | S33: X | T33: X | U33: CN | V33: X | W33: X | X33: X | Y33: X | Z33: X | AA33: X | AB33: CN | AC33: X | AD33: X | AE33: X | AF33: X | AG33: X | AH33: X | AI33: CN | AJ33: X | AK33: =COUNTIF(F33:AJ33,"X") + COUNTIF(F33:AJ33,"x") + COUNTIF(F33:AJ33,"1/2")*0.5 + COUNTIF(F33:AJ33,"0.5")*0.5 + COUNTIF(F33:AJ33,"P") | AL33: - | AM33: - | AN33: - | AO33: 0 | AP33: 22 | AQ33: 0 | AR33: =COUNTIF(F33:AJ33,"P") + COUNTIF(F33:AJ33,"p")
A34: 26 | B34: 10003666 | C34: Lê Đức Hùng | D34: VP | E34: Chuyên viên Kinh tế Đấu thầu | F34: X | G34: X | H34: X | I34: X | J34: X | K34: X | L34: X | M34: X | N34: CN | O34: X | P34: X | Q34: X | R34: X | S34: X | T34: X | U34: CN | V34: X | W34: X | X34: X | Y34: X | Z34: X | AA34: X | AB34: CN | AC34: X | AD34: X | AE34: X | AF34: X | AG34: X | AH34: X | AI34: CN | AJ34: P | AK34: =COUNTIF(F34:AJ34,"X") + COUNTIF(F34:AJ34,"x") + COUNTIF(F34:AJ34,"1/2")*0.5 + COUNTIF(F34:AJ34,"0.5")*0.5 + COUNTIF(F34:AJ34,"P") | AL34: - | AM34: - | AN34: - | AO34: 1 | AP34: 22 | AQ34: 0 | AR34: =COUNTIF(F34:AJ34,"P") + COUNTIF(F34:AJ34,"p")
A35: 27 | B35: 10003667 | C35: Trương Đức Cường | D35: VP | E35: Trưởng nhóm đấu thầu | F35: X | G35: CN | H35: X | I35: X | J35: X | K35: X | L35: X | M35: X | N35: CN | O35: X | P35: X | Q35: X | R35: X | S35: X | T35: X | U35: CN | V35: X | W35: X | X35: X | Y35: X | Z35: X | AA35: X | AB35: CN | AC35: X | AD35: X | AE35: X | AF35: X | AG35: X | AH35: X | AI35: CN | AJ35: X | AK35: =COUNTIF(F35:AJ35,"X") + COUNTIF(F35:AJ35,"x") + COUNTIF(F35:AJ35,"1/2")*0.5 + COUNTIF(F35:AJ35,"0.5")*0.5 + COUNTIF(F35:AJ35,"P") | AL35: - | AM35: - | AN35: - | AO35: 0 | AP35: 21 | AQ35: 0 | AR35: =COUNTIF(F35:AJ35,"P") + COUNTIF(F35:AJ35,"p")
A36: 28 | B36: 10003668 | C36: Bùi Thị Hoa | D36: VP | E36: Chuyên viên Kinh tế Đấu thầu | F36: X | G36: CN | H36: X | I36: X | J36: X | K36: X | L36: X | M36: X | N36: CN | O36: X | P36: X | Q36: X | R36: X | S36: X | T36: X | U36: CN | V36: X | W36: X | X36: X | Y36: X | Z36: X | AA36: X | AB36: CN | AC36: X | AD36: X | AE36: X | AF36: X | AG36: P | AH36: P | AI36: CN | AJ36: P | AK36: =COUNTIF(F36:AJ36,"X") + COUNTIF(F36:AJ36,"x") + COUNTIF(F36:AJ36,"1/2")*0.5 + COUNTIF(F36:AJ36,"0.5")*0.5 + COUNTIF(F36:AJ36,"P") | AL36: - | AM36: - | AN36: - | AO36: 0 | AP36: 19 | AQ36: 0 | AR36: =COUNTIF(F36:AJ36,"P") + COUNTIF(F36:AJ36,"p")
A37: 29 | B37: 10003733.FCIC | C37: Nguyễn Hồng Thái | D37: VP | E37: Chuyên viên Kinh tế Đấu thầu | F37: X | G37: CN | H37: X | I37: X | J37: X | K37: X | L37: X | M37: X | N37: CN | O37: X | P37: X | Q37: X | R37: X | S37: X | T37: X | U37: CN | V37: X | W37: X | X37: X | Y37: X | Z37: X | AA37: X | AB37: CN | AC37: X | AD37: X | AE37: X | AF37: X | AG37: X | AH37: P | AI37: CN | AJ37: P | AK37: =COUNTIF(F37:AJ37,"X") + COUNTIF(F37:AJ37,"x") + COUNTIF(F37:AJ37,"1/2")*0.5 + COUNTIF(F37:AJ37,"0.5")*0.5 + COUNTIF(F37:AJ37,"P") | AL37: - | AM37: - | AN37: - | AO37: 0 | AP37: 19 | AQ37: 0 | AR37: =COUNTIF(F37:AJ37,"P") + COUNTIF(F37:AJ37,"p")
A38: 30 | B38: 10004047 | C38: Đặng Văn Thanh | D38: VP | E38: Chuyên viên Kinh tế Đấu thầu | F38: X | G38: CN | H38: X | I38: X | J38: X | K38: X | L38: X | M38: X | N38: CN | O38: X | P38: X | Q38: X | R38: X | S38: X | T38: X | U38: CN | V38: X | W38: X | X38: X | Y38: X | Z38: X | AA38: X | AB38: CN | AC38: X | AD38: X | AE38: X | AF38: X | AG38: X | AH38: X | AI38: CN | AJ38: P | AK38: =COUNTIF(F38:AJ38,"X") + COUNTIF(F38:AJ38,"x") + COUNTIF(F38:AJ38,"1/2")*0.5 + COUNTIF(F38:AJ38,"0.5")*0.5 + COUNTIF(F38:AJ38,"P") | AL38: - | AM38: - | AN38: - | AO38: 0 | AP38: 19 | AQ38: 0 | AR38: =COUNTIF(F38:AJ38,"P") + COUNTIF(F38:AJ38,"p")
A39: 31 | B39: 10006982 | C39: Phạm Văn Tuấn | D39: VP | E39: Chuyên viên Kinh tế Đấu thầu | F39: X | G39: CN | H39: X | I39: X | J39: X | K39: X | L39: X | M39: X | N39: CN | O39: X | P39: X | Q39: X | R39: X | S39: X | T39: X | U39: CN | V39: X | W39: X | X39: X | Y39: X | Z39: X | AA39: X | AB39: CN | AC39: X | AD39: X | AE39: X | AF39: X | AG39: X | AH39: X | AI39: CN | AJ39: P | AK39: =COUNTIF(F39:AJ39,"X") + COUNTIF(F39:AJ39,"x") + COUNTIF(F39:AJ39,"1/2")*0.5 + COUNTIF(F39:AJ39,"0.5")*0.5 + COUNTIF(F39:AJ39,"P") | AL39: - | AM39: - | AN39: - | AO39: 0 | AP39: 20 | AQ39: 0 | AR39: =COUNTIF(F39:AJ39,"P") + COUNTIF(F39:AJ39,"p")
A40: 32 | B40: 10008167 | C40: Phạm Quang Bình | D40: VP | E40: Trưởng phòng Kinh tế Đấu thầu | F40: X | G40: CN | H40: X | I40: X | J40: X | K40: X | L40: X | M40: X | N40: CN | O40: X | P40: X | Q40: X | R40: X | S40: X | T40: X | U40: CN | V40: X | W40: X | X40: X | Y40: X | Z40: X | AA40: X | AB40: CN | AC40: X | AD40: V | AE40: V | AF40: V | AG40: P | AH40: P | AI40: CN | AJ40: P | AK40: =COUNTIF(F40:AJ40,"X") + COUNTIF(F40:AJ40,"x") + COUNTIF(F40:AJ40,"1/2")*0.5 + COUNTIF(F40:AJ40,"0.5")*0.5 + COUNTIF(F40:AJ40,"P") | AL40: - | AM40: - | AN40: - | AO40: 0 | AP40: 16 | AQ40: 0 | AR40: =COUNTIF(F40:AJ40,"P") + COUNTIF(F40:AJ40,"p")
A41: 33 | B41: 10012767 | C41: Ngô Minh Châu | D41: VP | E41: Chuyên viên Kinh tế Đấu thầu | F41: X | G41: CN | H41: X | I41: X | J41: X | K41: X | L41: X | M41: X | N41: CN | O41: X | P41: X | Q41: X | R41: X | S41: X | T41: X | U41: CN | V41: X | W41: X | X41: X | Y41: X | Z41: X | AA41: X | AB41: CN | AC41: X | AD41: X | AE41: X | AF41: X | AG41: X | AH41: X | AI41: CN | AJ41: X | AK41: =COUNTIF(F41:AJ41,"X") + COUNTIF(F41:AJ41,"x") + COUNTIF(F41:AJ41,"1/2")*0.5 + COUNTIF(F41:AJ41,"0.5")*0.5 + COUNTIF(F41:AJ41,"P") | AL41: - | AM41: - | AN41: - | AO41: 0 | AP41: 10 | AQ41: 0 | AR41: =COUNTIF(F41:AJ41,"P") + COUNTIF(F41:AJ41,"p")
A42: 34 | B42: 10000132.FCIC | C42: Vũ Văn Tuấn | D42: VP | E42: Phó phòng Kỹ thuật | F42: X | G42: CN | H42: X | I42: X | J42: X | K42: X | L42: X | M42: X | N42: CN | O42: X | P42: X | Q42: X | R42: X | S42: X | T42: X | U42: CN | V42: X | W42: X | X42: X | Y42: X | Z42: X | AA42: X | AB42: CN | AC42: X | AD42: X | AE42: X | AF42: X | AG42: X | AH42: X | AI42: CN | AJ42: X | AK42: =COUNTIF(F42:AJ42,"X") + COUNTIF(F42:AJ42,"x") + COUNTIF(F42:AJ42,"1/2")*0.5 + COUNTIF(F42:AJ42,"0.5")*0.5 + COUNTIF(F42:AJ42,"P") | AL42: - | AM42: - | AN42: - | AO42: 0 | AP42: 22 | AQ42: 0 | AR42: =COUNTIF(F42:AJ42,"P") + COUNTIF(F42:AJ42,"p")
... A49: 41 | B49: 10012663 | C49: Nguyễn Lâm Thanh | D49: VP | E49: Chuyên viên Kỹ thuật | F49: X | G49: CN | H49: X | I49: X | J49: X | K49: X | L49: X | M49: X | N49: CN | O49: X | P49: X | Q49: X | R49: X | S49: X | T49: X | U49: CN | V49: X | W49: X | X49: X | Y49: X | Z49: X | AA49: X | AB49: CN | AC49: X | AD49: X | AE49: X | AF49: X | AG49: X | AH49: X | AI49: CN | AJ49: V | AK49: =COUNTIF(F49:AJ49,"X") + COUNTIF(F49:AJ49,"x") + COUNTIF(F49:AJ49,"1/2")*0.5 + COUNTIF(F49:AJ49,"0.5")*0.5 + COUNTIF(F49:AJ49,"P") | AL49: - | AM49: - | AN49: - | AO49: 0 | AP49: 20 | AQ49: 0 | AR49: =COUNTIF(F49:AJ49,"P") + COUNTIF(F49:AJ49,"p")
A50: 42 | B50: 10012769 | C50: Nguyễn Quang Minh | D50: VP | E50: Học việc | F50: X | G50: CN | H50: X | I50: X | J50: X | K50: X | L50: X | M50: X | N50: CN | O50: X | P50: X | Q50: X | R50: X | S50: X | T50: X | U50: CN | V50: X | W50: X | X50: X | Y50: X | Z50: X | AA50: X | AB50: CN | AC50: X | AD50: V | AE50: V | AF50: V | AG50: V | AH50: V | AI50: CN | AJ50: V | AK50: =COUNTIF(F50:AJ50,"X") + COUNTIF(F50:AJ50,"x") + COUNTIF(F50:AJ50,"1/2")*0.5 + COUNTIF(F50:AJ50,"0.5")*0.5 + COUNTIF(F50:AJ50,"P") | AL50: - | AM50: - | AN50: - | AO50: 0 | AP50: =AK50 | AQ50: 0 | AR50: =COUNTIF(F50:AJ50,"P") + COUNTIF(F50:AJ50,"p")
...

Sheet Luong_Van_Phong
A2: BẢNG THANH TOÁN TIỀN LƯƠNG THÁNG 08 NĂM 2026
A3: CÔNG TY CỔ PHẦN XÂY DỰNG HẠ TẦNG FECON - KHỐI VĂN PHÒNG (VP)
A6: STT | C6: Mã NV | D6: Họ tên | E6: Chức vụ | F6: Mức lương cơ bản | G6: Mức thưởng hiệu suất | I6: Hệ số công | J6: Ngày công tháng | L6: Công CN | N6: Công WFH | P6: Chờ việc | R6: Công ăn ca | S6: Giờ làm thêm quy đổi | T6: Tiền Lương cơ bản | U6: Tiền thưởng hiệu suất | V6: Lương ngoài giờ | W6: Lương ngày chủ nhật | X6: Hỗ trợ ăn ca | Y6: Hỗ trợ điện thoại | Z6: Lương trách nhiệm | AA6: Lương kiêm nhiệm | AC6: Thù lao HĐQT/CTV | AD6: Hỗ trợ đi lại | AE6: Thưởng HQKD / Khác | AG6: TỔNG THU NHẬP | AH6: Ăn trưa miễn thuế | AL6: Tổng thu nhập chịu thuế | AM6: Thưởng 02.09 | AP6: BHXH 10.5% | AQ6: Giảm trừ bản thân | AR6: Số người PT | AT6: Giảm trừ gia cảnh | AU6: Thu nhập tính thuế | AV6: Thuế TNCN | AZ6: Đoàn phí CĐ | BB6: THỰC LĨNH
A7: 1 - HỘI ĐỒNG QUẢN TRỊ VÀ BAN KIẾM SOÁT
A8: 1 | C8: 10000920.FCIC | D8: Nguyễn Chí Công | E8: Phó Chủ tịch HĐQT | F8: 10000000 | G8: 20000000 | I8: 1 | J8: =Cham_Cong_Hang_Ngay!AK9 | L8: =Cham_Cong_Hang_Ngay!AO9 | N8: 0 | P8: 0 | R8: =Cham_Cong_Hang_Ngay!AP9 | S8: =Cham_Cong_Hang_Ngay!AQ9 | T8: =ROUND(F8/26*(J8+N8+P8),0) | U8: =ROUND((G8*I8)/26*(J8+N8*0.5+P8*0.5),0) | V8: =ROUND((F8+G8*I8)/26/8*S8,0) | W8: =ROUND((F8+G8*I8)/26*L8,0) | X8: =ROUND(R8*50000,0) | Y8: 0 | Z8: 0 | AA8: 0 | AC8: 0 | AD8: 0 | AE8: 0 | AG8: =SUM(T8:AF8) | AH8: =IF(X8<=1200000,X8,1200000) | AL8: =AG8-(AH8+Y8+V8) | AM8: 2000000 | AP8: 2181900 | AQ8: 15500000 | AR8: 4 | AT8: =AQ8+AR8*6200000 | AU8: =IF((AL8+AM8-AP8-AT8)<0,0,(AL8+AM8-AP8-AT8)) | AV8: =ROUND(IF(AU8<=10000000,AU8*5%,IF(AU8<=30000000,AU8*10%-500000,IF(AU8<=60000000,AU8*20%-3500000,IF(AU8<=100000000,AU8*30%-9500000,AU8*35%-14500000)))),0) | AZ8: =ROUND(F8*0.5%,0) | BB8: =ROUND(AG8-AP8-AV8-AZ8,0)
A9: 2 | C9: 10002720.FCIC | D9: Trịnh Quốc Tuấn | E9: Thành viên HĐQT | F9: 0 | G9: 0 | I9: 1 | J9: =Cham_Cong_Hang_Ngay!AK10 | L9: =Cham_Cong_Hang_Ngay!AO10 | N9: 0 | P9: 0 | R9: =Cham_Cong_Hang_Ngay!AP10 | S9: =Cham_Cong_Hang_Ngay!AQ10 | T9: =ROUND(F9/26*(J9+N9+P9),0) | U9: =ROUND((G9*I9)/26*(J9+N9*0.5+P9*0.5),0) | V9: =ROUND((F9+G9*I9)/26/8*S9,0) | W9: =ROUND((F9+G9*I9)/26*L9,0) | X9: =ROUND(R9*50000,0) | Y9: 0 | Z9: 0 | AA9: 0 | AC9: 10000000 | AD9: 0 | AE9: 0 | AG9: =SUM(T9:AF9) | AH9: =IF(X9<=1200000,X9,1200000) | AL9: =AG9-(AH9+Y9+V9) | AM9: 0 | AP9: 0 | AQ9: 15500000 | AR9: 0 | AT9: =AQ9+AR9*6200000 | AU9: =IF((AL9+AM9-AP9-AT9)<0,0,(AL9+AM9-AP9-AT9)) | AV9: =ROUND(IF(AU9<=10000000,AU9*5%,IF(AU9<=30000000,AU9*10%-500000,IF(AU9<=60000000,AU9*20%-3500000,IF(AU9<=100000000,AU9*30%-9500000,AU9*35%-14500000)))),0) | AZ9: =ROUND(F9*0.5%,0) | BB9: =ROUND(AG9-AP9-AV9-AZ9,0)
A10: 3 | C10: 10003397.FCIC | D10: Đỗ Mạnh Cường | E10: Chủ tịch HĐQT | F10: 0 | G10: 0 | I10: 1 | J10: =Cham_Cong_Hang_Ngay!AK11 | L10: =Cham_Cong_Hang_Ngay!AO11 | N10: 0 | P10: 0 | R10: =Cham_Cong_Hang_Ngay!AP11 | S10: =Cham_Cong_Hang_Ngay!AQ11 | T10: =ROUND(F10/26*(J10+N10+P10),0) | U10: =ROUND((G10*I10)/26*(J10+N10*0.5+P10*0.5),0) | V10: =ROUND((F10+G10*I10)/26/8*S10,0) | W10: =ROUND((F10+G10*I10)/26*L10,0) | X10: =ROUND(R10*50000,0) | Y10: 0 | Z10: 0 | AA10: 0 | AC10: 35000000 | AD10: 0 | AE10: 0 | AG10: =SUM(T10:AF10) | AH10: =IF(X10<=1200000,X10,1200000) | AL10: =AG10-(AH10+Y10+V10) | AM10: 0 | AP10: 0 | AQ10: 15500000 | AR10: 0 | AT10: =AQ10+AR10*6200000 | AU10: =IF((AL10+AM10-AP10-AT10)<0,0,(AL10+AM10-AP10-AT10)) | AV10: =ROUND(IF(AU10<=10000000,AU10*5%,IF(AU10<=30000000,AU10*10%-500000,IF(AU10<=60000000,AU10*20%-3500000,IF(AU10<=100000000,AU10*30%-9500000,AU10*35%-14500000)))),0) | AZ10: =ROUND(F10*0.5%,0) | BB10: =ROUND(AG10-AP10-AV10-AZ10,0)
A11: 4 | C11: 10004720.FCIC | D11: Nguyễn Thị Nhàn | E11: Trưởng Ban kiểm soát | F11: 0 | G11: 0 | I11: 1 | J11: =Cham_Cong_Hang_Ngay!AK12 | L11: =Cham_Cong_Hang_Ngay!AO12 | N11: 0 | P11: 0 | R11: =Cham_Cong_Hang_Ngay!AP12 | S11: =Cham_Cong_Hang_Ngay!AQ12 | T11: =ROUND(F11/26*(J11+N11+P11),0) | U11: =ROUND((G11*I11)/26*(J11+N11*0.5+P11*0.5),0) | V11: =ROUND((F11+G11*I11)/26/8*S11,0) | W11: =ROUND((F11+G11*I11)/26*L11,0) | X11: =ROUND(R11*50000,0) | Y11: 0 | Z11: 0 | AA11: 0 | AC11: 7500000 | AD11: 0 | AE11: 0 | AG11: =SUM(T11:AF11) | AH11: =IF(X11<=1200000,X11,1200000) | AL11: =AG11-(AH11+Y11+V11) | AM11: 0 | AP11: 0 | AQ11: 15500000 | AR11: 0 | AT11: =AQ11+AR11*6200000 | AU11: =IF((AL11+AM11-AP11-AT11)<0,0,(AL11+AM11-AP11-AT11)) | AV11: =ROUND(IF(AU11<=10000000,AU11*5%,IF(AU11<=30000000,AU11*10%-500000,IF(AU11<=60000000,AU11*20%-3500000,IF(AU11<=100000000,AU11*30%-9500000,AU11*35%-14500000)))),0) | AZ11: =ROUND(F11*0.5%,0) | BB11: =ROUND(AG11-AP11-AV11-AZ11,0)
A12: 5 | C12: 10005763.FCIC | D12: Nguyễn Thành Duy | E12: Thành viên Ban kiểm soát | F12: 0 | G12: 0 | I12: 1 | J12: =Cham_Cong_Hang_Ngay!AK13 | L12: =Cham_Cong_Hang_Ngay!AO13 | N12: 0 | P12: 0 | R12: =Cham_Cong_Hang_Ngay!AP13 | S12: =Cham_Cong_Hang_Ngay!AQ13 | T12: =ROUND(F12/26*(J12+N12+P12),0) | U12: =ROUND((G12*I12)/26*(J12+N12*0.5+P12*0.5),0) | V12: =ROUND((F12+G12*I12)/26/8*S12,0) | W12: =ROUND((F12+G12*I12)/26*L12,0) | X12: =ROUND(R12*50000,0) | Y12: 0 | Z12: 0 | AA12: 0 | AC12: 5000000 | AD12: 0 | AE12: 0 | AG12: =SUM(T12:AF12) | AH12: =IF(X12<=1200000,X12,1200000) | AL12: =AG12-(AH12+Y12+V12) | AM12: 0 | AP12: 0 | AQ12: 15500000 | AR12: 0 | AT12: =AQ12+AR12*6200000 | AU12: =IF((AL12+AM12-AP12-AT12)<0,0,(AL12+AM12-AP12-AT12)) | AV12: =ROUND(IF(AU12<=10000000,AU12*5%,IF(AU12<=30000000,AU12*10%-500000,IF(AU12<=60000000,AU12*20%-3500000,IF(AU12<=100000000,AU12*30%-9500000,AU12*35%-14500000)))),0) | AZ12: =ROUND(F12*0.5%,0) | BB12: =ROUND(AG12-AP12-AV12-AZ12,0)
A13: 6 | C13: 10006458.FCIC | D13: Phạm Thu Hoài | E13: Thành viên Ban kiểm soát | F13: 0 | G13: 0 | I13: 1 | J13: =Cham_Cong_Hang_Ngay!AK14 | L13: =Cham_Cong_Hang_Ngay!AO14 | N13: 0 | P13: 0 | R13: =Cham_Cong_Hang_Ngay!AP14 | S13: =Cham_Cong_Hang_Ngay!AQ14 | T13: =ROUND(F13/26*(J13+N13+P13),0) | U13: =ROUND((G13*I13)/26*(J13+N13*0.5+P13*0.5),0) | V13: =ROUND((F13+G13*I13)/26/8*S13,0) | W13: =ROUND((F13+G13*I13)/26*L13,0) | X13: =ROUND(R13*50000,0) | Y13: 0 | Z13: 0 | AA13: 0 | AC13: 5000000 | AD13: 0 | AE13: 0 | AG13: =SUM(T13:AF13) | AH13: =IF(X13<=1200000,X13,1200000) | AL13: =AG13-(AH13+Y13+V13) | AM13: 0 | AP13: 0 | AQ13: 15500000 | AR13: 0 | AT13: =AQ13+AR13*6200000 | AU13: =IF((AL13+AM13-AP13-AT13)<0,0,(AL13+AM13-AP13-AT13)) | AV13: =ROUND(IF(AU13<=10000000,AU13*5%,IF(AU13<=30000000,AU13*10%-500000,IF(AU13<=60000000,AU13*20%-3500000,IF(AU13<=100000000,AU13*30%-9500000,AU13*35%-14500000)))),0) | AZ13: =ROUND(F13*0.5%,0) | BB13: =ROUND(AG13-AP13-AV13-AZ13,0)
A14: CỘNG 1 - HỘI ĐỒNG QUẢN TRỊ VÀ BAN KIẾM SOÁT: | F14: =SUM(F8:F13) | G14: =SUM(G8:G13) | T14: =SUM(T8:T13) | U14: =SUM(U8:U13) | V14: =SUM(V8:V13) | W14: =SUM(W8:W13) | X14: =SUM(X8:X13) | Y14: =SUM(Y8:Y13) | Z14: =SUM(Z8:Z13) | AA14: =SUM(AA8:AA13) | AC14: =SUM(AC8:AC13) | AD14: =SUM(AD8:AD13) | AE14: =SUM(AE8:AE13) | AG14: =SUM(AG8:AG13) | AL14: =SUM(AL8:AL13) | AM14: =SUM(AM8:AM13) | AP14: =SUM(AP8:AP13) | AV14: =SUM(AV8:AV13) | AZ14: =SUM(AZ8:AZ13) | BB14: =SUM(BB8:BB13)
A15: 2 - BAN GIÁM ĐỐC
A16: 7 | C16: 10002265.FCIC | D16: Trần Văn Nguyện | E16: Phó Tổng Giám đốc | F16: 10000000 | G16: 20000000 | I16: 1 | J16: =Cham_Cong_Hang_Ngay!AK15 | L16: =Cham_Cong_Hang_Ngay!AO15 | N16: 0 | P16: 0 | R16: =Cham_Cong_Hang_Ngay!AP15 | S16: =Cham_Cong_Hang_Ngay!AQ15 | T16: =ROUND(F16/26*(J16+N16+P16),0) | U16: =ROUND((G16*I16)/26*(J16+N16*0.5+P16*0.5),0) | V16: =ROUND((F16+G16*I16)/26/8*S16,0) | W16: =ROUND((F16+G16*I16)/26*L16,0) | X16: =ROUND(R16*50000,0) | Y16: 1500000 | Z16: 0 | AA16: 0 | AC16: 0 | AD16: 0 | AE16: 0 | AG16: =SUM(T16:AF16) | AH16: =IF(X16<=1200000,X16,1200000) | AL16: =AG16-(AH16+Y16+V16) | AM16: 2000000 | AP16: 1775550 | AQ16: 15500000 | AR16: 4 | AT16: =AQ16+AR16*6200000 | AU16: =IF((AL16+AM16-AP16-AT16)<0,0,(AL16+AM16-AP16-AT16)) | AV16: =ROUND(IF(AU16<=10000000,AU16*5%,IF(AU16<=30000000,AU16*10%-500000,IF(AU16<=60000000,AU16*20%-3500000,IF(AU16<=100000000,AU16*30%-9500000,AU16*35%-14500000)))),0) | AZ16: =ROUND(F16*0.5%,0) | BB16: =ROUND(AG16-AP16-AV16-AZ16,0)
A17: 8 | C17: 10004030 | D17: Nguyễn Quang Tuyến | E17: Phó Tổng Giám đốc | F17: 10000000 | G17: 20000000 | I17: 1 | J17: =Cham_Cong_Hang_Ngay!AK16 | L17: =Cham_Cong_Hang_Ngay!AO16 | N17: 0 | P17: 0 | R17: =Cham_Cong_Hang_Ngay!AP16 | S17: =Cham_Cong_Hang_Ngay!AQ16 | T17: =ROUND(F17/26*(J17+N17+P17),0) | U17: =ROUND((G17*I17)/26*(J17+N17*0.5+P17*0.5),0) | V17: =ROUND((F17+G17*I17)/26/8*S17,0) | W17: =ROUND((F17+G17*I17)/26*L17,0) | X17: =ROUND(R17*50000,0) | Y17: 1500000 | Z17: 0 | AA17: 0 | AC17: 0 | AD17: 0 | AE17: 0 | AG17: =SUM(T17:AF17) | AH17: =IF(X17<=1200000,X17,1200000) | AL17: =AG17-(AH17+Y17+V17) | AM17: 2000000 | AP17: 1775550 | AQ17: 15500000 | AR17: 3 | AT17: =AQ17+AR17*6200000 | AU17: =IF((AL17+AM17-AP17-AT17)<0,0,(AL17+AM17-AP17-AT17)) | AV17: =ROUND(IF(AU17<=10000000,AU17*5%,IF(AU17<=30000000,AU17*10%-500000,IF(AU17<=60000000,AU17*20%-3500000,IF(AU17<=100000000,AU17*30%-9500000,AU17*35%-14500000)))),0) | AZ17: =ROUND(F17*0.5%,0) | BB17: =ROUND(AG17-AP17-AV17-AZ17,0)
A18: 9 | C18: 10005729.FCIC | D18: Trần Dương Khánh | E18: Phó Tổng Giám đốc | F18: 10000000 | G18: 20000000 | I18: 1 | J18: =Cham_Cong_Hang_Ngay!AK17 | L18: =Cham_Cong_Hang_Ngay!AO17 | N18: 0 | P18: 0 | R18: =Cham_Cong_Hang_Ngay!AP17 | S18: =Cham_Cong_Hang_Ngay!AQ17 | T18: =ROUND(F18/26*(J18+N18+P18),0) | U18: =ROUND((G18*I18)/26*(J18+N18*0.5+P18*0.5),0) | V18: =ROUND((F18+G18*I18)/26/8*S18,0) | W18: =ROUND((F18+G18*I18)/26*L18,0) | X18: =ROUND(R18*50000,0) | Y18: 1500000 | Z18: 0 | AA18: 0 | AC18: 0 | AD18: 0 | AE18: 0 | AG18: =SUM(T18:AF18) | AH18: =IF(X18<=1200000,X18,1200000) | AL18: =AG18-(AH18+Y18+V18) | AM18: 2000000 | AP18: 1775550 | AQ18: 15500000 | AR18: 1 | AT18: =AQ18+AR18*6200000 | AU18: =IF((AL18+AM18-AP18-AT18)<0,0,(AL18+AM18-AP18-AT18)) | AV18: =ROUND(IF(AU18<=10000000,AU18*5%,IF(AU18<=30000000,AU18*10%-500000,IF(AU18<=60000000,AU18*20%-3500000,IF(AU18<=100000000,AU18*30%-9500000,AU18*35%-14500000)))),0) | AZ18: =ROUND(F18*0.5%,0) | BB18: =ROUND(AG18-AP18-AV18-AZ18,0)
A19: 10 | C19: 10009200 | D19: Võ Huy Bình | E19: Tổng Giám đốc điều hành | F19: 10000000 | G19: 20000000 | I19: 1 | J19: =Cham_Cong_Hang_Ngay!AK18 | L19: =Cham_Cong_Hang_Ngay!AO18 | N19: 0 | P19: 0 | R19: =Cham_Cong_Hang_Ngay!AP18 | S19: =Cham_Cong_Hang_Ngay!AQ18 | T19: =ROUND(F19/26*(J19+N19+P19),0) | U19: =ROUND((G19*I19)/26*(J19+N19*0.5+P19*0.5),0) | V19: =ROUND((F19+G19*I19)/26/8*S19,0) | W19: =ROUND((F19+G19*I19)/26*L19,0) | X19: =ROUND(R19*50000,0) | Y19: 1500000 | Z19: 0 | AA19: 0 | AC19: 0 | AD19: 0 | AE19: 0 | AG19: =SUM(T19:AF19) | AH19: =IF(X19<=1200000,X19,1200000) | AL19: =AG19-(AH19+Y19+V19) | AM19: 2000000 | AP19: 2181900 | AQ19: 15500000 | AR19: 3 | AT19: =AQ19+AR19*6200000 | AU19: =IF((AL19+AM19-AP19-AT19)<0,0,(AL19+AM19-AP19-AT19)) | AV19: =ROUND(IF(AU19<=10000000,AU19*5%,IF(AU19<=30000000,AU19*10%-500000,IF(AU19<=60000000,AU19*20%-3500000,IF(AU19<=100000000,AU19*30%-9500000,AU19*35%-14500000)))),0) | AZ19: =ROUND(F19*0.5%,0) | BB19: =ROUND(AG19-AP19-AV19-AZ19,0)
A20: 11 | C20: 10011001.FCIC | D20: Lê Đức Thọ | E20: Phó Tổng Giám đốc | F20: 10000000 | G20: 20000000 | I20: 1 | J20: =Cham_Cong_Hang_Ngay!AK19 | L20: =Cham_Cong_Hang_Ngay!AO19 | N20: 0 | P20: 0 | R20: =Cham_Cong_Hang_Ngay!AP19 | S20: =Cham_Cong_Hang_Ngay!AQ19 | T20: =ROUND(F20/26*(J20+N20+P20),0) | U20: =ROUND((G20*I20)/26*(J20+N20*0.5+P20*0.5),0) | V20: =ROUND((F20+G20*I20)/26/8*S20,0) | W20: =ROUND((F20+G20*I20)/26*L20,0) | X20: =ROUND(R20*50000,0) | Y20: 1500000 | Z20: 0 | AA20: 0 | AC20: 0 | AD20: 0 | AE20: 0 | AG20: =SUM(T20:AF20) | AH20: =IF(X20<=1200000,X20,1200000) | AL20: =AG20-(AH20+Y20+V20) | AM20: 2000000 | AP20: 1775550 | AQ20: 15500000 | AR20: 2 | AT20: =AQ20+AR20*6200000 | AU20: =IF((AL20+AM20-AP20-AT20)<0,0,(AL20+AM20-AP20-AT20)) | AV20: =ROUND(IF(AU20<=10000000,AU20*5%,IF(AU20<=30000000,AU20*10%-500000,IF(AU20<=60000000,AU20*20%-3500000,IF(AU20<=100000000,AU20*30%-9500000,AU20*35%-14500000)))),0) | AZ20: =ROUND(F20*0.5%,0) | BB20: =ROUND(AG20-AP20-AV20-AZ20,0)
A21: CỘNG 2 - BAN GIÁM ĐỐC: | F21: =SUM(F16:F20) | G21: =SUM(G16:G20) | T21: =SUM(T16:T20) | U21: =SUM(U16:U20) | V21: =SUM(V16:V20) | W21: =SUM(W16:W20) | X21: =SUM(X16:X20) | Y21: =SUM(Y16:Y20) | Z21: =SUM(Z16:Z20) | AA21: =SUM(AA16:AA20) | AC21: =SUM(AC16:AC20) | AD21: =SUM(AD16:AD20) | AE21: =SUM(AE16:AE20) | AG21: =SUM(AG16:AG20) | AL21: =SUM(AL16:AL20) | AM21: =SUM(AM16:AM20) | AP21: =SUM(AP16:AP20) | AV21: =SUM(AV16:AV20) | AZ21: =SUM(AZ16:AZ20) | BB21: =SUM(BB16:BB20)
A22: 3 - PHÒNG TÀI CHÍNH - KẾ TOÁN
A23: 12 | C23: 10003680 | D23: Bùi Thị Liên | E23: Chuyên viên Kế toán | F23: 6000000 | G23: 10000000 | I23: 1 | J23: =Cham_Cong_Hang_Ngay!AK20 | L23: =Cham_Cong_Hang_Ngay!AO20 | N23: 0 | P23: 0 | R23: =Cham_Cong_Hang_Ngay!AP20 | S23: =Cham_Cong_Hang_Ngay!AQ20 | T23: =ROUND(F23/26*(J23+N23+P23),0) | U23: =ROUND((G23*I23)/26*(J23+N23*0.5+P23*0.5),0) | V23: =ROUND((F23+G23*I23)/26/8*S23,0) | W23: =ROUND((F23+G23*I23)/26*L23,0) | X23: =ROUND(R23*50000,0) | Y23: 500000 | Z23: 0 | AA23: 0 | AC23: 0 | AD23: 0 | AE23: 0 | AG23: =SUM(T23:AF23) | AH23: =IF(X23<=1200000,X23,1200000) | AL23: =AG23-(AH23+Y23+V23) | AM23: 1000000 | AP23: 780150 | AQ23: 15500000 | AR23: 1 | AT23: =AQ23+AR23*6200000 | AU23: =IF((AL23+AM23-AP23-AT23)<0,0,(AL23+AM23-AP23-AT23)) | AV23: =ROUND(IF(AU23<=10000000,AU23*5%,IF(AU23<=30000000,AU23*10%-500000,IF(AU23<=60000000,AU23*20%-3500000,IF(AU23<=100000000,AU23*30%-9500000,AU23*35%-14500000)))),0) | AZ23: =ROUND(F23*0.5%,0) | BB23: =ROUND(AG23-AP23-AV23-AZ23,0)
A24: 13 | C24: 10004026 | D24: Lê Thị Thùy Dương | E24: Trưởng phòng Tài chính Kế toán | F24: 8000000 | G24: 15000000 | I24: 1 | J24: =Cham_Cong_Hang_Ngay!AK21 | L24: =Cham_Cong_Hang_Ngay!AO21 | N24: 0 | P24: 0 | R24: =Cham_Cong_Hang_Ngay!AP21 | S24: =Cham_Cong_Hang_Ngay!AQ21 | T24: =ROUND(F24/26*(J24+N24+P24),0) | U24: =ROUND((G24*I24)/26*(J24+N24*0.5+P24*0.5),0) | V24: =ROUND((F24+G24*I24)/26/8*S24,0) | W24: =ROUND((F24+G24*I24)/26*L24,0) | X24: =ROUND(R24*50000,0) | Y24: 1000000 | Z24: 0 | AA24: 0 | AC24: 0 | AD24: 0 | AE24: 0 | AG24: =SUM(T24:AF24) | AH24: =IF(X24<=1200000,X24,1200000) | AL24: =AG24-(AH24+Y24+V24) | AM24: 1500000 | AP24: 1059450 | AQ24: 15500000 | AR24: 2 | AT24: =AQ24+AR24*6200000 | AU24: =IF((AL24+AM24-AP24-AT24)<0,0,(AL24+AM24-AP24-AT24)) | AV24: =ROUND(IF(AU24<=10000000,AU24*5%,IF(AU24<=30000000,AU24*10%-500000,IF(AU24<=60000000,AU24*20%-3500000,IF(AU24<=100000000,AU24*30%-9500000,AU24*35%-14500000)))),0) | AZ24: =ROUND(F24*0.5%,0) | BB24: =ROUND(AG24-AP24-AV24-AZ24,0)
A25: 14 | C25: 10005451 | D25: Thế Thị Trang | E25: Chuyên viên Kế toán | F25: 6000000 | G25: 10000000 | I25: 1 | J25: =Cham_Cong_Hang_Ngay!AK22 | L25: =Cham_Cong_Hang_Ngay!AO22 | N25: 0 | P25: 0 | R25: =Cham_Cong_Hang_Ngay!AP22 | S25: =Cham_Cong_Hang_Ngay!AQ22 | T25: =ROUND(F25/26*(J25+N25+P25),0) | U25: =ROUND((G25*I25)/26*(J25+N25*0.5+P25*0.5),0) | V25: =ROUND((F25+G25*I25)/26/8*S25,0) | W25: =ROUND((F25+G25*I25)/26*L25,0) | X25: =ROUND(R25*50000,0) | Y25: 500000 | Z25: 0 | AA25: 0 | AC25: 0 | AD25: 0 | AE25: 0 | AG25: =SUM(T25:AF25) | AH25: =IF(X25<=1200000,X25,1200000) | AL25: =AG25-(AH25+Y25+V25) | AM25: 1000000 | AP25: 780150 | AQ25: 15500000 | AR25: 1 | AT25: =AQ25+AR25*6200000 | AU25: =IF((AL25+AM25-AP25-AT25)<0,0,(AL25+AM25-AP25-AT25)) | AV25: =ROUND(IF(AU25<=10000000,AU25*5%,IF(AU25<=30000000,AU25*10%-500000,IF(AU25<=60000000,AU25*20%-3500000,IF(AU25<=100000000,AU25*30%-9500000,AU25*35%-14500000)))),0) | AZ25: =ROUND(F25*0.5%,0) | BB25: =ROUND(AG25-AP25-AV25-AZ25,0)
A26: 15 | C26: 10008554 | D26: Bùi Thị Thu Thủy | E26: Chuyên viên Kế toán | F26: 6000000 | G26: 10000000 | I26: 1 | J26: =Cham_Cong_Hang_Ngay!AK23 | L26: =Cham_Cong_Hang_Ngay!AO23 | N26: 0 | P26: 0 | R26: =Cham_Cong_Hang_Ngay!AP23 | S26: =Cham_Cong_Hang_Ngay!AQ23 | T26: =ROUND(F26/26*(J26+N26+P26),0) | U26: =ROUND((G26*I26)/26*(J26+N26*0.5+P26*0.5),0) | V26: =ROUND((F26+G26*I26)/26/8*S26,0) | W26: =ROUND((F26+G26*I26)/26*L26,0) | X26: =ROUND(R26*50000,0) | Y26: 500000 | Z26: 0 | AA26: 0 | AC26: 0 | AD26: 0 | AE26: 0 | AG26: =SUM(T26:AF26) | AH26: =IF(X26<=1200000,X26,1200000) | AL26: =AG26-(AH26+Y26+V26) | AM26: 1000000 | AP26: 743400 | AQ26: 15500000 | AR26: 1 | AT26: =AQ26+AR26*6200000 | AU26: =IF((AL26+AM26-AP26-AT26)<0,0,(AL26+AM26-AP26-AT26)) | AV26: =ROUND(IF(AU26<=10000000,AU26*5%,IF(AU26<=30000000,AU26*10%-500000,IF(AU26<=60000000,AU26*20%-3500000,IF(AU26<=100000000,AU26*30%-9500000,AU26*35%-14500000)))),0) | AZ26: =ROUND(F26*0.5%,0) | BB26: =ROUND(AG26-AP26-AV26-AZ26,0)
A27: 16 | C27: 10009041 | D27: Đỗ Thị Thảo | E27: Kế toán tổng hợp | F27: 6000000 | G27: 10000000 | I27: 1 | J27: =Cham_Cong_Hang_Ngay!AK24 | L27: =Cham_Cong_Hang_Ngay!AO24 | N27: 0 | P27: 0 | R27: =Cham_Cong_Hang_Ngay!AP24 | S27: =Cham_Cong_Hang_Ngay!AQ24 | T27: =ROUND(F27/26*(J27+N27+P27),0) | U27: =ROUND((G27*I27)/26*(J27+N27*0.5+P27*0.5),0) | V27: =ROUND((F27+G27*I27)/26/8*S27,0) | W27: =ROUND((F27+G27*I27)/26*L27,0) | X27: =ROUND(R27*50000,0) | Y27: 500000 | Z27: 0 | AA27: 0 | AC27: 0 | AD27: 0 | AE27: 0 | AG27: =SUM(T27:AF27) | AH27: =IF(X27<=1200000,X27,1200000) | AL27: =AG27-(AH27+Y27+V27) | AM27: 1000000 | AP27: 780150 | AQ27: 15500000 | AR27: 2 | AT27: =AQ27+AR27*6200000 | AU27: =IF((AL27+AM27-AP27-AT27)<0,0,(AL27+AM27-AP27-AT27)) | AV27: =ROUND(IF(AU27<=10000000,AU27*5%,IF(AU27<=30000000,AU27*10%-500000,IF(AU27<=60000000,AU27*20%-3500000,IF(AU27<=100000000,AU27*30%-9500000,AU27*35%-14500000)))),0) | AZ27: =ROUND(F27*0.5%,0) | BB27: =ROUND(AG27-AP27-AV27-AZ27,0)
A28: 17 | C28: 10012215 | D28: Nguyễn Thị Thắm | E28: Chuyên viên Kế toán | F28: 6000000 | G28: 10000000 | I28: 1 | J28: =Cham_Cong_Hang_Ngay!AK25 | L28: =Cham_Cong_Hang_Ngay!AO25 | N28: 0 | P28: 0 | R28: =Cham_Cong_Hang_Ngay!AP25 | S28: =Cham_Cong_Hang_Ngay!AQ25 | T28: =ROUND(F28/26*(J28+N28+P28),0) | U28: =ROUND((G28*I28)/26*(J28+N28*0.5+P28*0.5),0) | V28: =ROUND((F28+G28*I28)/26/8*S28,0) | W28: =ROUND((F28+G28*I28)/26*L28,0) | X28: =ROUND(R28*50000,0) | Y28: 500000 | Z28: 0 | AA28: 0 | AC28: 0 | AD28: 0 | AE28: 0 | AG28: =SUM(T28:AF28) | AH28: =IF(X28<=1200000,X28,1200000) | AL28: =AG28-(AH28+Y28+V28) | AM28: 0 | AP28: 630000 | AQ28: 15500000 | AR28: 0 | AT28: =AQ28+AR28*6200000 | AU28: =IF((AL28+AM28-AP28-AT28)<0,0,(AL28+AM28-AP28-AT28)) | AV28: =ROUND(IF(AU28<=10000000,AU28*5%,IF(AU28<=30000000,AU28*10%-500000,IF(AU28<=60000000,AU28*20%-3500000,IF(AU28<=100000000,AU28*30%-9500000,AU28*35%-14500000)))),0) | AZ28: =ROUND(F28*0.5%,0) | BB28: =ROUND(AG28-AP28-AV28-AZ28,0)
A29: CỘNG 3 - PHÒNG TÀI CHÍNH - KẾ TOÁN: | F29: =SUM(F23:F28) | G29: =SUM(G23:G28) | T29: =SUM(T23:T28) | U29: =SUM(U23:U28) | V29: =SUM(V23:V28) | W29: =SUM(W23:W28) | X29: =SUM(X23:X28) | Y29: =SUM(Y23:Y28) | Z29: =SUM(Z23:Z28) | AA29: =SUM(AA23:AA28) | AC29: =SUM(AC23:AC28) | AD29: =SUM(AD23:AD28) | AE29: =SUM(AE23:AE28) | AG29: =SUM(AG23:AG28) | AL29: =SUM(AL23:AL28) | AM29: =SUM(AM23:AM28) | AP29: =SUM(AP23:AP28) | AV29: =SUM(AV23:AV28) | AZ29: =SUM(AZ23:AZ28) | BB29: =SUM(BB23:BB28)
A30: 4 - PHÒNG HÀNH CHÍNH NHÂN SỰ
A31: 18 | C31: 10003676 | D31: Nguyễn Thị Kim Chi | E31: Trưởng phòng Hành chính Nhân sự | F31: 8000000 | G31: 15000000 | I31: 1 | J31: =Cham_Cong_Hang_Ngay!AK26 | L31: =Cham_Cong_Hang_Ngay!AO26 | N31: 0 | P31: 0 | R31: =Cham_Cong_Hang_Ngay!AP26 | S31: =Cham_Cong_Hang_Ngay!AQ26 | T31: =ROUND(F31/26*(J31+N31+P31),0) | U31: =ROUND((G31*I31)/26*(J31+N31*0.5+P31*0.5),0) | V31: =ROUND((F31+G31*I31)/26/8*S31,0) | W31: =ROUND((F31+G31*I31)/26*L31,0) | X31: =ROUND(R31*50000,0) | Y31: 1000000 | Z31: 0 | AA31: 0 | AC31: 0 | AD31: 0 | AE31: 0 | AG31: =SUM(T31:AF31) | AH31: =IF(X31<=1200000,X31,1200000) | AL31: =AG31-(AH31+Y31+V31) | AM31: 1500000 | AP31: 1005900 | AQ31: 15500000 | AR31: 1 | AT31: =AQ31+AR31*6200000 | AU31: =IF((AL31+AM31-AP31-AT31)<0,0,(AL31+AM31-AP31-AT31)) | AV31: =ROUND(IF(AU31<=10000000,AU31*5%,IF(AU31<=30000000,AU31*10%-500000,IF(AU31<=60000000,AU31*20%-3500000,IF(AU31<=100000000,AU31*30%-9500000,AU31*35%-14500000)))),0) | AZ31: =ROUND(F31*0.5%,0) | BB31: =ROUND(AG31-AP31-AV31-AZ31,0)
A32: 19 | C32: 10004041 | D32: Thế Thị Minh Tâm | E32: Chuyên viên Nhân sự | F32: 6000000 | G32: 10000000 | I32: 1 | J32: =Cham_Cong_Hang_Ngay!AK27 | L32: =Cham_Cong_Hang_Ngay!AO27 | N32: 0 | P32: 0 | R32: =Cham_Cong_Hang_Ngay!AP27 | S32: =Cham_Cong_Hang_Ngay!AQ27 | T32: =ROUND(F32/26*(J32+N32+P32),0) | U32: =ROUND((G32*I32)/26*(J32+N32*0.5+P32*0.5),0) | V32: =ROUND((F32+G32*I32)/26/8*S32,0) | W32: =ROUND((F32+G32*I32)/26*L32,0) | X32: =ROUND(R32*50000,0) | Y32: 500000 | Z32: 0 | AA32: 0 | AC32: 0 | AD32: 0 | AE32: 0 | AG32: =SUM(T32:AF32) | AH32: =IF(X32<=1200000,X32,1200000) | AL32: =AG32-(AH32+Y32+V32) | AM32: 1000000 | AP32: 743400 | AQ32: 15500000 | AR32: 0 | AT32: =AQ32+AR32*6200000 | AU32: =IF((AL32+AM32-AP32-AT32)<0,0,(AL32+AM32-AP32-AT32)) | AV32: =ROUND(IF(AU32<=10000000,AU32*5%,IF(AU32<=30000000,AU32*10%-500000,IF(AU32<=60000000,AU32*20%-3500000,IF(AU32<=100000000,AU32*30%-9500000,AU32*35%-14500000)))),0) | AZ32: =ROUND(F32*0.5%,0) | BB32: =ROUND(AG32-AP32-AV32-AZ32,0)
A33: 20 | C33: 10004042 | D33: Nguyễn Văn Minh | E33: Nhân viên Lái xe | F33: 6000000 | G33: 10000000 | I33: 1 | J33: =Cham_Cong_Hang_Ngay!AK28 | L33: =Cham_Cong_Hang_Ngay!AO28 | N33: 0 | P33: 0 | R33: =Cham_Cong_Hang_Ngay!AP28 | S33: =Cham_Cong_Hang_Ngay!AQ28 | T33: =ROUND(F33/26*(J33+N33+P33),0) | U33: =ROUND((G33*I33)/26*(J33+N33*0.5+P33*0.5),0) | V33: =ROUND((F33+G33*I33)/26/8*S33,0) | W33: =ROUND((F33+G33*I33)/26*L33,0) | X33: =ROUND(R33*50000,0) | Y33: 300000 | Z33: 0 | AA33: 0 | AC33: 0 | AD33: 0 | AE33: 0 | AG33: =SUM(T33:AF33) | AH33: =IF(X33<=1200000,X33,1200000) | AL33: =AG33-(AH33+Y33+V33) | AM33: 800000 | AP33: 695100 | AQ33: 15500000 | AR33: 0 | AT33: =AQ33+AR33*6200000 | AU33: =IF((AL33+AM33-AP33-AT33)<0,0,(AL33+AM33-AP33-AT33)) | AV33: =ROUND(IF(AU33<=10000000,AU33*5%,IF(AU33<=30000000,AU33*10%-500000,IF(AU33<=60000000,AU33*20%-3500000,IF(AU33<=100000000,AU33*30%-9500000,AU33*35%-14500000)))),0) | AZ33: =ROUND(F33*0.5%,0) | BB33: =ROUND(AG33-AP33-AV33-AZ33,0)
A34: 21 | C34: 10004074 | D34: Vũ Thị Thu Lan | E34: Chuyên viên Nhân sự | F34: 6000000 | G34: 10000000 | I34: 1 | J34: =Cham_Cong_Hang_Ngay!AK29 | L34: =Cham_Cong_Hang_Ngay!AO29 | N34: 0 | P34: 0 | R34: =Cham_Cong_Hang_Ngay!AP29 | S34: =Cham_Cong_Hang_Ngay!AQ29 | T34: =ROUND(F34/26*(J34+N34+P34),0) | U34: =ROUND((G34*I34)/26*(J34+N34*0.5+P34*0.5),0) | V34: =ROUND((F34+G34*I34)/26/8*S34,0) | W34: =ROUND((F34+G34*I34)/26*L34,0) | X34: =ROUND(R34*50000,0) | Y34: 500000 | Z34: 0 | AA34: 2800000 | AC34: 0 | AD34: 0 | AE34: 0 | AG34: =SUM(T34:AF34) | AH34: =IF(X34<=1200000,X34,1200000) | AL34: =AG34-(AH34+Y34+V34) | AM34: 1000000 | AP34: 861000 | AQ34: 15500000 | AR34: 1 | AT34: =AQ34+AR34*6200000 | AU34: =IF((AL34+AM34-AP34-AT34)<0,0,(AL34+AM34-AP34-AT34)) | AV34: =ROUND(IF(AU34<=10000000,AU34*5%,IF(AU34<=30000000,AU34*10%-500000,IF(AU34<=60000000,AU34*20%-3500000,IF(AU34<=100000000,AU34*30%-9500000,AU34*35%-14500000)))),0) | AZ34: =ROUND(F34*0.5%,0) | BB34: =ROUND(AG34-AP34-AV34-AZ34,0)
A35: 22 | C35: 10004152 | D35: Nguyễn Thị Xuân | E35: Tạp vụ- CTV | F35: 0 | G35: 0 | I35: 1 | J35: =Cham_Cong_Hang_Ngay!AK30 | L35: =Cham_Cong_Hang_Ngay!AO30 | N35: 0 | P35: 0 | R35: =Cham_Cong_Hang_Ngay!AP30 | S35: =Cham_Cong_Hang_Ngay!AQ30 | T35: =ROUND(F35/26*(J35+N35+P35),0) | U35: =ROUND((G35*I35)/26*(J35+N35*0.5+P35*0.5),0) | V35: =ROUND((F35+G35*I35)/26/8*S35,0) | W35: =ROUND((F35+G35*I35)/26*L35,0) | X35: =ROUND(R35*50000,0) | Y35: 0 | Z35: 0 | AA35: 0 | AC35: 3000000 | AD35: 0 | AE35: 0 | AG35: =SUM(T35:AF35) | AH35: =IF(X35<=1200000,X35,1200000) | AL35: =AG35-(AH35+Y35+V35) | AM35: 300000 | AP35: 0 | AQ35: 15500000 | AR35: 0 | AT35: =AQ35+AR35*6200000 | AU35: =IF((AL35+AM35-AP35-AT35)<0,0,(AL35+AM35-AP35-AT35)) | AV35: =ROUND(IF(AU35<=10000000,AU35*5%,IF(AU35<=30000000,AU35*10%-500000,IF(AU35<=60000000,AU35*20%-3500000,IF(AU35<=100000000,AU35*30%-9500000,AU35*35%-14500000)))),0) | AZ35: =ROUND(F35*0.5%,0) | BB35: =ROUND(AG35-AP35-AV35-AZ35,0)
A36: 23 | C36: 10004472 | D36: Phạm Thị Tuyết Mai | E36: Chuyên viên Nhân sự | F36: 6000000 | G36: 10000000 | I36: 1 | J36: =Cham_Cong_Hang_Ngay!AK31 | L36: =Cham_Cong_Hang_Ngay!AO31 | N36: 0 | P36: 0 | R36: =Cham_Cong_Hang_Ngay!AP31 | S36: =Cham_Cong_Hang_Ngay!AQ31 | T36: =ROUND(F36/26*(J36+N36+P36),0) | U36: =ROUND((G36*I36)/26*(J36+N36*0.5+P36*0.5),0) | V36: =ROUND((F36+G36*I36)/26/8*S36,0) | W36: =ROUND((F36+G36*I36)/26*L36,0) | X36: =ROUND(R36*50000,0) | Y36: 500000 | Z36: 0 | AA36: 0 | AC36: 0 | AD36: 0 | AE36: 0 | AG36: =SUM(T36:AF36) | AH36: =IF(X36<=1200000,X36,1200000) | AL36: =AG36-(AH36+Y36+V36) | AM36: 1000000 | AP36: 780150 | AQ36: 15500000 | AR36: 1 | AT36: =AQ36+AR36*6200000 | AU36: =IF((AL36+AM36-AP36-AT36)<0,0,(AL36+AM36-AP36-AT36)) | AV36: =ROUND(IF(AU36<=10000000,AU36*5%,IF(AU36<=30000000,AU36*10%-500000,IF(AU36<=60000000,AU36*20%-3500000,IF(AU36<=100000000,AU36*30%-9500000,AU36*35%-14500000)))),0) | AZ36: =ROUND(F36*0.5%,0) | BB36: =ROUND(AG36-AP36-AV36-AZ36,0)
A37: 24 | C37: 10011040 | D37: Nguyễn Kim Dũng | E37: Nhân viên Lái xe | F37: 6000000 | G37: 10000000 | I37: 1 | J37: =Cham_Cong_Hang_Ngay!AK32 | L37: =Cham_Cong_Hang_Ngay!AO32 | N37: 0 | P37: 0 | R37: =Cham_Cong_Hang_Ngay!AP32 | S37: =Cham_Cong_Hang_Ngay!AQ32 | T37: =ROUND(F37/26*(J37+N37+P37),0) | U37: =ROUND((G37*I37)/26*(J37+N37*0.5+P37*0.5),0) | V37: =ROUND((F37+G37*I37)/26/8*S37,0) | W37: =ROUND((F37+G37*I37)/26*L37,0) | X37: =ROUND(R37*50000,0) | Y37: 300000 | Z37: 0 | AA37: 0 | AC37: 0 | AD37: 0 | AE37: 0 | AG37: =SUM(T37:AF37) | AH37: =IF(X37<=1200000,X37,1200000) | AL37: =AG37-(AH37+Y37+V37) | AM37: 800000 | AP37: 662550 | AQ37: 15500000 | AR37: 0 | AT37: =AQ37+AR37*6200000 | AU37: =IF((AL37+AM37-AP37-AT37)<0,0,(AL37+AM37-AP37-AT37)) | AV37: =ROUND(IF(AU37<=10000000,AU37*5%,IF(AU37<=30000000,AU37*10%-500000,IF(AU37<=60000000,AU37*20%-3500000,IF(AU37<=100000000,AU37*30%-9500000,AU37*35%-14500000)))),0) | AZ37: =ROUND(F37*0.5%,0) | BB37: =ROUND(AG37-AP37-AV37-AZ37,0)
A38: 25 | C38: 10012266 | D38: Trần Đặng Quỳnh Anh | E38: Nhân viên hành chính | F38: 6000000 | G38: 10000000 | I38: 1 | J38: =Cham_Cong_Hang_Ngay!AK33 | L38: =Cham_Cong_Hang_Ngay!AO33 | N38: 0 | P38: 0 | R38: =Cham_Cong_Hang_Ngay!AP33 | S38: =Cham_Cong_Hang_Ngay!AQ33 | T38: =ROUND(F38/26*(J38+N38+P38),0) | U38: =ROUND((G38*I38)/26*(J38+N38*0.5+P38*0.5),0) | V38: =ROUND((F38+G38*I38)/26/8*S38,0) | W38: =ROUND((F38+G38*I38)/26*L38,0) | X38: =ROUND(R38*50000,0) | Y38: 500000 | Z38: 0 | AA38: 0 | AC38: 0 | AD38: 0 | AE38: 0 | AG38: =SUM(T38:AF38) | AH38: =IF(X38<=1200000,X38,1200000) | AL38: =AG38-(AH38+Y38+V38) | AM38: 1000000 | AP38: 708750 | AQ38: 15500000 | AR38: 0 | AT38: =AQ38+AR38*6200000 | AU38: =IF((AL38+AM38-AP38-AT38)<0,0,(AL38+AM38-AP38-AT38)) | AV38: =ROUND(IF(AU38<=10000000,AU38*5%,IF(AU38<=30000000,AU38*10%-500000,IF(AU38<=60000000,AU38*20%-3500000,IF(AU38<=100000000,AU38*30%-9500000,AU38*35%-14500000)))),0) | AZ38: =ROUND(F38*0.5%,0) | BB38: =ROUND(AG38-AP38-AV38-AZ38,0)
A39: CỘNG 4 - PHÒNG HÀNH CHÍNH NHÂN SỰ: | F39: =SUM(F31:F38) | G39: =SUM(G31:G38) | T39: =SUM(T31:T38) | U39: =SUM(U31:U38) | V39: =SUM(V31:V38) | W39: =SUM(W31:W38) | X39: =SUM(X31:X38) | Y39: =SUM(Y31:Y38) | Z39: =SUM(Z31:Z38) | AA39: =SUM(AA31:AA38) | AC39: =SUM(AC31:AC38) | AD39: =SUM(AD31:AD38) | AE39: =SUM(AE31:AE38) | AG39: =SUM(AG31:AG38) | AL39: =SUM(AL31:AL38) | AM39: =SUM(AM31:AM38) | AP39: =SUM(AP31:AP38) | AV39: =SUM(AV31:AV38) | AZ39: =SUM(AZ31:AZ38) | BB39: =SUM(BB31:BB38)
A40: 5 - PHÒNG KINH TẾ ĐẤU THẦU
A41: 26 | C41: 10003666 | D41: Lê Đức Hùng | E41: Chuyên viên Kinh tế Đấu thầu | F41: 6000000 | G41: 10000000 | I41: 1 | J41: =Cham_Cong_Hang_Ngay!AK34 | L41: =Cham_Cong_Hang_Ngay!AO34 | N41: 0 | P41: 0 | R41: =Cham_Cong_Hang_Ngay!AP34 | S41: =Cham_Cong_Hang_Ngay!AQ34 | T41: =ROUND(F41/26*(J41+N41+P41),0) | U41: =ROUND((G41*I41)/26*(J41+N41*0.5+P41*0.5),0) | V41: =ROUND((F41+G41*I41)/26/8*S41,0) | W41: =ROUND((F41+G41*I41)/26*L41,0) | X41: =ROUND(R41*50000,0) | Y41: 500000 | Z41: 0 | AA41: 3000000 | AC41: 0 | AD41: 288462 | AE41: 0 | AG41: =SUM(T41:AF41) | AH41: =IF(X41<=1200000,X41,1200000) | AL41: =AG41-(AH41+Y41+V41) | AM41: 1000000 | AP41: 819000 | AQ41: 15500000 | AR41: 1 | AT41: =AQ41+AR41*6200000 | AU41: =IF((AL41+AM41-AP41-AT41)<0,0,(AL41+AM41-AP41-AT41)) | AV41: =ROUND(IF(AU41<=10000000,AU41*5%,IF(AU41<=30000000,AU41*10%-500000,IF(AU41<=60000000,AU41*20%-3500000,IF(AU41<=100000000,AU41*30%-9500000,AU41*35%-14500000)))),0) | AZ41: =ROUND(F41*0.5%,0) | BB41: =ROUND(AG41-AP41-AV41-AZ41,0)
A42: 27 | C42: 10003667 | D42: Trương Đức Cường | E42: Trưởng nhóm đấu thầu | F42: 8000000 | G42: 15000000 | I42: 1 | J42: =Cham_Cong_Hang_Ngay!AK35 | L42: =Cham_Cong_Hang_Ngay!AO35 | N42: 0 | P42: 0 | R42: =Cham_Cong_Hang_Ngay!AP35 | S42: =Cham_Cong_Hang_Ngay!AQ35 | T42: =ROUND(F42/26*(J42+N42+P42),0) | U42: =ROUND((G42*I42)/26*(J42+N42*0.5+P42*0.5),0) | V42: =ROUND((F42+G42*I42)/26/8*S42,0) | W42: =ROUND((F42+G42*I42)/26*L42,0) | X42: =ROUND(R42*50000,0) | Y42: 500000 | Z42: 0 | AA42: 0 | AC42: 0 | AD42: 0 | AE42: 0 | AG42: =SUM(T42:AF42) | AH42: =IF(X42<=1200000,X42,1200000) | AL42: =AG42-(AH42+Y42+V42) | AM42: 1000000 | AP42: 861000 | AQ42: 15500000 | AR42: 2 | AT42: =AQ42+AR42*6200000 | AU42: =IF((AL42+AM42-AP42-AT42)<0,0,(AL42+AM42-AP42-AT42)) | AV42: =ROUND(IF(AU42<=10000000,AU42*5%,IF(AU42<=30000000,AU42*10%-500000,IF(AU42<=60000000,AU42*20%-3500000,IF(AU42<=100000000,AU42*30%-9500000,AU42*35%-14500000)))),0) | AZ42: =ROUND(F42*0.5%,0) | BB42: =ROUND(AG42-AP42-AV42-AZ42,0)
A43: 28 | C43: 10003668 | D43: Bùi Thị Hoa | E43: Chuyên viên Kinh tế Đấu thầu | F43: 6000000 | G43: 10000000 | I43: 1 | J43: =Cham_Cong_Hang_Ngay!AK36 | L43: =Cham_Cong_Hang_Ngay!AO36 | N43: 0 | P43: 0 | R43: =Cham_Cong_Hang_Ngay!AP36 | S43: =Cham_Cong_Hang_Ngay!AQ36 | T43: =ROUND(F43/26*(J43+N43+P43),0) | U43: =ROUND((G43*I43)/26*(J43+N43*0.5+P43*0.5),0) | V43: =ROUND((F43+G43*I43)/26/8*S43,0) | W43: =ROUND((F43+G43*I43)/26*L43,0) | X43: =ROUND(R43*50000,0) | Y43: 500000 | Z43: 0 | AA43: 0 | AC43: 0 | AD43: 0 | AE43: 0 | AG43: =SUM(T43:AF43) | AH43: =IF(X43<=1200000,X43,1200000) | AL43: =AG43-(AH43+Y43+V43) | AM43: 1000000 | AP43: 780150 | AQ43: 15500000 | AR43: 1 | AT43: =AQ43+AR43*6200000 | AU43: =IF((AL43+AM43-AP43-AT43)<0,0,(AL43+AM43-AP43-AT43)) | AV43: =ROUND(IF(AU43<=10000000,AU43*5%,IF(AU43<=30000000,AU43*10%-500000,IF(AU43<=60000000,AU43*20%-3500000,IF(AU43<=100000000,AU43*30%-9500000,AU43*35%-14500000)))),0) | AZ43: =ROUND(F43*0.5%,0) | BB43: =ROUND(AG43-AP43-AV43-AZ43,0)
...

Sheet Luong_Cong_Truong
A2: BẢNG THANH TOÁN TIỀN LƯƠNG THÁNG 08 NĂM 2026
A3: CÔNG TY CỔ PHẦN XÂY DỰNG HẠ TẦNG FECON - KHỐI CÔNG TRƯỜNG (CT)
A6: STT | C6: Mã NV | D6: Họ tên | E6: Chức vụ | F6: Mức lương cơ bản | G6: Mức thưởng hiệu suất | I6: Hệ số công | J6: Ngày công tháng | L6: Công CN | N6: Công WFH | P6: Chờ việc | R6: Công ăn ca | S6: Giờ làm thêm quy đổi | T6: Tiền Lương cơ bản | U6: Tiền thưởng hiệu suất | V6: Lương ngoài giờ | W6: Lương ngày chủ nhật | X6: Hỗ trợ ăn ca | Y6: Hỗ trợ điện thoại | Z6: Lương trách nhiệm | AA6: Lương kiêm nhiệm | AC6: Thù lao HĐQT/CTV | AD6: Hỗ trợ đi lại | AE6: Thưởng HQKD / Khác | AG6: TỔNG THU NHẬP | AH6: Ăn trưa miễn thuế | AL6: Tổng thu nhập chịu thuế | AM6: Thưởng 02.09 | AP6: BHXH 10.5% | AQ6: Giảm trừ bản thân | AR6: Số người PT | AT6: Giảm trừ gia cảnh | AU6: Thu nhập tính thuế | AV6: Thuế TNCN | AZ6: Đoàn phí CĐ | BB6: THỰC LĨNH
A7: 8 - PHÒNG QUẢN LÝ THIẾT BỊ
A8: 1 | C8: 10004055 | D8: Thạch Thương | E8: Bảo vệ | F8: 6000000 | G8: 10000000 | I8: 1 | J8: =Cham_Cong_Hang_Ngay!AK64 | L8: =Cham_Cong_Hang_Ngay!AO64 | N8: 0 | P8: 0 | R8: =Cham_Cong_Hang_Ngay!AP64 | S8: =Cham_Cong_Hang_Ngay!AQ64 | T8: =ROUND(F8/26*(J8+N8+P8),0) | U8: =ROUND((G8*I8)/26*(J8+N8*0.5+P8*0.5),0) | V8: =ROUND((F8+G8*I8)/26/8*S8,0) | W8: =ROUND((F8+G8*I8)/26*L8,0) | X8: =ROUND(R8*50000,0) | Y8: 300000 | Z8: 0 | AA8: 0 | AC8: 0 | AD8: 596154 | AE8: 0 | AG8: =SUM(T8:AF8) | AH8: =IF(X8<=1200000,X8,1200000) | AL8: =AG8-(AH8+Y8+V8) | AM8: 800000 | AP8: 601650 | AQ8: 15500000 | AR8: 1 | AT8: =AQ8+AR8*6200000 | AU8: =IF((AL8+AM8-AP8-AT8)<0,0,(AL8+AM8-AP8-AT8)) | AV8: =ROUND(IF(AU8<=10000000,AU8*5%,IF(AU8<=30000000,AU8*10%-500000,IF(AU8<=60000000,AU8*20%-3500000,IF(AU8<=100000000,AU8*30%-9500000,AU8*35%-14500000)))),0) | AZ8: =ROUND(F8*0.5%,0) | BB8: =ROUND(AG8-AP8-AV8-AZ8,0)
A9: 2 | C9: 10004115.FCIC | D9: Nguyễn Chí Công | E9: Chuyên viên Quản lý thiết bị | F9: 6000000 | G9: 10000000 | I9: 1 | J9: =Cham_Cong_Hang_Ngay!AK65 | L9: =Cham_Cong_Hang_Ngay!AO65 | N9: 0 | P9: 0 | R9: =Cham_Cong_Hang_Ngay!AP65 | S9: =Cham_Cong_Hang_Ngay!AQ65 | T9: =ROUND(F9/26*(J9+N9+P9),0) | U9: =ROUND((G9*I9)/26*(J9+N9*0.5+P9*0.5),0) | V9: =ROUND((F9+G9*I9)/26/8*S9,0) | W9: =ROUND((F9+G9*I9)/26*L9,0) | X9: =ROUND(R9*50000,0) | Y9: 500000 | Z9: 0 | AA9: 0 | AC9: 0 | AD9: 346154 | AE9: 0 | AG9: =SUM(T9:AF9) | AH9: =IF(X9<=1200000,X9,1200000) | AL9: =AG9-(AH9+Y9+V9) | AM9: 1000000 | AP9: 780150 | AQ9: 15500000 | AR9: 1 | AT9: =AQ9+AR9*6200000 | AU9: =IF((AL9+AM9-AP9-AT9)<0,0,(AL9+AM9-AP9-AT9)) | AV9: =ROUND(IF(AU9<=10000000,AU9*5%,IF(AU9<=30000000,AU9*10%-500000,IF(AU9<=60000000,AU9*20%-3500000,IF(AU9<=100000000,AU9*30%-9500000,AU9*35%-14500000)))),0) | AZ9: =ROUND(F9*0.5%,0) | BB9: =ROUND(AG9-AP9-AV9-AZ9,0)
A10: 3 | C10: 10004773.FCIC | D10: Trần Văn Hải | E10: CTV-thủ kho | F10: 0 | G10: 0 | I10: 1 | J10: =Cham_Cong_Hang_Ngay!AK66 | L10: =Cham_Cong_Hang_Ngay!AO66 | N10: 0 | P10: 0 | R10: =Cham_Cong_Hang_Ngay!AP66 | S10: =Cham_Cong_Hang_Ngay!AQ66 | T10: =ROUND(F10/26*(J10+N10+P10),0) | U10: =ROUND((G10*I10)/26*(J10+N10*0.5+P10*0.5),0) | V10: =ROUND((F10+G10*I10)/26/8*S10,0) | W10: =ROUND((F10+G10*I10)/26*L10,0) | X10: =ROUND(R10*50000,0) | Y10: 0 | Z10: 0 | AA10: 0 | AC10: 26666667 | AD10: 0 | AE10: 0 | AG10: =SUM(T10:AF10) | AH10: =IF(X10<=1200000,X10,1200000) | AL10: =AG10-(AH10+Y10+V10) | AM10: 0 | AP10: 0 | AQ10: 15500000 | AR10: 0 | AT10: =AQ10+AR10*6200000 | AU10: =IF((AL10+AM10-AP10-AT10)<0,0,(AL10+AM10-AP10-AT10)) | AV10: =ROUND(IF(AU10<=10000000,AU10*5%,IF(AU10<=30000000,AU10*10%-500000,IF(AU10<=60000000,AU10*20%-3500000,IF(AU10<=100000000,AU10*30%-9500000,AU10*35%-14500000)))),0) | AZ10: =ROUND(F10*0.5%,0) | BB10: =ROUND(AG10-AP10-AV10-AZ10,0)
A11: 4 | C11: 10005461 | D11: Cao Văn Long | E11: Thợ sửa chữa | F11: 6000000 | G11: 10000000 | I11: 1 | J11: =Cham_Cong_Hang_Ngay!AK67 | L11: =Cham_Cong_Hang_Ngay!AO67 | N11: 0 | P11: 0 | R11: =Cham_Cong_Hang_Ngay!AP67 | S11: =Cham_Cong_Hang_Ngay!AQ67 | T11: =ROUND(F11/26*(J11+N11+P11),0) | U11: =ROUND((G11*I11)/26*(J11+N11*0.5+P11*0.5),0) | V11: =ROUND((F11+G11*I11)/26/8*S11,0) | W11: =ROUND((F11+G11*I11)/26*L11,0) | X11: =ROUND(R11*50000,0) | Y11: 300000 | Z11: 0 | AA11: 0 | AC11: 0 | AD11: 596154 | AE11: 0 | AG11: =SUM(T11:AF11) | AH11: =IF(X11<=1200000,X11,1200000) | AL11: =AG11-(AH11+Y11+V11) | AM11: 800000 | AP11: 729750 | AQ11: 15500000 | AR11: 3 | AT11: =AQ11+AR11*6200000 | AU11: =IF((AL11+AM11-AP11-AT11)<0,0,(AL11+AM11-AP11-AT11)) | AV11: =ROUND(IF(AU11<=10000000,AU11*5%,IF(AU11<=30000000,AU11*10%-500000,IF(AU11<=60000000,AU11*20%-3500000,IF(AU11<=100000000,AU11*30%-9500000,AU11*35%-14500000)))),0) | AZ11: =ROUND(F11*0.5%,0) | BB11: =ROUND(AG11-AP11-AV11-AZ11,0)
A12: 5 | C12: 10005462 | D12: Tiết Minh Toàn | E12: Thợ sửa chữa | F12: 6000000 | G12: 10000000 | I12: 1 | J12: =Cham_Cong_Hang_Ngay!AK68 | L12: =Cham_Cong_Hang_Ngay!AO68 | N12: 0 | P12: 0 | R12: =Cham_Cong_Hang_Ngay!AP68 | S12: =Cham_Cong_Hang_Ngay!AQ68 | T12: =ROUND(F12/26*(J12+N12+P12),0) | U12: =ROUND((G12*I12)/26*(J12+N12*0.5+P12*0.5),0) | V12: =ROUND((F12+G12*I12)/26/8*S12,0) | W12: =ROUND((F12+G12*I12)/26*L12,0) | X12: =ROUND(R12*50000,0) | Y12: 300000 | Z12: 0 | AA12: 0 | AC12: 0 | AD12: 1192308 | AE12: 0 | AG12: =SUM(T12:AF12) | AH12: =IF(X12<=1200000,X12,1200000) | AL12: =AG12-(AH12+Y12+V12) | AM12: 800000 | AP12: 695100 | AQ12: 15500000 | AR12: 0 | AT12: =AQ12+AR12*6200000 | AU12: =IF((AL12+AM12-AP12-AT12)<0,0,(AL12+AM12-AP12-AT12)) | AV12: =ROUND(IF(AU12<=10000000,AU12*5%,IF(AU12<=30000000,AU12*10%-500000,IF(AU12<=60000000,AU12*20%-3500000,IF(AU12<=100000000,AU12*30%-9500000,AU12*35%-14500000)))),0) | AZ12: =ROUND(F12*0.5%,0) | BB12: =ROUND(AG12-AP12-AV12-AZ12,0)
